BEGIN:VCALENDAR
VERSION:2.0
PRODID:-//St. John&#039;s Lutheran Church - Cordova - ECPv6.15.20//NONSGML v1.0//EN
CALSCALE:GREGORIAN
METHOD:PUBLISH
X-WR-CALNAME:St. John&#039;s Lutheran Church - Cordova
X-ORIGINAL-URL:https://stjohnscordova.com
X-WR-CALDESC:Events for St. John&#039;s Lutheran Church - Cordova
REFRESH-INTERVAL;VALUE=DURATION:PT1H
X-Robots-Tag:noindex
X-PUBLISHED-TTL:PT1H
BEGIN:VTIMEZONE
TZID:America/Chicago
BEGIN:DAYLIGHT
TZOFFSETFROM:-0600
TZOFFSETTO:-0500
TZNAME:CDT
DTSTART:20240310T080000
END:DAYLIGHT
BEGIN:STANDARD
TZOFFSETFROM:-0500
TZOFFSETTO:-0600
TZNAME:CST
DTSTART:20241103T070000
END:STANDARD
BEGIN:DAYLIGHT
TZOFFSETFROM:-0600
TZOFFSETTO:-0500
TZNAME:CDT
DTSTART:20250309T080000
END:DAYLIGHT
BEGIN:STANDARD
TZOFFSETFROM:-0500
TZOFFSETTO:-0600
TZNAME:CST
DTSTART:20251102T070000
END:STANDARD
BEGIN:DAYLIGHT
TZOFFSETFROM:-0600
TZOFFSETTO:-0500
TZNAME:CDT
DTSTART:20260308T080000
END:DAYLIGHT
BEGIN:STANDARD
TZOFFSETFROM:-0500
TZOFFSETTO:-0600
TZNAME:CST
DTSTART:20261101T070000
END:STANDARD
END:VTIMEZONE
BEGIN:VEVENT
DTSTART;TZID=America/Chicago:20250108T160000
DTEND;TZID=America/Chicago:20250108T180000
DTSTAMP:20260424T070559
CREATED:20250101T044038Z
LAST-MODIFIED:20250101T044038Z
UID:2773-1736352000-1736359200@stjohnscordova.com
SUMMARY:Confirmation
DESCRIPTION:
URL:https://stjohnscordova.com/churchevent/confirmation-85/
END:VEVENT
BEGIN:VEVENT
DTSTART;TZID=America/Chicago:20250108T180000
DTEND;TZID=America/Chicago:20250108T190000
DTSTAMP:20260424T070559
CREATED:20250101T043837Z
LAST-MODIFIED:20250106T212635Z
UID:2768-1736359200-1736362800@stjohnscordova.com
SUMMARY:Lydia LWML
DESCRIPTION:
URL:https://stjohnscordova.com/churchevent/lydia-lwml-28/
END:VEVENT
END:VCALENDAR