BEGIN:VCALENDAR
VERSION:2.0
PRODID:-//St. John&#039;s Lutheran Church - Cordova - ECPv6.15.20//NONSGML v1.0//EN
CALSCALE:GREGORIAN
METHOD:PUBLISH
X-WR-CALNAME:St. John&#039;s Lutheran Church - Cordova
X-ORIGINAL-URL:https://stjohnscordova.com
X-WR-CALDESC:Events for St. John&#039;s Lutheran Church - Cordova
REFRESH-INTERVAL;VALUE=DURATION:PT1H
X-Robots-Tag:noindex
X-PUBLISHED-TTL:PT1H
BEGIN:VTIMEZONE
TZID:America/Chicago
BEGIN:DAYLIGHT
TZOFFSETFROM:-0600
TZOFFSETTO:-0500
TZNAME:CDT
DTSTART:20240310T080000
END:DAYLIGHT
BEGIN:STANDARD
TZOFFSETFROM:-0500
TZOFFSETTO:-0600
TZNAME:CST
DTSTART:20241103T070000
END:STANDARD
BEGIN:DAYLIGHT
TZOFFSETFROM:-0600
TZOFFSETTO:-0500
TZNAME:CDT
DTSTART:20250309T080000
END:DAYLIGHT
BEGIN:STANDARD
TZOFFSETFROM:-0500
TZOFFSETTO:-0600
TZNAME:CST
DTSTART:20251102T070000
END:STANDARD
BEGIN:DAYLIGHT
TZOFFSETFROM:-0600
TZOFFSETTO:-0500
TZNAME:CDT
DTSTART:20260308T080000
END:DAYLIGHT
BEGIN:STANDARD
TZOFFSETFROM:-0500
TZOFFSETTO:-0600
TZNAME:CST
DTSTART:20261101T070000
END:STANDARD
END:VTIMEZONE
BEGIN:VEVENT
DTSTART;TZID=America/Chicago:20250406T085000
DTEND;TZID=America/Chicago:20250406T090000
DTSTAMP:20260424T024908
CREATED:20250402T031144Z
LAST-MODIFIED:20250402T031144Z
UID:2891-1743929400-1743930000@stjohnscordova.com
SUMMARY:Hymn Sing
DESCRIPTION:
URL:https://stjohnscordova.com/churchevent/hymn-sing-33/
END:VEVENT
BEGIN:VEVENT
DTSTART;TZID=America/Chicago:20250406T090000
DTEND;TZID=America/Chicago:20250406T100000
DTSTAMP:20260424T024908
CREATED:20250402T031145Z
LAST-MODIFIED:20250402T031145Z
UID:2892-1743930000-1743933600@stjohnscordova.com
SUMMARY:Church
DESCRIPTION:
URL:https://stjohnscordova.com/churchevent/church-129/
END:VEVENT
BEGIN:VEVENT
DTSTART;TZID=America/Chicago:20250406T103000
DTEND;TZID=America/Chicago:20250406T113000
DTSTAMP:20260424T024908
CREATED:20250402T031151Z
LAST-MODIFIED:20250402T031151Z
UID:2897-1743935400-1743939000@stjohnscordova.com
SUMMARY:Sunday School & Adult Bible Class
DESCRIPTION:
URL:https://stjohnscordova.com/churchevent/sunday-school-adult-bible-class-126/
END:VEVENT
BEGIN:VEVENT
DTSTART;TZID=America/Chicago:20250406T113000
DTEND;TZID=America/Chicago:20250406T123000
DTSTAMP:20260424T024908
CREATED:20250402T031517Z
LAST-MODIFIED:20250402T031517Z
UID:2927-1743939000-1743942600@stjohnscordova.com
SUMMARY:Youth rakes leaves & yard cleanup
DESCRIPTION:
URL:https://stjohnscordova.com/churchevent/youth-rakes-leaves-yard-cleanup/
END:VEVENT
END:VCALENDAR