BEGIN:VCALENDAR
VERSION:2.0
PRODID:-//St. John&#039;s Lutheran Church - Cordova - ECPv6.15.20//NONSGML v1.0//EN
CALSCALE:GREGORIAN
METHOD:PUBLISH
X-WR-CALNAME:St. John&#039;s Lutheran Church - Cordova
X-ORIGINAL-URL:https://stjohnscordova.com
X-WR-CALDESC:Events for St. John&#039;s Lutheran Church - Cordova
REFRESH-INTERVAL;VALUE=DURATION:PT1H
X-Robots-Tag:noindex
X-PUBLISHED-TTL:PT1H
BEGIN:VTIMEZONE
TZID:America/Chicago
BEGIN:DAYLIGHT
TZOFFSETFROM:-0600
TZOFFSETTO:-0500
TZNAME:CDT
DTSTART:20240310T080000
END:DAYLIGHT
BEGIN:STANDARD
TZOFFSETFROM:-0500
TZOFFSETTO:-0600
TZNAME:CST
DTSTART:20241103T070000
END:STANDARD
BEGIN:DAYLIGHT
TZOFFSETFROM:-0600
TZOFFSETTO:-0500
TZNAME:CDT
DTSTART:20250309T080000
END:DAYLIGHT
BEGIN:STANDARD
TZOFFSETFROM:-0500
TZOFFSETTO:-0600
TZNAME:CST
DTSTART:20251102T070000
END:STANDARD
BEGIN:DAYLIGHT
TZOFFSETFROM:-0600
TZOFFSETTO:-0500
TZNAME:CDT
DTSTART:20260308T080000
END:DAYLIGHT
BEGIN:STANDARD
TZOFFSETFROM:-0500
TZOFFSETTO:-0600
TZNAME:CST
DTSTART:20261101T070000
END:STANDARD
END:VTIMEZONE
BEGIN:VEVENT
DTSTART;TZID=America/Chicago:20250727T090000
DTEND;TZID=America/Chicago:20250727T100000
DTSTAMP:20260423T210706
CREATED:20250704T014159Z
LAST-MODIFIED:20250704T014159Z
UID:3031-1753606800-1753610400@stjohnscordova.com
SUMMARY:Church
DESCRIPTION:
URL:https://stjohnscordova.com/churchevent/church-144/
END:VEVENT
BEGIN:VEVENT
DTSTART;TZID=America/Chicago:20250727T103000
DTEND;TZID=America/Chicago:20250727T113000
DTSTAMP:20260423T210706
CREATED:20250704T014203Z
LAST-MODIFIED:20250704T014203Z
UID:3035-1753612200-1753615800@stjohnscordova.com
SUMMARY:Sunday School & Adult Bible Class
DESCRIPTION:
URL:https://stjohnscordova.com/churchevent/sunday-school-adult-bible-class-139/
END:VEVENT
BEGIN:VEVENT
DTSTART;TZID=America/Chicago:20250727T143000
DTEND;TZID=America/Chicago:20250727T163000
DTSTAMP:20260423T210706
CREATED:20250704T014314Z
LAST-MODIFIED:20250704T014314Z
UID:3041-1753626600-1753633800@stjohnscordova.com
SUMMARY:Devotions at Fairmont
DESCRIPTION:
URL:https://stjohnscordova.com/churchevent/devotions-at-fairmont-32/
END:VEVENT
END:VCALENDAR