BEGIN:VCALENDAR
VERSION:2.0
PRODID:-//St. John&#039;s Lutheran Church - Cordova - ECPv6.15.20//NONSGML v1.0//EN
CALSCALE:GREGORIAN
METHOD:PUBLISH
X-ORIGINAL-URL:https://stjohnscordova.com
X-WR-CALDESC:Events for St. John&#039;s Lutheran Church - Cordova
REFRESH-INTERVAL;VALUE=DURATION:PT1H
X-Robots-Tag:noindex
X-PUBLISHED-TTL:PT1H
BEGIN:VTIMEZONE
TZID:America/Chicago
BEGIN:DAYLIGHT
TZOFFSETFROM:-0600
TZOFFSETTO:-0500
TZNAME:CDT
DTSTART:20240310T080000
END:DAYLIGHT
BEGIN:STANDARD
TZOFFSETFROM:-0500
TZOFFSETTO:-0600
TZNAME:CST
DTSTART:20241103T070000
END:STANDARD
BEGIN:DAYLIGHT
TZOFFSETFROM:-0600
TZOFFSETTO:-0500
TZNAME:CDT
DTSTART:20250309T080000
END:DAYLIGHT
BEGIN:STANDARD
TZOFFSETFROM:-0500
TZOFFSETTO:-0600
TZNAME:CST
DTSTART:20251102T070000
END:STANDARD
BEGIN:DAYLIGHT
TZOFFSETFROM:-0600
TZOFFSETTO:-0500
TZNAME:CDT
DTSTART:20260308T080000
END:DAYLIGHT
BEGIN:STANDARD
TZOFFSETFROM:-0500
TZOFFSETTO:-0600
TZNAME:CST
DTSTART:20261101T070000
END:STANDARD
END:VTIMEZONE
BEGIN:VEVENT
DTSTART;TZID=America/Chicago:20251101T073000
DTEND;TZID=America/Chicago:20251101T083000
DTSTAMP:20260423T171747
CREATED:20251101T121757Z
LAST-MODIFIED:20251101T121757Z
UID:3354-1761982200-1761985800@stjohnscordova.com
SUMMARY:Men's Group Bible Study
DESCRIPTION:
URL:https://stjohnscordova.com/churchevent/mens-group-bible-study-15/
END:VEVENT
BEGIN:VEVENT
DTSTART;TZID=America/Chicago:20251101T090000
DTEND;TZID=America/Chicago:20251101T120000
DTSTAMP:20260423T171747
CREATED:20251020T155511Z
LAST-MODIFIED:20251020T155511Z
UID:3276-1761987600-1761998400@stjohnscordova.com
SUMMARY:Highway Roadside Cleanup
DESCRIPTION:The Fall Roadside Cleanup event will be Saturday\, November 1st\, beginning at 9:00 a.m. at St. John’s. We will meet in the Church Fellowship area for a quick briefing and a few breakfast treats\, orange juice\, and coffee before creating small groups to spread out along the highway from Cordova\, moving south to the railroad tracks. \nVolunteers should dress for the weather and wear sturdy\, closedtoe shoes and gloves. \nThis is sponsored by the Men’s Bible Study Group. You are invited to join them in making our earthly home a bit tidier for everyone. This is a great opportunity to enjoy fellowship while serving our community.
URL:https://stjohnscordova.com/churchevent/highway-roadside-cleanup/
END:VEVENT
END:VCALENDAR