BEGIN:VCALENDAR
VERSION:2.0
PRODID:-//St. John&#039;s Lutheran Church - Cordova - ECPv6.15.20//NONSGML v1.0//EN
CALSCALE:GREGORIAN
METHOD:PUBLISH
X-WR-CALNAME:St. John&#039;s Lutheran Church - Cordova
X-ORIGINAL-URL:https://stjohnscordova.com
X-WR-CALDESC:Events for St. John&#039;s Lutheran Church - Cordova
REFRESH-INTERVAL;VALUE=DURATION:PT1H
X-Robots-Tag:noindex
X-PUBLISHED-TTL:PT1H
BEGIN:VTIMEZONE
TZID:America/Chicago
BEGIN:DAYLIGHT
TZOFFSETFROM:-0600
TZOFFSETTO:-0500
TZNAME:CDT
DTSTART:20250309T080000
END:DAYLIGHT
BEGIN:STANDARD
TZOFFSETFROM:-0500
TZOFFSETTO:-0600
TZNAME:CST
DTSTART:20251102T070000
END:STANDARD
BEGIN:DAYLIGHT
TZOFFSETFROM:-0600
TZOFFSETTO:-0500
TZNAME:CDT
DTSTART:20260308T080000
END:DAYLIGHT
BEGIN:STANDARD
TZOFFSETFROM:-0500
TZOFFSETTO:-0600
TZNAME:CST
DTSTART:20261101T070000
END:STANDARD
BEGIN:DAYLIGHT
TZOFFSETFROM:-0600
TZOFFSETTO:-0500
TZNAME:CDT
DTSTART:20270314T080000
END:DAYLIGHT
BEGIN:STANDARD
TZOFFSETFROM:-0500
TZOFFSETTO:-0600
TZNAME:CST
DTSTART:20271107T070000
END:STANDARD
END:VTIMEZONE
BEGIN:VEVENT
DTSTART;TZID=America/Chicago:20260222T090000
DTEND;TZID=America/Chicago:20260222T100000
DTSTAMP:20260423T123927
CREATED:20260201T035934Z
LAST-MODIFIED:20260201T035934Z
UID:3655-1771750800-1771754400@stjohnscordova.com
SUMMARY:Church
DESCRIPTION:
URL:https://stjohnscordova.com/churchevent/church-172/
END:VEVENT
BEGIN:VEVENT
DTSTART;TZID=America/Chicago:20260222T103000
DTEND;TZID=America/Chicago:20260222T113000
DTSTAMP:20260423T123927
CREATED:20260201T035938Z
LAST-MODIFIED:20260201T035938Z
UID:3659-1771756200-1771759800@stjohnscordova.com
SUMMARY:Sunday School & Adult Bible Class
DESCRIPTION:
URL:https://stjohnscordova.com/churchevent/sunday-school-adult-bible-class-167/
END:VEVENT
BEGIN:VEVENT
DTSTART;TZID=America/Chicago:20260222T183000
DTEND;TZID=America/Chicago:20260222T200000
DTSTAMP:20260423T123927
CREATED:20260201T040010Z
LAST-MODIFIED:20260201T040010Z
UID:3669-1771785000-1771790400@stjohnscordova.com
SUMMARY:High School Night
DESCRIPTION:
URL:https://stjohnscordova.com/churchevent/high-school-night-9/
END:VEVENT
END:VCALENDAR