BEGIN:VCALENDAR
VERSION:2.0
PRODID:-//St. John&#039;s Lutheran Church - Cordova - ECPv6.15.20//NONSGML v1.0//EN
CALSCALE:GREGORIAN
METHOD:PUBLISH
X-ORIGINAL-URL:https://stjohnscordova.com
X-WR-CALDESC:Events for St. John&#039;s Lutheran Church - Cordova
REFRESH-INTERVAL;VALUE=DURATION:PT1H
X-Robots-Tag:noindex
X-PUBLISHED-TTL:PT1H
BEGIN:VTIMEZONE
TZID:America/Chicago
BEGIN:DAYLIGHT
TZOFFSETFROM:-0600
TZOFFSETTO:-0500
TZNAME:CDT
DTSTART:20250309T080000
END:DAYLIGHT
BEGIN:STANDARD
TZOFFSETFROM:-0500
TZOFFSETTO:-0600
TZNAME:CST
DTSTART:20251102T070000
END:STANDARD
BEGIN:DAYLIGHT
TZOFFSETFROM:-0600
TZOFFSETTO:-0500
TZNAME:CDT
DTSTART:20260308T080000
END:DAYLIGHT
BEGIN:STANDARD
TZOFFSETFROM:-0500
TZOFFSETTO:-0600
TZNAME:CST
DTSTART:20261101T070000
END:STANDARD
BEGIN:DAYLIGHT
TZOFFSETFROM:-0600
TZOFFSETTO:-0500
TZNAME:CDT
DTSTART:20270314T080000
END:DAYLIGHT
BEGIN:STANDARD
TZOFFSETFROM:-0500
TZOFFSETTO:-0600
TZNAME:CST
DTSTART:20271107T070000
END:STANDARD
END:VTIMEZONE
BEGIN:VEVENT
DTSTART;TZID=America/Chicago:20260304T140000
DTEND;TZID=America/Chicago:20260304T150000
DTSTAMP:20260423T111302
CREATED:20260304T201810Z
LAST-MODIFIED:20260304T201810Z
UID:3756-1772632800-1772636400@stjohnscordova.com
SUMMARY:Dorcas LWML
DESCRIPTION:
URL:https://stjohnscordova.com/churchevent/dorcas-lwml-39/
END:VEVENT
BEGIN:VEVENT
DTSTART;TZID=America/Chicago:20260304T160000
DTEND;TZID=America/Chicago:20260304T180000
DTSTAMP:20260423T111302
CREATED:20260304T202008Z
LAST-MODIFIED:20260304T202008Z
UID:3758-1772640000-1772647200@stjohnscordova.com
SUMMARY:Confirmation
DESCRIPTION:
URL:https://stjohnscordova.com/churchevent/confirmation-125/
END:VEVENT
BEGIN:VEVENT
DTSTART;TZID=America/Chicago:20260304T180000
DTEND;TZID=America/Chicago:20260304T190000
DTSTAMP:20260423T111302
CREATED:20260304T202023Z
LAST-MODIFIED:20260304T202023Z
UID:3764-1772647200-1772650800@stjohnscordova.com
SUMMARY:Lenten Meal
DESCRIPTION:
URL:https://stjohnscordova.com/churchevent/lenten-meal-2/
END:VEVENT
BEGIN:VEVENT
DTSTART;TZID=America/Chicago:20260304T190000
DTEND;TZID=America/Chicago:20260304T200000
DTSTAMP:20260423T111302
CREATED:20260304T202225Z
LAST-MODIFIED:20260304T202225Z
UID:3768-1772650800-1772654400@stjohnscordova.com
SUMMARY:Lenten Service
DESCRIPTION:
URL:https://stjohnscordova.com/churchevent/lenten-service-16/
END:VEVENT
END:VCALENDAR