BEGIN:VCALENDAR
VERSION:2.0
PRODID:-//St. John&#039;s Lutheran Church - Cordova - ECPv6.15.20//NONSGML v1.0//EN
CALSCALE:GREGORIAN
METHOD:PUBLISH
X-ORIGINAL-URL:https://stjohnscordova.com
X-WR-CALDESC:Events for St. John&#039;s Lutheran Church - Cordova
REFRESH-INTERVAL;VALUE=DURATION:PT1H
X-Robots-Tag:noindex
X-PUBLISHED-TTL:PT1H
BEGIN:VTIMEZONE
TZID:America/Chicago
BEGIN:DAYLIGHT
TZOFFSETFROM:-0600
TZOFFSETTO:-0500
TZNAME:CDT
DTSTART:20250309T080000
END:DAYLIGHT
BEGIN:STANDARD
TZOFFSETFROM:-0500
TZOFFSETTO:-0600
TZNAME:CST
DTSTART:20251102T070000
END:STANDARD
BEGIN:DAYLIGHT
TZOFFSETFROM:-0600
TZOFFSETTO:-0500
TZNAME:CDT
DTSTART:20260308T080000
END:DAYLIGHT
BEGIN:STANDARD
TZOFFSETFROM:-0500
TZOFFSETTO:-0600
TZNAME:CST
DTSTART:20261101T070000
END:STANDARD
BEGIN:DAYLIGHT
TZOFFSETFROM:-0600
TZOFFSETTO:-0500
TZNAME:CDT
DTSTART:20270314T080000
END:DAYLIGHT
BEGIN:STANDARD
TZOFFSETFROM:-0500
TZOFFSETTO:-0600
TZNAME:CST
DTSTART:20271107T070000
END:STANDARD
END:VTIMEZONE
BEGIN:VEVENT
DTSTART;TZID=America/Chicago:20260318T160000
DTEND;TZID=America/Chicago:20260318T180000
DTSTAMP:20260423T111301
CREATED:20260304T202008Z
LAST-MODIFIED:20260304T202008Z
UID:3760-1773849600-1773856800@stjohnscordova.com
SUMMARY:Confirmation
DESCRIPTION:
URL:https://stjohnscordova.com/churchevent/confirmation-127/
END:VEVENT
BEGIN:VEVENT
DTSTART;TZID=America/Chicago:20260318T180000
DTEND;TZID=America/Chicago:20260318T190000
DTSTAMP:20260423T111301
CREATED:20260304T202024Z
LAST-MODIFIED:20260304T202024Z
UID:3766-1773856800-1773860400@stjohnscordova.com
SUMMARY:Lenten Meal
DESCRIPTION:
URL:https://stjohnscordova.com/churchevent/lenten-meal-4/
END:VEVENT
BEGIN:VEVENT
DTSTART;TZID=America/Chicago:20260318T190000
DTEND;TZID=America/Chicago:20260318T200000
DTSTAMP:20260423T111301
CREATED:20260304T202225Z
LAST-MODIFIED:20260304T202225Z
UID:3770-1773860400-1773864000@stjohnscordova.com
SUMMARY:Lenten Service
DESCRIPTION:
URL:https://stjohnscordova.com/churchevent/lenten-service-18/
END:VEVENT
END:VCALENDAR