BEGIN:VCALENDAR
VERSION:2.0
PRODID:-//St. John&#039;s Lutheran Church - Cordova - ECPv6.15.20//NONSGML v1.0//EN
CALSCALE:GREGORIAN
METHOD:PUBLISH
X-WR-CALNAME:St. John&#039;s Lutheran Church - Cordova
X-ORIGINAL-URL:https://stjohnscordova.com
X-WR-CALDESC:Events for St. John&#039;s Lutheran Church - Cordova
REFRESH-INTERVAL;VALUE=DURATION:PT1H
X-Robots-Tag:noindex
X-PUBLISHED-TTL:PT1H
BEGIN:VTIMEZONE
TZID:America/Chicago
BEGIN:DAYLIGHT
TZOFFSETFROM:-0600
TZOFFSETTO:-0500
TZNAME:CDT
DTSTART:20250309T080000
END:DAYLIGHT
BEGIN:STANDARD
TZOFFSETFROM:-0500
TZOFFSETTO:-0600
TZNAME:CST
DTSTART:20251102T070000
END:STANDARD
BEGIN:DAYLIGHT
TZOFFSETFROM:-0600
TZOFFSETTO:-0500
TZNAME:CDT
DTSTART:20260308T080000
END:DAYLIGHT
BEGIN:STANDARD
TZOFFSETFROM:-0500
TZOFFSETTO:-0600
TZNAME:CST
DTSTART:20261101T070000
END:STANDARD
BEGIN:DAYLIGHT
TZOFFSETFROM:-0600
TZOFFSETTO:-0500
TZNAME:CDT
DTSTART:20270314T080000
END:DAYLIGHT
BEGIN:STANDARD
TZOFFSETFROM:-0500
TZOFFSETTO:-0600
TZNAME:CST
DTSTART:20271107T070000
END:STANDARD
END:VTIMEZONE
BEGIN:VEVENT
DTSTART;TZID=America/Chicago:20260405T073000
DTEND;TZID=America/Chicago:20260405T084500
DTSTAMP:20260423T092839
CREATED:20260401T080200Z
LAST-MODIFIED:20260401T080200Z
UID:3818-1775374200-1775378700@stjohnscordova.com
SUMMARY:Easter Breakfast
DESCRIPTION:
URL:https://stjohnscordova.com/churchevent/easter-breakfast-3/
END:VEVENT
BEGIN:VEVENT
DTSTART;TZID=America/Chicago:20260405T085000
DTEND;TZID=America/Chicago:20260405T090000
DTSTAMP:20260423T092839
CREATED:20260401T075737Z
LAST-MODIFIED:20260401T075737Z
UID:3797-1775379000-1775379600@stjohnscordova.com
SUMMARY:Hymn Sing
DESCRIPTION:
URL:https://stjohnscordova.com/churchevent/hymn-sing-45/
END:VEVENT
BEGIN:VEVENT
DTSTART;TZID=America/Chicago:20260405T090000
DTEND;TZID=America/Chicago:20260405T100000
DTSTAMP:20260423T092839
CREATED:20260401T075739Z
LAST-MODIFIED:20260401T075739Z
UID:3798-1775379600-1775383200@stjohnscordova.com
SUMMARY:Easter
DESCRIPTION:
URL:https://stjohnscordova.com/churchevent/easter/
END:VEVENT
END:VCALENDAR