BEGIN:VCALENDAR
VERSION:2.0
PRODID:-//St. John&#039;s Lutheran Church - Cordova - ECPv6.15.20//NONSGML v1.0//EN
CALSCALE:GREGORIAN
METHOD:PUBLISH
X-WR-CALNAME:St. John&#039;s Lutheran Church - Cordova
X-ORIGINAL-URL:https://stjohnscordova.com
X-WR-CALDESC:Events for St. John&#039;s Lutheran Church - Cordova
REFRESH-INTERVAL;VALUE=DURATION:PT1H
X-Robots-Tag:noindex
X-PUBLISHED-TTL:PT1H
BEGIN:VTIMEZONE
TZID:America/Chicago
BEGIN:DAYLIGHT
TZOFFSETFROM:-0600
TZOFFSETTO:-0500
TZNAME:CDT
DTSTART:20240310T080000
END:DAYLIGHT
BEGIN:STANDARD
TZOFFSETFROM:-0500
TZOFFSETTO:-0600
TZNAME:CST
DTSTART:20241103T070000
END:STANDARD
BEGIN:DAYLIGHT
TZOFFSETFROM:-0600
TZOFFSETTO:-0500
TZNAME:CDT
DTSTART:20250309T080000
END:DAYLIGHT
BEGIN:STANDARD
TZOFFSETFROM:-0500
TZOFFSETTO:-0600
TZNAME:CST
DTSTART:20251102T070000
END:STANDARD
BEGIN:DAYLIGHT
TZOFFSETFROM:-0600
TZOFFSETTO:-0500
TZNAME:CDT
DTSTART:20260308T080000
END:DAYLIGHT
BEGIN:STANDARD
TZOFFSETFROM:-0500
TZOFFSETTO:-0600
TZNAME:CST
DTSTART:20261101T070000
END:STANDARD
END:VTIMEZONE
BEGIN:VEVENT
DTSTART;TZID=America/Chicago:20250402T190000
DTEND;TZID=America/Chicago:20250402T200000
DTSTAMP:20260424T054115
CREATED:20250402T031433Z
LAST-MODIFIED:20250402T031433Z
UID:2915-1743620400-1743624000@stjohnscordova.com
SUMMARY:Lenten Service
DESCRIPTION:
URL:https://stjohnscordova.com/churchevent/lenten-service-13/
END:VEVENT
BEGIN:VEVENT
DTSTART;TZID=America/Chicago:20250402T180000
DTEND;TZID=America/Chicago:20250402T190000
DTSTAMP:20260424T054115
CREATED:20250402T031432Z
LAST-MODIFIED:20250402T031705Z
UID:2913-1743616800-1743620400@stjohnscordova.com
SUMMARY:Lenten Supper
DESCRIPTION:
URL:https://stjohnscordova.com/churchevent/lenten-supper-7/
END:VEVENT
BEGIN:VEVENT
DTSTART;TZID=America/Chicago:20250402T160000
DTEND;TZID=America/Chicago:20250402T180000
DTSTAMP:20260424T054115
CREATED:20250402T031406Z
LAST-MODIFIED:20250402T031406Z
UID:2906-1743609600-1743616800@stjohnscordova.com
SUMMARY:Confirmation
DESCRIPTION:
URL:https://stjohnscordova.com/churchevent/confirmation-97/
END:VEVENT
BEGIN:VEVENT
DTSTART;TZID=America/Chicago:20250402T140000
DTEND;TZID=America/Chicago:20250402T150000
DTSTAMP:20260424T054115
CREATED:20250402T031207Z
LAST-MODIFIED:20250402T031207Z
UID:2902-1743602400-1743606000@stjohnscordova.com
SUMMARY:Dorcas LWML
DESCRIPTION:
URL:https://stjohnscordova.com/churchevent/dorcas-lwml-29/
END:VEVENT
BEGIN:VEVENT
DTSTART;TZID=America/Chicago:20250401T190000
DTEND;TZID=America/Chicago:20250401T200000
DTSTAMP:20260424T054115
CREATED:20250402T031207Z
LAST-MODIFIED:20250402T031207Z
UID:2903-1743534000-1743537600@stjohnscordova.com
SUMMARY:Elders Meeting
DESCRIPTION:
URL:https://stjohnscordova.com/churchevent/elders-meeting-31/
END:VEVENT
BEGIN:VEVENT
DTSTART;TZID=America/Chicago:20250401T130000
DTEND;TZID=America/Chicago:20250401T173000
DTSTAMP:20260424T054115
CREATED:20250402T031447Z
LAST-MODIFIED:20250402T031447Z
UID:2919-1743512400-1743528600@stjohnscordova.com
SUMMARY:Pastor's walk-in hours
DESCRIPTION:
URL:https://stjohnscordova.com/churchevent/pastors-walk-in-hours-5/
END:VEVENT
BEGIN:VEVENT
DTSTART;TZID=America/Chicago:20250330T103000
DTEND;TZID=America/Chicago:20250330T113000
DTSTAMP:20260424T054115
CREATED:20250301T234715Z
LAST-MODIFIED:20250301T234715Z
UID:2839-1743330600-1743334200@stjohnscordova.com
SUMMARY:Sunday School & Adult Bible Class
DESCRIPTION:
URL:https://stjohnscordova.com/churchevent/sunday-school-adult-bible-class-125/
END:VEVENT
BEGIN:VEVENT
DTSTART;TZID=America/Chicago:20250330T090000
DTEND;TZID=America/Chicago:20250330T100000
DTSTAMP:20260424T054115
CREATED:20250301T234700Z
LAST-MODIFIED:20250301T234700Z
UID:2834-1743325200-1743328800@stjohnscordova.com
SUMMARY:Church
DESCRIPTION:
URL:https://stjohnscordova.com/churchevent/church-128/
END:VEVENT
BEGIN:VEVENT
DTSTART;TZID=America/Chicago:20250326T190000
DTEND;TZID=America/Chicago:20250326T200000
DTSTAMP:20260424T054115
CREATED:20250301T234801Z
LAST-MODIFIED:20250301T235607Z
UID:2855-1743015600-1743019200@stjohnscordova.com
SUMMARY:Lenten Service
DESCRIPTION:
URL:https://stjohnscordova.com/churchevent/lenten-service-10/
END:VEVENT
BEGIN:VEVENT
DTSTART;TZID=America/Chicago:20250326T180000
DTEND;TZID=America/Chicago:20250326T190000
DTSTAMP:20260424T054115
CREATED:20250301T235729Z
LAST-MODIFIED:20250301T235729Z
UID:2869-1743012000-1743015600@stjohnscordova.com
SUMMARY:Lenten Supper
DESCRIPTION:
URL:https://stjohnscordova.com/churchevent/lenten-supper-6/
END:VEVENT
BEGIN:VEVENT
DTSTART;TZID=America/Chicago:20250326T160000
DTEND;TZID=America/Chicago:20250326T180000
DTSTAMP:20260424T054115
CREATED:20250301T234745Z
LAST-MODIFIED:20250301T234745Z
UID:2849-1743004800-1743012000@stjohnscordova.com
SUMMARY:Confirmation
DESCRIPTION:
URL:https://stjohnscordova.com/churchevent/confirmation-96/
END:VEVENT
BEGIN:VEVENT
DTSTART;TZID=America/Chicago:20250325T150000
DTEND;TZID=America/Chicago:20250325T173000
DTSTAMP:20260424T054115
CREATED:20250301T234830Z
LAST-MODIFIED:20250301T234830Z
UID:2864-1742914800-1742923800@stjohnscordova.com
SUMMARY:LWML Sprint Rally at St. John's
DESCRIPTION:
URL:https://stjohnscordova.com/churchevent/lwml-sprint-rally-at-st-johns/
END:VEVENT
BEGIN:VEVENT
DTSTART;TZID=America/Chicago:20250325T130000
DTEND;TZID=America/Chicago:20250325T173000
DTSTAMP:20260424T054115
CREATED:20250301T234830Z
LAST-MODIFIED:20250301T235933Z
UID:2863-1742907600-1742923800@stjohnscordova.com
SUMMARY:Pastor's walk-in hours
DESCRIPTION:
URL:https://stjohnscordova.com/churchevent/pastors-walk-in-hours-4/
END:VEVENT
BEGIN:VEVENT
DTSTART;TZID=America/Chicago:20250323T183000
DTEND;TZID=America/Chicago:20250323T203000
DTSTAMP:20260424T054115
CREATED:20250301T234745Z
LAST-MODIFIED:20250302T000102Z
UID:2850-1742754600-1742761800@stjohnscordova.com
SUMMARY:High School Night
DESCRIPTION:
URL:https://stjohnscordova.com/churchevent/high-school-night-5/
END:VEVENT
BEGIN:VEVENT
DTSTART;TZID=America/Chicago:20250323T143000
DTEND;TZID=America/Chicago:20250323T163000
DTSTAMP:20260424T054115
CREATED:20250301T234730Z
LAST-MODIFIED:20250301T234730Z
UID:2845-1742740200-1742747400@stjohnscordova.com
SUMMARY:Devotions at Fairmont
DESCRIPTION:
URL:https://stjohnscordova.com/churchevent/devotions-at-fairmont-28/
END:VEVENT
BEGIN:VEVENT
DTSTART;TZID=America/Chicago:20250323T103000
DTEND;TZID=America/Chicago:20250323T113000
DTSTAMP:20260424T054115
CREATED:20250301T234714Z
LAST-MODIFIED:20250301T234714Z
UID:2838-1742725800-1742729400@stjohnscordova.com
SUMMARY:Sunday School & Adult Bible Class
DESCRIPTION:
URL:https://stjohnscordova.com/churchevent/sunday-school-adult-bible-class-124/
END:VEVENT
BEGIN:VEVENT
DTSTART;TZID=America/Chicago:20250323T090000
DTEND;TZID=America/Chicago:20250323T100000
DTSTAMP:20260424T054115
CREATED:20250301T234659Z
LAST-MODIFIED:20250301T234659Z
UID:2833-1742720400-1742724000@stjohnscordova.com
SUMMARY:Church
DESCRIPTION:
URL:https://stjohnscordova.com/churchevent/church-127/
END:VEVENT
BEGIN:VEVENT
DTSTART;TZID=America/Chicago:20250321T170000
DTEND;TZID=America/Chicago:20250321T235900
DTSTAMP:20260424T054115
CREATED:20250301T234746Z
LAST-MODIFIED:20250402T031431Z
UID:2851-1742576400-1742601540@stjohnscordova.com
SUMMARY:Lock-in
DESCRIPTION:
URL:https://stjohnscordova.com/churchevent/lock-in/
END:VEVENT
BEGIN:VEVENT
DTSTART;TZID=America/Chicago:20250319T190000
DTEND;TZID=America/Chicago:20250319T200000
DTSTAMP:20260424T054115
CREATED:20250301T234801Z
LAST-MODIFIED:20250301T234801Z
UID:2856-1742410800-1742414400@stjohnscordova.com
SUMMARY:Lenten Service
DESCRIPTION:
URL:https://stjohnscordova.com/churchevent/lenten-service-11/
END:VEVENT
BEGIN:VEVENT
DTSTART;TZID=America/Chicago:20250319T180000
DTEND;TZID=America/Chicago:20250319T190000
DTSTAMP:20260424T054115
CREATED:20250301T234800Z
LAST-MODIFIED:20250301T235532Z
UID:2853-1742407200-1742410800@stjohnscordova.com
SUMMARY:Lenten Supper
DESCRIPTION:
URL:https://stjohnscordova.com/churchevent/lenten-supper-5/
END:VEVENT
BEGIN:VEVENT
DTSTART;TZID=America/Chicago:20250319T160000
DTEND;TZID=America/Chicago:20250319T180000
DTSTAMP:20260424T054115
CREATED:20250301T234745Z
LAST-MODIFIED:20250301T234745Z
UID:2848-1742400000-1742407200@stjohnscordova.com
SUMMARY:Confirmation
DESCRIPTION:
URL:https://stjohnscordova.com/churchevent/confirmation-95/
END:VEVENT
BEGIN:VEVENT
DTSTART;TZID=America/Chicago:20250318T190000
DTEND;TZID=America/Chicago:20250318T200000
DTSTAMP:20260424T054115
CREATED:20250301T234730Z
LAST-MODIFIED:20250301T234730Z
UID:2844-1742324400-1742328000@stjohnscordova.com
SUMMARY:Board of Education
DESCRIPTION:
URL:https://stjohnscordova.com/churchevent/board-of-education-31/
END:VEVENT
BEGIN:VEVENT
DTSTART;TZID=America/Chicago:20250318T130000
DTEND;TZID=America/Chicago:20250318T173000
DTSTAMP:20260424T054115
CREATED:20250301T234816Z
LAST-MODIFIED:20250301T235911Z
UID:2862-1742302800-1742319000@stjohnscordova.com
SUMMARY:Pastor's walk-in hours
DESCRIPTION:
URL:https://stjohnscordova.com/churchevent/pastors-walk-in-hours-3/
END:VEVENT
BEGIN:VEVENT
DTSTART;TZID=America/Chicago:20250316T103000
DTEND;TZID=America/Chicago:20250316T113000
DTSTAMP:20260424T054115
CREATED:20250301T234701Z
LAST-MODIFIED:20250301T234701Z
UID:2837-1742121000-1742124600@stjohnscordova.com
SUMMARY:Sunday School & Adult Bible Class
DESCRIPTION:
URL:https://stjohnscordova.com/churchevent/sunday-school-adult-bible-class-123/
END:VEVENT
BEGIN:VEVENT
DTSTART;TZID=America/Chicago:20250316T090000
DTEND;TZID=America/Chicago:20250316T100000
DTSTAMP:20260424T054115
CREATED:20250301T234655Z
LAST-MODIFIED:20250301T234655Z
UID:2832-1742115600-1742119200@stjohnscordova.com
SUMMARY:Church
DESCRIPTION:
URL:https://stjohnscordova.com/churchevent/church-126/
END:VEVENT
BEGIN:VEVENT
DTSTART;TZID=America/Chicago:20250312T190000
DTEND;TZID=America/Chicago:20250312T200000
DTSTAMP:20260424T054115
CREATED:20250301T234802Z
LAST-MODIFIED:20250301T234802Z
UID:2857-1741806000-1741809600@stjohnscordova.com
SUMMARY:Lenten Service
DESCRIPTION:
URL:https://stjohnscordova.com/churchevent/lenten-service-12/
END:VEVENT
BEGIN:VEVENT
DTSTART;TZID=America/Chicago:20250312T180000
DTEND;TZID=America/Chicago:20250312T190000
DTSTAMP:20260424T054115
CREATED:20250301T234746Z
LAST-MODIFIED:20250301T235618Z
UID:2852-1741802400-1741806000@stjohnscordova.com
SUMMARY:Lenten Supper
DESCRIPTION:
URL:https://stjohnscordova.com/churchevent/lenten-supper-4/
END:VEVENT
BEGIN:VEVENT
DTSTART;TZID=America/Chicago:20250312T160000
DTEND;TZID=America/Chicago:20250312T180000
DTSTAMP:20260424T054115
CREATED:20250301T234731Z
LAST-MODIFIED:20250301T234731Z
UID:2847-1741795200-1741802400@stjohnscordova.com
SUMMARY:Confirmation
DESCRIPTION:
URL:https://stjohnscordova.com/churchevent/confirmation-94/
END:VEVENT
BEGIN:VEVENT
DTSTART;TZID=America/Chicago:20250311T150000
DTEND;TZID=America/Chicago:20250311T173000
DTSTAMP:20260424T054115
CREATED:20250301T234816Z
LAST-MODIFIED:20250301T234816Z
UID:2861-1741705200-1741714200@stjohnscordova.com
SUMMARY:Pastor's walk-in hours
DESCRIPTION:
URL:https://stjohnscordova.com/churchevent/pastors-walk-in-hours-2/
END:VEVENT
BEGIN:VEVENT
DTSTART;TZID=America/Chicago:20250309T103000
DTEND;TZID=America/Chicago:20250309T113000
DTSTAMP:20260424T054115
CREATED:20250301T234701Z
LAST-MODIFIED:20250301T234701Z
UID:2836-1741516200-1741519800@stjohnscordova.com
SUMMARY:Sunday School & Adult Bible Class
DESCRIPTION:
URL:https://stjohnscordova.com/churchevent/sunday-school-adult-bible-class-122/
END:VEVENT
END:VCALENDAR