BEGIN:VCALENDAR
VERSION:2.0
PRODID:-//St. John&#039;s Lutheran Church - Cordova - ECPv6.15.20//NONSGML v1.0//EN
CALSCALE:GREGORIAN
METHOD:PUBLISH
X-WR-CALNAME:St. John&#039;s Lutheran Church - Cordova
X-ORIGINAL-URL:https://stjohnscordova.com
X-WR-CALDESC:Events for St. John&#039;s Lutheran Church - Cordova
REFRESH-INTERVAL;VALUE=DURATION:PT1H
X-Robots-Tag:noindex
X-PUBLISHED-TTL:PT1H
BEGIN:VTIMEZONE
TZID:America/Chicago
BEGIN:DAYLIGHT
TZOFFSETFROM:-0600
TZOFFSETTO:-0500
TZNAME:CDT
DTSTART:20240310T080000
END:DAYLIGHT
BEGIN:STANDARD
TZOFFSETFROM:-0500
TZOFFSETTO:-0600
TZNAME:CST
DTSTART:20241103T070000
END:STANDARD
BEGIN:DAYLIGHT
TZOFFSETFROM:-0600
TZOFFSETTO:-0500
TZNAME:CDT
DTSTART:20250309T080000
END:DAYLIGHT
BEGIN:STANDARD
TZOFFSETFROM:-0500
TZOFFSETTO:-0600
TZNAME:CST
DTSTART:20251102T070000
END:STANDARD
BEGIN:DAYLIGHT
TZOFFSETFROM:-0600
TZOFFSETTO:-0500
TZNAME:CDT
DTSTART:20260308T080000
END:DAYLIGHT
BEGIN:STANDARD
TZOFFSETFROM:-0500
TZOFFSETTO:-0600
TZNAME:CST
DTSTART:20261101T070000
END:STANDARD
END:VTIMEZONE
BEGIN:VEVENT
DTSTART;TZID=America/Chicago:20251026T103000
DTEND;TZID=America/Chicago:20251026T113000
DTSTAMP:20260423T184303
CREATED:20251002T181823Z
LAST-MODIFIED:20251002T181823Z
UID:3145-1761474600-1761478200@stjohnscordova.com
SUMMARY:Sunday School & Adult Bible Class
DESCRIPTION:
URL:https://stjohnscordova.com/churchevent/sunday-school-adult-bible-class-151/
END:VEVENT
BEGIN:VEVENT
DTSTART;TZID=America/Chicago:20251026T090000
DTEND;TZID=America/Chicago:20251026T100000
DTSTAMP:20260423T184303
CREATED:20251002T181817Z
LAST-MODIFIED:20251002T181817Z
UID:3141-1761469200-1761472800@stjohnscordova.com
SUMMARY:Church
DESCRIPTION:
URL:https://stjohnscordova.com/churchevent/church-157/
END:VEVENT
BEGIN:VEVENT
DTSTART;TZID=America/Chicago:20251022T160000
DTEND;TZID=America/Chicago:20251022T180000
DTSTAMP:20260423T184303
CREATED:20251002T182005Z
LAST-MODIFIED:20251002T182519Z
UID:3157-1761148800-1761156000@stjohnscordova.com
SUMMARY:Confirmation
DESCRIPTION:
URL:https://stjohnscordova.com/churchevent/confirmation-109/
END:VEVENT
BEGIN:VEVENT
DTSTART;TZID=America/Chicago:20251022T133000
DTEND;TZID=America/Chicago:20251022T143000
DTSTAMP:20260423T184303
CREATED:20251002T182005Z
LAST-MODIFIED:20251002T182005Z
UID:3158-1761139800-1761143400@stjohnscordova.com
SUMMARY:Missional Community Gathering Meeting
DESCRIPTION:
URL:https://stjohnscordova.com/churchevent/missional-community-gathering-meeting-2/
END:VEVENT
BEGIN:VEVENT
DTSTART;TZID=America/Chicago:20251019T113000
DTEND;TZID=America/Chicago:20251019T133000
DTSTAMP:20260423T184303
CREATED:20251005T182353Z
LAST-MODIFIED:20251005T182353Z
UID:3181-1760873400-1760880600@stjohnscordova.com
SUMMARY:Voters Meeting
DESCRIPTION:
URL:https://stjohnscordova.com/churchevent/voters-meeting-3/
END:VEVENT
BEGIN:VEVENT
DTSTART;TZID=America/Chicago:20251019T103000
DTEND;TZID=America/Chicago:20251019T113000
DTSTAMP:20260423T184303
CREATED:20251002T181822Z
LAST-MODIFIED:20251002T181822Z
UID:3144-1760869800-1760873400@stjohnscordova.com
SUMMARY:Sunday School & Adult Bible Class
DESCRIPTION:
URL:https://stjohnscordova.com/churchevent/sunday-school-adult-bible-class-150/
END:VEVENT
BEGIN:VEVENT
DTSTART;TZID=America/Chicago:20251019T090000
DTEND;TZID=America/Chicago:20251019T100000
DTSTAMP:20260423T184303
CREATED:20251002T181817Z
LAST-MODIFIED:20251002T181817Z
UID:3140-1760864400-1760868000@stjohnscordova.com
SUMMARY:Church
DESCRIPTION:
URL:https://stjohnscordova.com/churchevent/church-156/
END:VEVENT
BEGIN:VEVENT
DTSTART;TZID=America/Chicago:20251015T160000
DTEND;TZID=America/Chicago:20251015T180000
DTSTAMP:20260423T184303
CREATED:20251002T181951Z
LAST-MODIFIED:20251002T182529Z
UID:3156-1760544000-1760551200@stjohnscordova.com
SUMMARY:Confirmation
DESCRIPTION:
URL:https://stjohnscordova.com/churchevent/confirmation-108/
END:VEVENT
BEGIN:VEVENT
DTSTART;TZID=America/Chicago:20251014T200000
DTEND;TZID=America/Chicago:20251014T210000
DTSTAMP:20260423T184303
CREATED:20251005T182330Z
LAST-MODIFIED:20251005T182330Z
UID:3178-1760472000-1760475600@stjohnscordova.com
SUMMARY:Church Council Meeting
DESCRIPTION:
URL:https://stjohnscordova.com/churchevent/church-council-meeting-4/
END:VEVENT
BEGIN:VEVENT
DTSTART;TZID=America/Chicago:20251014T190000
DTEND;TZID=America/Chicago:20251014T200000
DTSTAMP:20260423T184303
CREATED:20251002T181950Z
LAST-MODIFIED:20251002T181950Z
UID:3153-1760468400-1760472000@stjohnscordova.com
SUMMARY:Board of Education
DESCRIPTION:
URL:https://stjohnscordova.com/churchevent/board-of-education-37/
END:VEVENT
BEGIN:VEVENT
DTSTART;TZID=America/Chicago:20251012T113000
DTEND;TZID=America/Chicago:20251012T123000
DTSTAMP:20260423T184303
CREATED:20251002T182005Z
LAST-MODIFIED:20251002T182005Z
UID:3159-1760268600-1760272200@stjohnscordova.com
SUMMARY:Farewell Potluck for Pastor & Rebecca
DESCRIPTION:
URL:https://stjohnscordova.com/churchevent/farewell-potluck-for-pastor-rebecca/
END:VEVENT
BEGIN:VEVENT
DTSTART;TZID=America/Chicago:20251012T103000
DTEND;TZID=America/Chicago:20251012T113000
DTSTAMP:20260423T184303
CREATED:20251002T181822Z
LAST-MODIFIED:20251002T181822Z
UID:3143-1760265000-1760268600@stjohnscordova.com
SUMMARY:Sunday School & Adult Bible Class
DESCRIPTION:
URL:https://stjohnscordova.com/churchevent/sunday-school-adult-bible-class-149/
END:VEVENT
BEGIN:VEVENT
DTSTART;TZID=America/Chicago:20251012T100000
DTEND;TZID=America/Chicago:20251012T103000
DTSTAMP:20260423T184303
CREATED:20251002T181837Z
LAST-MODIFIED:20251002T181837Z
UID:3147-1760263200-1760265000@stjohnscordova.com
SUMMARY:Trutees Meeting
DESCRIPTION:
URL:https://stjohnscordova.com/churchevent/trutees-meeting-17/
END:VEVENT
BEGIN:VEVENT
DTSTART;TZID=America/Chicago:20251012T090000
DTEND;TZID=America/Chicago:20251012T100000
DTSTAMP:20260423T184303
CREATED:20251002T181816Z
LAST-MODIFIED:20251002T181816Z
UID:3139-1760259600-1760263200@stjohnscordova.com
SUMMARY:Church
DESCRIPTION:
URL:https://stjohnscordova.com/churchevent/church-155/
END:VEVENT
BEGIN:VEVENT
DTSTART;TZID=America/Chicago:20251008T160000
DTEND;TZID=America/Chicago:20251008T180000
DTSTAMP:20260423T184303
CREATED:20251002T181951Z
LAST-MODIFIED:20251002T182535Z
UID:3155-1759939200-1759946400@stjohnscordova.com
SUMMARY:Confirmation
DESCRIPTION:
URL:https://stjohnscordova.com/churchevent/confirmation-107/
END:VEVENT
BEGIN:VEVENT
DTSTART;TZID=America/Chicago:20251008T133000
DTEND;TZID=America/Chicago:20251008T143000
DTSTAMP:20260423T184303
CREATED:20251002T181950Z
LAST-MODIFIED:20251002T181950Z
UID:3152-1759930200-1759933800@stjohnscordova.com
SUMMARY:Small Group
DESCRIPTION:
URL:https://stjohnscordova.com/churchevent/small-group-29/
END:VEVENT
BEGIN:VEVENT
DTSTART;TZID=America/Chicago:20251007T190000
DTEND;TZID=America/Chicago:20251007T200000
DTSTAMP:20260423T184303
CREATED:20251002T181838Z
LAST-MODIFIED:20251002T181838Z
UID:3150-1759863600-1759867200@stjohnscordova.com
SUMMARY:Elders Meeting
DESCRIPTION:
URL:https://stjohnscordova.com/churchevent/elders-meeting-37/
END:VEVENT
BEGIN:VEVENT
DTSTART;TZID=America/Chicago:20251007T130000
DTEND;TZID=America/Chicago:20251007T173000
DTSTAMP:20260423T184303
CREATED:20251002T181838Z
LAST-MODIFIED:20251002T181838Z
UID:3151-1759842000-1759858200@stjohnscordova.com
SUMMARY:Pastor's walk-in hours
DESCRIPTION:
URL:https://stjohnscordova.com/churchevent/pastors-walk-in-hours-26/
END:VEVENT
BEGIN:VEVENT
DTSTART;TZID=America/Chicago:20251006T180000
DTEND;TZID=America/Chicago:20251006T190000
DTSTAMP:20260423T184303
CREATED:20251002T181837Z
LAST-MODIFIED:20251002T181837Z
UID:3148-1759773600-1759777200@stjohnscordova.com
SUMMARY:Lydia LWML
DESCRIPTION:
URL:https://stjohnscordova.com/churchevent/lydia-lwml-37/
END:VEVENT
BEGIN:VEVENT
DTSTART;TZID=America/Chicago:20251005T103000
DTEND;TZID=America/Chicago:20251005T113000
DTSTAMP:20260423T184303
CREATED:20251002T181821Z
LAST-MODIFIED:20251002T181821Z
UID:3142-1759660200-1759663800@stjohnscordova.com
SUMMARY:Sunday School & Adult Bible Class
DESCRIPTION:
URL:https://stjohnscordova.com/churchevent/sunday-school-adult-bible-class-148/
END:VEVENT
BEGIN:VEVENT
DTSTART;TZID=America/Chicago:20251005T090000
DTEND;TZID=America/Chicago:20251005T100000
DTSTAMP:20260423T184303
CREATED:20251002T181816Z
LAST-MODIFIED:20251002T181816Z
UID:3138-1759654800-1759658400@stjohnscordova.com
SUMMARY:Church
DESCRIPTION:
URL:https://stjohnscordova.com/churchevent/church-154/
END:VEVENT
BEGIN:VEVENT
DTSTART;TZID=America/Chicago:20251005T085000
DTEND;TZID=America/Chicago:20251005T090000
DTSTAMP:20260423T184303
CREATED:20251002T181815Z
LAST-MODIFIED:20251002T181815Z
UID:3137-1759654200-1759654800@stjohnscordova.com
SUMMARY:Hymn Sing
DESCRIPTION:
URL:https://stjohnscordova.com/churchevent/hymn-sing-39/
END:VEVENT
BEGIN:VEVENT
DTSTART;TZID=America/Chicago:20251004T073000
DTEND;TZID=America/Chicago:20251004T083000
DTSTAMP:20260423T184303
CREATED:20251002T181823Z
LAST-MODIFIED:20251002T181823Z
UID:3146-1759563000-1759566600@stjohnscordova.com
SUMMARY:Men's Group Bible Study
DESCRIPTION:
URL:https://stjohnscordova.com/churchevent/mens-group-bible-study-13/
END:VEVENT
BEGIN:VEVENT
DTSTART;TZID=America/Chicago:20251001T160000
DTEND;TZID=America/Chicago:20251001T180000
DTSTAMP:20260423T184303
CREATED:20251002T181951Z
LAST-MODIFIED:20251002T182542Z
UID:3154-1759334400-1759341600@stjohnscordova.com
SUMMARY:Confirmation
DESCRIPTION:
URL:https://stjohnscordova.com/churchevent/confirmation-106/
END:VEVENT
BEGIN:VEVENT
DTSTART;TZID=America/Chicago:20251001T140000
DTEND;TZID=America/Chicago:20251001T150000
DTSTAMP:20260423T184303
CREATED:20251002T181837Z
LAST-MODIFIED:20251002T181837Z
UID:3149-1759327200-1759330800@stjohnscordova.com
SUMMARY:Dorcas LWML
DESCRIPTION:
URL:https://stjohnscordova.com/churchevent/dorcas-lwml-35/
END:VEVENT
BEGIN:VEVENT
DTSTART;TZID=America/Chicago:20250928T143000
DTEND;TZID=America/Chicago:20250928T163000
DTSTAMP:20260423T184303
CREATED:20250902T131047Z
LAST-MODIFIED:20250902T131047Z
UID:3117-1759069800-1759077000@stjohnscordova.com
SUMMARY:Devotions at Fairmont
DESCRIPTION:
URL:https://stjohnscordova.com/churchevent/devotions-at-fairmont-34/
END:VEVENT
BEGIN:VEVENT
DTSTART;TZID=America/Chicago:20250928T103000
DTEND;TZID=America/Chicago:20250928T113000
DTSTAMP:20260423T184303
CREATED:20250902T131032Z
LAST-MODIFIED:20250902T131032Z
UID:3111-1759055400-1759059000@stjohnscordova.com
SUMMARY:Sunday School & Adult Bible Class
DESCRIPTION:
URL:https://stjohnscordova.com/churchevent/sunday-school-adult-bible-class-147/
END:VEVENT
BEGIN:VEVENT
DTSTART;TZID=America/Chicago:20250928T090000
DTEND;TZID=America/Chicago:20250928T100000
DTSTAMP:20260423T184303
CREATED:20250902T131027Z
LAST-MODIFIED:20250902T131027Z
UID:3107-1759050000-1759053600@stjohnscordova.com
SUMMARY:Church
DESCRIPTION:
URL:https://stjohnscordova.com/churchevent/church-153/
END:VEVENT
BEGIN:VEVENT
DTSTART;TZID=America/Chicago:20250927T090000
DTEND;TZID=America/Chicago:20250927T110000
DTSTAMP:20260423T184303
CREATED:20250902T131648Z
LAST-MODIFIED:20250902T131648Z
UID:3129-1758963600-1758970800@stjohnscordova.com
SUMMARY:Lydia Youth Women's Brunch
DESCRIPTION:
URL:https://stjohnscordova.com/churchevent/lydia-youth-womens-brunch/
END:VEVENT
BEGIN:VEVENT
DTSTART;TZID=America/Chicago:20250924T190000
DTEND;TZID=America/Chicago:20250924T200000
DTSTAMP:20260423T184303
CREATED:20250902T131447Z
LAST-MODIFIED:20250902T131447Z
UID:3127-1758740400-1758744000@stjohnscordova.com
SUMMARY:Confirmation
DESCRIPTION:
URL:https://stjohnscordova.com/churchevent/confirmation-105/
END:VEVENT
END:VCALENDAR