BEGIN:VCALENDAR
VERSION:2.0
PRODID:-//St. John&#039;s Lutheran Church - Cordova - ECPv6.15.20//NONSGML v1.0//EN
CALSCALE:GREGORIAN
METHOD:PUBLISH
X-WR-CALNAME:St. John&#039;s Lutheran Church - Cordova
X-ORIGINAL-URL:https://stjohnscordova.com
X-WR-CALDESC:Events for St. John&#039;s Lutheran Church - Cordova
REFRESH-INTERVAL;VALUE=DURATION:PT1H
X-Robots-Tag:noindex
X-PUBLISHED-TTL:PT1H
BEGIN:VTIMEZONE
TZID:America/Chicago
BEGIN:DAYLIGHT
TZOFFSETFROM:-0600
TZOFFSETTO:-0500
TZNAME:CDT
DTSTART:20240310T080000
END:DAYLIGHT
BEGIN:STANDARD
TZOFFSETFROM:-0500
TZOFFSETTO:-0600
TZNAME:CST
DTSTART:20241103T070000
END:STANDARD
BEGIN:DAYLIGHT
TZOFFSETFROM:-0600
TZOFFSETTO:-0500
TZNAME:CDT
DTSTART:20250309T080000
END:DAYLIGHT
BEGIN:STANDARD
TZOFFSETFROM:-0500
TZOFFSETTO:-0600
TZNAME:CST
DTSTART:20251102T070000
END:STANDARD
BEGIN:DAYLIGHT
TZOFFSETFROM:-0600
TZOFFSETTO:-0500
TZNAME:CDT
DTSTART:20260308T080000
END:DAYLIGHT
BEGIN:STANDARD
TZOFFSETFROM:-0500
TZOFFSETTO:-0600
TZNAME:CST
DTSTART:20261101T070000
END:STANDARD
BEGIN:DAYLIGHT
TZOFFSETFROM:-0600
TZOFFSETTO:-0500
TZNAME:CDT
DTSTART:20270314T080000
END:DAYLIGHT
BEGIN:STANDARD
TZOFFSETFROM:-0500
TZOFFSETTO:-0600
TZNAME:CST
DTSTART:20271107T070000
END:STANDARD
END:VTIMEZONE
BEGIN:VEVENT
DTSTART;TZID=America/Chicago:20251216T190000
DTEND;TZID=America/Chicago:20251216T200000
DTSTAMP:20260423T171926
CREATED:20251203T062428Z
LAST-MODIFIED:20251203T062428Z
UID:3459-1765911600-1765915200@stjohnscordova.com
SUMMARY:Board of Education
DESCRIPTION:
URL:https://stjohnscordova.com/churchevent/board-of-education-39/
END:VEVENT
BEGIN:VEVENT
DTSTART;TZID=America/Chicago:20251217T160000
DTEND;TZID=America/Chicago:20251217T180000
DTSTAMP:20260423T171926
CREATED:20251203T062627Z
LAST-MODIFIED:20251203T062627Z
UID:3462-1765987200-1765994400@stjohnscordova.com
SUMMARY:Confirmation
DESCRIPTION:
URL:https://stjohnscordova.com/churchevent/confirmation-116/
END:VEVENT
BEGIN:VEVENT
DTSTART;TZID=America/Chicago:20251217T180000
DTEND;TZID=America/Chicago:20251217T190000
DTSTAMP:20260423T171926
CREATED:20251203T062828Z
LAST-MODIFIED:20251203T062828Z
UID:3466-1765994400-1765998000@stjohnscordova.com
SUMMARY:Advent Meal
DESCRIPTION:
URL:https://stjohnscordova.com/churchevent/advent-meal-3/
END:VEVENT
BEGIN:VEVENT
DTSTART;TZID=America/Chicago:20251217T190000
DTEND;TZID=America/Chicago:20251217T200000
DTSTAMP:20260423T171926
CREATED:20251203T062829Z
LAST-MODIFIED:20251203T062829Z
UID:3469-1765998000-1766001600@stjohnscordova.com
SUMMARY:Advent Service
DESCRIPTION:
URL:https://stjohnscordova.com/churchevent/advent-service-12/
END:VEVENT
BEGIN:VEVENT
DTSTART;TZID=America/Chicago:20251221T090000
DTEND;TZID=America/Chicago:20251221T103000
DTSTAMP:20260423T171926
CREATED:20251203T062221Z
LAST-MODIFIED:20251203T062221Z
UID:3449-1766307600-1766313000@stjohnscordova.com
SUMMARY:Children's Christmas Program
DESCRIPTION:
URL:https://stjohnscordova.com/churchevent/childrens-christmas-program-3/
END:VEVENT
BEGIN:VEVENT
DTSTART;TZID=America/Chicago:20251224T170000
DTEND;TZID=America/Chicago:20251224T180000
DTSTAMP:20260423T171926
CREATED:20251203T062627Z
LAST-MODIFIED:20251203T062627Z
UID:3463-1766595600-1766599200@stjohnscordova.com
SUMMARY:Christmas Eve Service
DESCRIPTION:
URL:https://stjohnscordova.com/churchevent/christmas-eve-service-4/
END:VEVENT
BEGIN:VEVENT
DTSTART;TZID=America/Chicago:20251228T090000
DTEND;TZID=America/Chicago:20251228T100000
DTSTAMP:20260423T171926
CREATED:20251203T062222Z
LAST-MODIFIED:20251203T062222Z
UID:3450-1766912400-1766916000@stjohnscordova.com
SUMMARY:Church
DESCRIPTION:
URL:https://stjohnscordova.com/churchevent/church-164/
END:VEVENT
BEGIN:VEVENT
DTSTART;TZID=America/Chicago:20251228T103000
DTEND;TZID=America/Chicago:20251228T113000
DTSTAMP:20260423T171926
CREATED:20251203T062227Z
LAST-MODIFIED:20251203T062227Z
UID:3453-1766917800-1766921400@stjohnscordova.com
SUMMARY:Sunday School & Adult Bible Class
DESCRIPTION:
URL:https://stjohnscordova.com/churchevent/sunday-school-adult-bible-class-159/
END:VEVENT
BEGIN:VEVENT
DTSTART;TZID=America/Chicago:20251228T113000
DTEND;TZID=America/Chicago:20251228T170000
DTSTAMP:20260423T171926
CREATED:20251203T062228Z
LAST-MODIFIED:20251203T062228Z
UID:3454-1766921400-1766941200@stjohnscordova.com
SUMMARY:Cookie Exchange & Christmas Caroling
DESCRIPTION:
URL:https://stjohnscordova.com/churchevent/cookie-exchange-christmas-caroling/
END:VEVENT
BEGIN:VEVENT
DTSTART;TZID=America/Chicago:20260103T073000
DTEND;TZID=America/Chicago:20260103T083000
DTSTAMP:20260423T171926
CREATED:20251230T030714Z
LAST-MODIFIED:20251230T030714Z
UID:3552-1767425400-1767429000@stjohnscordova.com
SUMMARY:Men's Group Bible Study
DESCRIPTION:
URL:https://stjohnscordova.com/churchevent/mens-group-bible-study-16/
END:VEVENT
BEGIN:VEVENT
DTSTART;TZID=America/Chicago:20260104T085000
DTEND;TZID=America/Chicago:20260104T090000
DTSTAMP:20260423T171926
CREATED:20251230T030707Z
LAST-MODIFIED:20251230T030707Z
UID:3542-1767516600-1767517200@stjohnscordova.com
SUMMARY:Hymn Sing
DESCRIPTION:
URL:https://stjohnscordova.com/churchevent/hymn-sing-42/
END:VEVENT
BEGIN:VEVENT
DTSTART;TZID=America/Chicago:20260104T090000
DTEND;TZID=America/Chicago:20260104T100000
DTSTAMP:20260423T171926
CREATED:20251230T030708Z
LAST-MODIFIED:20251230T030708Z
UID:3543-1767517200-1767520800@stjohnscordova.com
SUMMARY:Church
DESCRIPTION:
URL:https://stjohnscordova.com/churchevent/church-165/
END:VEVENT
BEGIN:VEVENT
DTSTART;TZID=America/Chicago:20260104T103000
DTEND;TZID=America/Chicago:20260104T113000
DTSTAMP:20260423T171926
CREATED:20251230T030711Z
LAST-MODIFIED:20251230T030711Z
UID:3547-1767522600-1767526200@stjohnscordova.com
SUMMARY:Sunday School & Adult Bible Class
DESCRIPTION:
URL:https://stjohnscordova.com/churchevent/sunday-school-adult-bible-class-160/
END:VEVENT
BEGIN:VEVENT
DTSTART;TZID=America/Chicago:20260105T180000
DTEND;TZID=America/Chicago:20260105T200000
DTSTAMP:20260423T171926
CREATED:20251230T030723Z
LAST-MODIFIED:20251230T034757Z
UID:3554-1767636000-1767643200@stjohnscordova.com
SUMMARY:Lydia LWML
DESCRIPTION:
URL:https://stjohnscordova.com/churchevent/lydia-lwml-40/
END:VEVENT
BEGIN:VEVENT
DTSTART;TZID=America/Chicago:20260107T120000
DTEND;TZID=America/Chicago:20260107T140000
DTSTAMP:20260423T171926
CREATED:20251230T030724Z
LAST-MODIFIED:20251230T030724Z
UID:3555-1767787200-1767794400@stjohnscordova.com
SUMMARY:Dorcas LWML
DESCRIPTION:
URL:https://stjohnscordova.com/churchevent/dorcas-lwml-37/
END:VEVENT
BEGIN:VEVENT
DTSTART;TZID=America/Chicago:20260107T160000
DTEND;TZID=America/Chicago:20260107T180000
DTSTAMP:20260423T171926
CREATED:20251230T030725Z
LAST-MODIFIED:20251230T030725Z
UID:3557-1767801600-1767808800@stjohnscordova.com
SUMMARY:Confirmation
DESCRIPTION:
URL:https://stjohnscordova.com/churchevent/confirmation-117/
END:VEVENT
BEGIN:VEVENT
DTSTART;TZID=America/Chicago:20260111T090000
DTEND;TZID=America/Chicago:20260111T100000
DTSTAMP:20260423T171926
CREATED:20251230T030709Z
LAST-MODIFIED:20251230T030709Z
UID:3544-1768122000-1768125600@stjohnscordova.com
SUMMARY:Church
DESCRIPTION:
URL:https://stjohnscordova.com/churchevent/church-166/
END:VEVENT
BEGIN:VEVENT
DTSTART;TZID=America/Chicago:20260111T100000
DTEND;TZID=America/Chicago:20260111T103000
DTSTAMP:20260423T171926
CREATED:20251230T030721Z
LAST-MODIFIED:20251230T030721Z
UID:3553-1768125600-1768127400@stjohnscordova.com
SUMMARY:Trustees Meeting
DESCRIPTION:
URL:https://stjohnscordova.com/churchevent/trustees-meeting-19/
END:VEVENT
BEGIN:VEVENT
DTSTART;TZID=America/Chicago:20260111T103000
DTEND;TZID=America/Chicago:20260111T113000
DTSTAMP:20260423T171926
CREATED:20251230T030713Z
LAST-MODIFIED:20251230T030713Z
UID:3548-1768127400-1768131000@stjohnscordova.com
SUMMARY:Sunday School & Adult Bible Class
DESCRIPTION:
URL:https://stjohnscordova.com/churchevent/sunday-school-adult-bible-class-161/
END:VEVENT
BEGIN:VEVENT
DTSTART;TZID=America/Chicago:20260114T133000
DTEND;TZID=America/Chicago:20260114T143000
DTSTAMP:20260423T171926
CREATED:20251230T030914Z
LAST-MODIFIED:20251230T030914Z
UID:3563-1768397400-1768401000@stjohnscordova.com
SUMMARY:Small Group Study
DESCRIPTION:
URL:https://stjohnscordova.com/churchevent/small-group-study-30/
END:VEVENT
BEGIN:VEVENT
DTSTART;TZID=America/Chicago:20260114T150000
DTEND;TZID=America/Chicago:20260114T160000
DTSTAMP:20260423T171926
CREATED:20251230T030914Z
LAST-MODIFIED:20251230T030914Z
UID:3564-1768402800-1768406400@stjohnscordova.com
SUMMARY:KIT & Friendly Members
DESCRIPTION:
URL:https://stjohnscordova.com/churchevent/kit-friendly-members-3/
END:VEVENT
BEGIN:VEVENT
DTSTART;TZID=America/Chicago:20260114T160000
DTEND;TZID=America/Chicago:20260114T180000
DTSTAMP:20260423T171926
CREATED:20251230T030728Z
LAST-MODIFIED:20251230T030728Z
UID:3558-1768406400-1768413600@stjohnscordova.com
SUMMARY:Confirmation
DESCRIPTION:
URL:https://stjohnscordova.com/churchevent/confirmation-118/
END:VEVENT
BEGIN:VEVENT
DTSTART;TZID=America/Chicago:20260118T090000
DTEND;TZID=America/Chicago:20260118T103000
DTSTAMP:20260423T171926
CREATED:20251230T030710Z
LAST-MODIFIED:20251230T030710Z
UID:3545-1768726800-1768732200@stjohnscordova.com
SUMMARY:Church
DESCRIPTION:
URL:https://stjohnscordova.com/churchevent/church-167/
END:VEVENT
BEGIN:VEVENT
DTSTART;TZID=America/Chicago:20260118T103000
DTEND;TZID=America/Chicago:20260118T113000
DTSTAMP:20260423T171926
CREATED:20251230T030713Z
LAST-MODIFIED:20251230T030713Z
UID:3549-1768732200-1768735800@stjohnscordova.com
SUMMARY:Sunday School & Adult Bible Class
DESCRIPTION:
URL:https://stjohnscordova.com/churchevent/sunday-school-adult-bible-class-162/
END:VEVENT
BEGIN:VEVENT
DTSTART;TZID=America/Chicago:20260120T190000
DTEND;TZID=America/Chicago:20260120T200000
DTSTAMP:20260423T171926
CREATED:20251230T030725Z
LAST-MODIFIED:20251230T030725Z
UID:3556-1768935600-1768939200@stjohnscordova.com
SUMMARY:Board of Education
DESCRIPTION:
URL:https://stjohnscordova.com/churchevent/board-of-education-40/
END:VEVENT
BEGIN:VEVENT
DTSTART;TZID=America/Chicago:20260121T160000
DTEND;TZID=America/Chicago:20260121T180000
DTSTAMP:20260423T171926
CREATED:20251230T030729Z
LAST-MODIFIED:20251230T030729Z
UID:3559-1769011200-1769018400@stjohnscordova.com
SUMMARY:Confirmation
DESCRIPTION:
URL:https://stjohnscordova.com/churchevent/confirmation-119/
END:VEVENT
BEGIN:VEVENT
DTSTART;TZID=America/Chicago:20260121T190000
DTEND;TZID=America/Chicago:20260121T203000
DTSTAMP:20260423T171926
CREATED:20260119T122348Z
LAST-MODIFIED:20260119T122348Z
UID:3623-1769022000-1769027400@stjohnscordova.com
SUMMARY:Church Council
DESCRIPTION:
URL:https://stjohnscordova.com/churchevent/church-council-11/
END:VEVENT
BEGIN:VEVENT
DTSTART;TZID=America/Chicago:20260125T090000
DTEND;TZID=America/Chicago:20260125T100000
DTSTAMP:20260423T171926
CREATED:20251230T030710Z
LAST-MODIFIED:20251230T030710Z
UID:3546-1769331600-1769335200@stjohnscordova.com
SUMMARY:Church
DESCRIPTION:
URL:https://stjohnscordova.com/churchevent/church-168/
END:VEVENT
BEGIN:VEVENT
DTSTART;TZID=America/Chicago:20260125T103000
DTEND;TZID=America/Chicago:20260125T113000
DTSTAMP:20260423T171926
CREATED:20251230T030714Z
LAST-MODIFIED:20251230T030714Z
UID:3551-1769337000-1769340600@stjohnscordova.com
SUMMARY:Sunday School & Adult Bible Class
DESCRIPTION:
URL:https://stjohnscordova.com/churchevent/sunday-school-adult-bible-class-163/
END:VEVENT
BEGIN:VEVENT
DTSTART;TZID=America/Chicago:20260125T113000
DTEND;TZID=America/Chicago:20260125T143000
DTSTAMP:20260423T171926
CREATED:20260119T122457Z
LAST-MODIFIED:20260119T122457Z
UID:3627-1769340600-1769351400@stjohnscordova.com
SUMMARY:Voters' Meeting
DESCRIPTION:
URL:https://stjohnscordova.com/churchevent/voters-meeting-4/
END:VEVENT
END:VCALENDAR