BEGIN:VCALENDAR
VERSION:2.0
PRODID:-//St. John&#039;s Lutheran Church - Cordova - ECPv6.15.20//NONSGML v1.0//EN
CALSCALE:GREGORIAN
METHOD:PUBLISH
X-ORIGINAL-URL:https://stjohnscordova.com
X-WR-CALDESC:Events for St. John&#039;s Lutheran Church - Cordova
REFRESH-INTERVAL;VALUE=DURATION:PT1H
X-Robots-Tag:noindex
X-PUBLISHED-TTL:PT1H
BEGIN:VTIMEZONE
TZID:America/Chicago
BEGIN:DAYLIGHT
TZOFFSETFROM:-0600
TZOFFSETTO:-0500
TZNAME:CDT
DTSTART:20240310T080000
END:DAYLIGHT
BEGIN:STANDARD
TZOFFSETFROM:-0500
TZOFFSETTO:-0600
TZNAME:CST
DTSTART:20241103T070000
END:STANDARD
BEGIN:DAYLIGHT
TZOFFSETFROM:-0600
TZOFFSETTO:-0500
TZNAME:CDT
DTSTART:20250309T080000
END:DAYLIGHT
BEGIN:STANDARD
TZOFFSETFROM:-0500
TZOFFSETTO:-0600
TZNAME:CST
DTSTART:20251102T070000
END:STANDARD
BEGIN:DAYLIGHT
TZOFFSETFROM:-0600
TZOFFSETTO:-0500
TZNAME:CDT
DTSTART:20260308T080000
END:DAYLIGHT
BEGIN:STANDARD
TZOFFSETFROM:-0500
TZOFFSETTO:-0600
TZNAME:CST
DTSTART:20261101T070000
END:STANDARD
END:VTIMEZONE
BEGIN:VEVENT
DTSTART;TZID=America/Chicago:20251109T090000
DTEND;TZID=America/Chicago:20251109T100000
DTSTAMP:20260423T183448
CREATED:20251101T121550Z
LAST-MODIFIED:20251101T121550Z
UID:3344-1762678800-1762682400@stjohnscordova.com
SUMMARY:Church
DESCRIPTION:
URL:https://stjohnscordova.com/churchevent/church-158/
END:VEVENT
BEGIN:VEVENT
DTSTART;TZID=America/Chicago:20251109T100000
DTEND;TZID=America/Chicago:20251109T103000
DTSTAMP:20260423T183448
CREATED:20251101T121759Z
LAST-MODIFIED:20251101T121759Z
UID:3355-1762682400-1762684200@stjohnscordova.com
SUMMARY:Trutees Meeting
DESCRIPTION:
URL:https://stjohnscordova.com/churchevent/trutees-meeting-18/
END:VEVENT
BEGIN:VEVENT
DTSTART;TZID=America/Chicago:20251109T103000
DTEND;TZID=America/Chicago:20251109T113000
DTSTAMP:20260423T183448
CREATED:20251101T121558Z
LAST-MODIFIED:20251101T121558Z
UID:3350-1762684200-1762687800@stjohnscordova.com
SUMMARY:Sunday School & Adult Bible Class
DESCRIPTION:
URL:https://stjohnscordova.com/churchevent/sunday-school-adult-bible-class-153/
END:VEVENT
BEGIN:VEVENT
DTSTART;TZID=America/Chicago:20251112T133000
DTEND;TZID=America/Chicago:20251112T143000
DTSTAMP:20260423T183448
CREATED:20251101T121957Z
LAST-MODIFIED:20251101T121957Z
UID:3361-1762954200-1762957800@stjohnscordova.com
SUMMARY:Small Group
DESCRIPTION:
URL:https://stjohnscordova.com/churchevent/small-group-30/
END:VEVENT
BEGIN:VEVENT
DTSTART;TZID=America/Chicago:20251112T150000
DTEND;TZID=America/Chicago:20251112T160000
DTSTAMP:20260423T183448
CREATED:20251101T122201Z
LAST-MODIFIED:20251101T122201Z
UID:3370-1762959600-1762963200@stjohnscordova.com
SUMMARY:Missional Community Gathering Meeting
DESCRIPTION:
URL:https://stjohnscordova.com/churchevent/missional-community-gathering-meeting-3/
END:VEVENT
BEGIN:VEVENT
DTSTART;TZID=America/Chicago:20251112T160000
DTEND;TZID=America/Chicago:20251112T180000
DTSTAMP:20260423T183448
CREATED:20251101T122002Z
LAST-MODIFIED:20251101T122002Z
UID:3364-1762963200-1762970400@stjohnscordova.com
SUMMARY:Confirmation
DESCRIPTION:
URL:https://stjohnscordova.com/churchevent/confirmation-111/
END:VEVENT
BEGIN:VEVENT
DTSTART;TZID=America/Chicago:20251116T090000
DTEND;TZID=America/Chicago:20251116T100000
DTSTAMP:20260423T183448
CREATED:20251101T121552Z
LAST-MODIFIED:20251101T121552Z
UID:3345-1763283600-1763287200@stjohnscordova.com
SUMMARY:Church
DESCRIPTION:
URL:https://stjohnscordova.com/churchevent/church-159/
END:VEVENT
BEGIN:VEVENT
DTSTART;TZID=America/Chicago:20251116T103000
DTEND;TZID=America/Chicago:20251116T113000
DTSTAMP:20260423T183448
CREATED:20251101T121559Z
LAST-MODIFIED:20251101T121559Z
UID:3351-1763289000-1763292600@stjohnscordova.com
SUMMARY:Sunday School & Adult Bible Class
DESCRIPTION:
URL:https://stjohnscordova.com/churchevent/sunday-school-adult-bible-class-154/
END:VEVENT
BEGIN:VEVENT
DTSTART;TZID=America/Chicago:20251118T190000
DTEND;TZID=America/Chicago:20251118T200000
DTSTAMP:20260423T183448
CREATED:20251101T121959Z
LAST-MODIFIED:20251101T121959Z
UID:3362-1763492400-1763496000@stjohnscordova.com
SUMMARY:Board of Education
DESCRIPTION:
URL:https://stjohnscordova.com/churchevent/board-of-education-38/
END:VEVENT
BEGIN:VEVENT
DTSTART;TZID=America/Chicago:20251119T160000
DTEND;TZID=America/Chicago:20251119T180000
DTSTAMP:20260423T183448
CREATED:20251101T122157Z
LAST-MODIFIED:20251101T122157Z
UID:3367-1763568000-1763575200@stjohnscordova.com
SUMMARY:Confirmation
DESCRIPTION:
URL:https://stjohnscordova.com/churchevent/confirmation-112/
END:VEVENT
BEGIN:VEVENT
DTSTART;TZID=America/Chicago:20251123T090000
DTEND;TZID=America/Chicago:20251123T100000
DTSTAMP:20260423T183448
CREATED:20251101T121553Z
LAST-MODIFIED:20251101T121553Z
UID:3346-1763888400-1763892000@stjohnscordova.com
SUMMARY:Church
DESCRIPTION:
URL:https://stjohnscordova.com/churchevent/church-160/
END:VEVENT
BEGIN:VEVENT
DTSTART;TZID=America/Chicago:20251123T103000
DTEND;TZID=America/Chicago:20251123T113000
DTSTAMP:20260423T183448
CREATED:20251101T121602Z
LAST-MODIFIED:20251101T121602Z
UID:3352-1763893800-1763897400@stjohnscordova.com
SUMMARY:Sunday School & Adult Bible Class
DESCRIPTION:
URL:https://stjohnscordova.com/churchevent/sunday-school-adult-bible-class-155/
END:VEVENT
BEGIN:VEVENT
DTSTART;TZID=America/Chicago:20251126T160000
DTEND;TZID=America/Chicago:20251126T180000
DTSTAMP:20260423T183448
CREATED:20251101T122201Z
LAST-MODIFIED:20251101T122201Z
UID:3369-1764172800-1764180000@stjohnscordova.com
SUMMARY:Confirmation
DESCRIPTION:
URL:https://stjohnscordova.com/churchevent/confirmation-113/
END:VEVENT
BEGIN:VEVENT
DTSTART;TZID=America/Chicago:20251126T173000
DTEND;TZID=America/Chicago:20251126T190000
DTSTAMP:20260423T183448
CREATED:20251101T122202Z
LAST-MODIFIED:20251101T122202Z
UID:3371-1764178200-1764183600@stjohnscordova.com
SUMMARY:Sale and Craft Fundraiser
DESCRIPTION:
URL:https://stjohnscordova.com/churchevent/sale-and-craft-fundraiser/
END:VEVENT
BEGIN:VEVENT
DTSTART;TZID=America/Chicago:20251126T190000
DTEND;TZID=America/Chicago:20251126T200000
DTSTAMP:20260423T183448
CREATED:20251101T122202Z
LAST-MODIFIED:20251101T122202Z
UID:3372-1764183600-1764187200@stjohnscordova.com
SUMMARY:Thanksgiving Eve Service
DESCRIPTION:
URL:https://stjohnscordova.com/churchevent/thanksgiving-eve-service-3/
END:VEVENT
BEGIN:VEVENT
DTSTART;TZID=America/Chicago:20251130T090000
DTEND;TZID=America/Chicago:20251130T100000
DTSTAMP:20260423T183448
CREATED:20251101T121555Z
LAST-MODIFIED:20251101T121555Z
UID:3348-1764493200-1764496800@stjohnscordova.com
SUMMARY:Church
DESCRIPTION:
URL:https://stjohnscordova.com/churchevent/church-161/
END:VEVENT
BEGIN:VEVENT
DTSTART;TZID=America/Chicago:20251130T103000
DTEND;TZID=America/Chicago:20251130T113000
DTSTAMP:20260423T183448
CREATED:20251101T121755Z
LAST-MODIFIED:20251101T121755Z
UID:3353-1764498600-1764502200@stjohnscordova.com
SUMMARY:Sunday School & Adult Bible Class
DESCRIPTION:
URL:https://stjohnscordova.com/churchevent/sunday-school-adult-bible-class-156/
END:VEVENT
BEGIN:VEVENT
DTSTART;TZID=America/Chicago:20251201T173000
DTEND;TZID=America/Chicago:20251201T190000
DTSTAMP:20260423T183448
CREATED:20251203T062427Z
LAST-MODIFIED:20251203T062427Z
UID:3457-1764610200-1764615600@stjohnscordova.com
SUMMARY:Lydia LWML
DESCRIPTION:
URL:https://stjohnscordova.com/churchevent/lydia-lwml-39/
END:VEVENT
BEGIN:VEVENT
DTSTART;TZID=America/Chicago:20251203T120000
DTEND;TZID=America/Chicago:20251203T140000
DTSTAMP:20260423T183448
CREATED:20251203T062428Z
LAST-MODIFIED:20251203T062428Z
UID:3458-1764763200-1764770400@stjohnscordova.com
SUMMARY:Dorcas LWML Christmas Party
DESCRIPTION:
URL:https://stjohnscordova.com/churchevent/dorcas-lwml-christmas-party-2/
END:VEVENT
BEGIN:VEVENT
DTSTART;TZID=America/Chicago:20251203T160000
DTEND;TZID=America/Chicago:20251203T180000
DTSTAMP:20260423T183448
CREATED:20251203T062429Z
LAST-MODIFIED:20251203T062429Z
UID:3460-1764777600-1764784800@stjohnscordova.com
SUMMARY:Confirmation
DESCRIPTION:
URL:https://stjohnscordova.com/churchevent/confirmation-114/
END:VEVENT
BEGIN:VEVENT
DTSTART;TZID=America/Chicago:20251203T180000
DTEND;TZID=America/Chicago:20251203T190000
DTSTAMP:20260423T183448
CREATED:20251203T062627Z
LAST-MODIFIED:20251203T062627Z
UID:3464-1764784800-1764788400@stjohnscordova.com
SUMMARY:Advent Meal
DESCRIPTION:
URL:https://stjohnscordova.com/churchevent/advent-meal/
END:VEVENT
BEGIN:VEVENT
DTSTART;TZID=America/Chicago:20251203T190000
DTEND;TZID=America/Chicago:20251203T200000
DTSTAMP:20260423T183448
CREATED:20251203T062828Z
LAST-MODIFIED:20251203T062828Z
UID:3467-1764788400-1764792000@stjohnscordova.com
SUMMARY:Advent Service
DESCRIPTION:
URL:https://stjohnscordova.com/churchevent/advent-service-10/
END:VEVENT
BEGIN:VEVENT
DTSTART;TZID=America/Chicago:20251206T073000
DTEND;TZID=America/Chicago:20251206T083000
DTSTAMP:20260423T183448
CREATED:20251203T062228Z
LAST-MODIFIED:20251203T062228Z
UID:3455-1765006200-1765009800@stjohnscordova.com
SUMMARY:Men's Group Bible Study
DESCRIPTION:
URL:https://stjohnscordova.com/churchevent/mens-group-bible-study-14/
END:VEVENT
BEGIN:VEVENT
DTSTART;TZID=America/Chicago:20251207T085000
DTEND;TZID=America/Chicago:20251207T090000
DTSTAMP:20260423T183448
CREATED:20251203T062218Z
LAST-MODIFIED:20251203T062218Z
UID:3446-1765097400-1765098000@stjohnscordova.com
SUMMARY:Hymn Sing
DESCRIPTION:
URL:https://stjohnscordova.com/churchevent/hymn-sing-41/
END:VEVENT
BEGIN:VEVENT
DTSTART;TZID=America/Chicago:20251207T090000
DTEND;TZID=America/Chicago:20251207T100000
DTSTAMP:20260423T183448
CREATED:20251203T062219Z
LAST-MODIFIED:20251203T062219Z
UID:3447-1765098000-1765101600@stjohnscordova.com
SUMMARY:Church
DESCRIPTION:
URL:https://stjohnscordova.com/churchevent/church-162/
END:VEVENT
BEGIN:VEVENT
DTSTART;TZID=America/Chicago:20251207T103000
DTEND;TZID=America/Chicago:20251207T113000
DTSTAMP:20260423T183448
CREATED:20251203T062225Z
LAST-MODIFIED:20251203T062225Z
UID:3451-1765103400-1765107000@stjohnscordova.com
SUMMARY:Sunday School & Adult Bible Class
DESCRIPTION:
URL:https://stjohnscordova.com/churchevent/sunday-school-adult-bible-class-157/
END:VEVENT
BEGIN:VEVENT
DTSTART;TZID=America/Chicago:20251210T160000
DTEND;TZID=America/Chicago:20251210T180000
DTSTAMP:20260423T183448
CREATED:20251203T062627Z
LAST-MODIFIED:20251203T062627Z
UID:3461-1765382400-1765389600@stjohnscordova.com
SUMMARY:Confirmation
DESCRIPTION:
URL:https://stjohnscordova.com/churchevent/confirmation-115/
END:VEVENT
BEGIN:VEVENT
DTSTART;TZID=America/Chicago:20251210T180000
DTEND;TZID=America/Chicago:20251210T190000
DTSTAMP:20260423T183448
CREATED:20251203T062628Z
LAST-MODIFIED:20251203T062628Z
UID:3465-1765389600-1765393200@stjohnscordova.com
SUMMARY:Advent Meal
DESCRIPTION:
URL:https://stjohnscordova.com/churchevent/advent-meal-2/
END:VEVENT
BEGIN:VEVENT
DTSTART;TZID=America/Chicago:20251210T190000
DTEND;TZID=America/Chicago:20251210T200000
DTSTAMP:20260423T183448
CREATED:20251203T062828Z
LAST-MODIFIED:20251203T062828Z
UID:3468-1765393200-1765396800@stjohnscordova.com
SUMMARY:Advent Service
DESCRIPTION:
URL:https://stjohnscordova.com/churchevent/advent-service-11/
END:VEVENT
BEGIN:VEVENT
DTSTART;TZID=America/Chicago:20251214T090000
DTEND;TZID=America/Chicago:20251214T100000
DTSTAMP:20260423T183448
CREATED:20251203T062220Z
LAST-MODIFIED:20251203T062220Z
UID:3448-1765702800-1765706400@stjohnscordova.com
SUMMARY:Church
DESCRIPTION:
URL:https://stjohnscordova.com/churchevent/church-163/
END:VEVENT
END:VCALENDAR