BEGIN:VCALENDAR
VERSION:2.0
PRODID:-//St. John&#039;s Lutheran Church - Cordova - ECPv6.15.20//NONSGML v1.0//EN
CALSCALE:GREGORIAN
METHOD:PUBLISH
X-WR-CALNAME:St. John&#039;s Lutheran Church - Cordova
X-ORIGINAL-URL:https://stjohnscordova.com
X-WR-CALDESC:Events for St. John&#039;s Lutheran Church - Cordova
REFRESH-INTERVAL;VALUE=DURATION:PT1H
X-Robots-Tag:noindex
X-PUBLISHED-TTL:PT1H
BEGIN:VTIMEZONE
TZID:America/Chicago
BEGIN:DAYLIGHT
TZOFFSETFROM:-0600
TZOFFSETTO:-0500
TZNAME:CDT
DTSTART:20230312T080000
END:DAYLIGHT
BEGIN:STANDARD
TZOFFSETFROM:-0500
TZOFFSETTO:-0600
TZNAME:CST
DTSTART:20231105T070000
END:STANDARD
BEGIN:DAYLIGHT
TZOFFSETFROM:-0600
TZOFFSETTO:-0500
TZNAME:CDT
DTSTART:20240310T080000
END:DAYLIGHT
BEGIN:STANDARD
TZOFFSETFROM:-0500
TZOFFSETTO:-0600
TZNAME:CST
DTSTART:20241103T070000
END:STANDARD
BEGIN:DAYLIGHT
TZOFFSETFROM:-0600
TZOFFSETTO:-0500
TZNAME:CDT
DTSTART:20250309T080000
END:DAYLIGHT
BEGIN:STANDARD
TZOFFSETFROM:-0500
TZOFFSETTO:-0600
TZNAME:CST
DTSTART:20251102T070000
END:STANDARD
END:VTIMEZONE
BEGIN:VEVENT
DTSTART;TZID=America/Chicago:20240305T190000
DTEND;TZID=America/Chicago:20240305T200000
DTSTAMP:20260425T102527
CREATED:20240226T233407Z
LAST-MODIFIED:20240226T233407Z
UID:2267-1709665200-1709668800@stjohnscordova.com
SUMMARY:Elders Meeting
DESCRIPTION:
URL:https://stjohnscordova.com/churchevent/elders-meeting-17/
END:VEVENT
BEGIN:VEVENT
DTSTART;TZID=America/Chicago:20240303T103000
DTEND;TZID=America/Chicago:20240303T113000
DTSTAMP:20260425T102527
CREATED:20240226T233349Z
LAST-MODIFIED:20240226T233349Z
UID:2261-1709461800-1709465400@stjohnscordova.com
SUMMARY:Sunday School & Adult Bible Class
DESCRIPTION:
URL:https://stjohnscordova.com/churchevent/sunday-school-adult-bible-class-69/
END:VEVENT
BEGIN:VEVENT
DTSTART;TZID=America/Chicago:20240303T090000
DTEND;TZID=America/Chicago:20240303T100000
DTSTAMP:20260425T102527
CREATED:20240226T233340Z
LAST-MODIFIED:20240226T233340Z
UID:2255-1709456400-1709460000@stjohnscordova.com
SUMMARY:Church
DESCRIPTION:
URL:https://stjohnscordova.com/churchevent/church-73/
END:VEVENT
BEGIN:VEVENT
DTSTART;TZID=America/Chicago:20240303T085000
DTEND;TZID=America/Chicago:20240303T090000
DTSTAMP:20260425T102527
CREATED:20240226T233338Z
LAST-MODIFIED:20240226T233338Z
UID:2254-1709455800-1709456400@stjohnscordova.com
SUMMARY:Hymn Sing
DESCRIPTION:
URL:https://stjohnscordova.com/churchevent/hymn-sing-19/
END:VEVENT
BEGIN:VEVENT
DTSTART;TZID=America/Chicago:20240301T173000
DTEND;TZID=America/Chicago:20240302T210000
DTSTAMP:20260425T102527
CREATED:20240226T233619Z
LAST-MODIFIED:20240226T233619Z
UID:2275-1709314200-1709413200@stjohnscordova.com
SUMMARY:7th & 8th Grade Confirmation Trip - Camp Luther
DESCRIPTION:
URL:https://stjohnscordova.com/churchevent/7th-8th-grade-confirmation-trip-camp-luther/
END:VEVENT
BEGIN:VEVENT
DTSTART;TZID=America/Chicago:20240228T190000
DTEND;TZID=America/Chicago:20240228T200000
DTSTAMP:20260425T102527
CREATED:20240129T180952Z
LAST-MODIFIED:20240129T180952Z
UID:2235-1709146800-1709150400@stjohnscordova.com
SUMMARY:Lenten Service
DESCRIPTION:
URL:https://stjohnscordova.com/churchevent/lenten-service-6/
END:VEVENT
BEGIN:VEVENT
DTSTART;TZID=America/Chicago:20240228T180000
DTEND;TZID=America/Chicago:20240228T184500
DTSTAMP:20260425T102527
CREATED:20240129T181929Z
LAST-MODIFIED:20240129T181929Z
UID:2246-1709143200-1709145900@stjohnscordova.com
SUMMARY:Lenten Potluck
DESCRIPTION:
URL:https://stjohnscordova.com/churchevent/lenten-potluck-9/
END:VEVENT
BEGIN:VEVENT
DTSTART;TZID=America/Chicago:20240228T160000
DTEND;TZID=America/Chicago:20240228T180000
DTSTAMP:20260425T102527
CREATED:20240129T180916Z
LAST-MODIFIED:20240129T180916Z
UID:2228-1709136000-1709143200@stjohnscordova.com
SUMMARY:Confirmation
DESCRIPTION:
URL:https://stjohnscordova.com/churchevent/confirmation-56/
END:VEVENT
BEGIN:VEVENT
DTSTART;TZID=America/Chicago:20240225T173000
DTEND;TZID=America/Chicago:20240225T210000
DTSTAMP:20260425T102527
CREATED:20240129T180946Z
LAST-MODIFIED:20240129T180946Z
UID:2233-1708882200-1708894800@stjohnscordova.com
SUMMARY:Youth Movie Night
DESCRIPTION:
URL:https://stjohnscordova.com/churchevent/youth-movie-night-3/
END:VEVENT
BEGIN:VEVENT
DTSTART;TZID=America/Chicago:20240225T143000
DTEND;TZID=America/Chicago:20240225T163000
DTSTAMP:20260425T102527
CREATED:20240129T180919Z
LAST-MODIFIED:20240129T180919Z
UID:2232-1708871400-1708878600@stjohnscordova.com
SUMMARY:Devotions at Fairmont
DESCRIPTION:
URL:https://stjohnscordova.com/churchevent/devotions-at-fairmont-14/
END:VEVENT
BEGIN:VEVENT
DTSTART;TZID=America/Chicago:20240225T103000
DTEND;TZID=America/Chicago:20240225T113000
DTSTAMP:20260425T102527
CREATED:20240129T180845Z
LAST-MODIFIED:20240129T180845Z
UID:2221-1708857000-1708860600@stjohnscordova.com
SUMMARY:Sunday School & Adult Bible Class
DESCRIPTION:
URL:https://stjohnscordova.com/churchevent/sunday-school-adult-bible-class-68/
END:VEVENT
BEGIN:VEVENT
DTSTART;TZID=America/Chicago:20240225T090000
DTEND;TZID=America/Chicago:20240225T100000
DTSTAMP:20260425T102527
CREATED:20240129T180838Z
LAST-MODIFIED:20240129T180838Z
UID:2217-1708851600-1708855200@stjohnscordova.com
SUMMARY:Church
DESCRIPTION:
URL:https://stjohnscordova.com/churchevent/church-72/
END:VEVENT
BEGIN:VEVENT
DTSTART;TZID=America/Chicago:20240221T190000
DTEND;TZID=America/Chicago:20240221T200000
DTSTAMP:20260425T102527
CREATED:20240129T180951Z
LAST-MODIFIED:20240129T180951Z
UID:2234-1708542000-1708545600@stjohnscordova.com
SUMMARY:Lenten Service
DESCRIPTION:
URL:https://stjohnscordova.com/churchevent/lenten-service-5/
END:VEVENT
BEGIN:VEVENT
DTSTART;TZID=America/Chicago:20240221T180000
DTEND;TZID=America/Chicago:20240221T184500
DTSTAMP:20260425T102527
CREATED:20240129T181923Z
LAST-MODIFIED:20240129T181923Z
UID:2245-1708538400-1708541100@stjohnscordova.com
SUMMARY:Lenten Potluck
DESCRIPTION:
URL:https://stjohnscordova.com/churchevent/lenten-potluck-8/
END:VEVENT
BEGIN:VEVENT
DTSTART;TZID=America/Chicago:20240221T160000
DTEND;TZID=America/Chicago:20240221T180000
DTSTAMP:20260425T102527
CREATED:20240129T180909Z
LAST-MODIFIED:20240129T180909Z
UID:2227-1708531200-1708538400@stjohnscordova.com
SUMMARY:Confirmation
DESCRIPTION:
URL:https://stjohnscordova.com/churchevent/confirmation-55/
END:VEVENT
BEGIN:VEVENT
DTSTART;TZID=America/Chicago:20240220T190000
DTEND;TZID=America/Chicago:20240220T200000
DTSTAMP:20260425T102527
CREATED:20240129T180917Z
LAST-MODIFIED:20240129T180917Z
UID:2229-1708455600-1708459200@stjohnscordova.com
SUMMARY:Board of Education
DESCRIPTION:
URL:https://stjohnscordova.com/churchevent/board-of-education-18/
END:VEVENT
BEGIN:VEVENT
DTSTART;TZID=America/Chicago:20240218T103000
DTEND;TZID=America/Chicago:20240218T113000
DTSTAMP:20260425T102527
CREATED:20240129T180843Z
LAST-MODIFIED:20240129T180843Z
UID:2220-1708252200-1708255800@stjohnscordova.com
SUMMARY:Sunday School & Adult Bible Class
DESCRIPTION:
URL:https://stjohnscordova.com/churchevent/sunday-school-adult-bible-class-67/
END:VEVENT
BEGIN:VEVENT
DTSTART;TZID=America/Chicago:20240218T090000
DTEND;TZID=America/Chicago:20240218T100000
DTSTAMP:20260425T102527
CREATED:20240129T180836Z
LAST-MODIFIED:20240129T180836Z
UID:2216-1708246800-1708250400@stjohnscordova.com
SUMMARY:Church
DESCRIPTION:
URL:https://stjohnscordova.com/churchevent/church-71/
END:VEVENT
BEGIN:VEVENT
DTSTART;TZID=America/Chicago:20240214T190000
DTEND;TZID=America/Chicago:20240214T200000
DTSTAMP:20260425T102527
CREATED:20240129T180918Z
LAST-MODIFIED:20240129T180918Z
UID:2231-1707937200-1707940800@stjohnscordova.com
SUMMARY:Ash Wednesday Service
DESCRIPTION:
URL:https://stjohnscordova.com/churchevent/ash-wednesday-service-3/
END:VEVENT
BEGIN:VEVENT
DTSTART;TZID=America/Chicago:20240214T180000
DTEND;TZID=America/Chicago:20240214T184500
DTSTAMP:20260425T102527
CREATED:20240129T181922Z
LAST-MODIFIED:20240129T181922Z
UID:2244-1707933600-1707936300@stjohnscordova.com
SUMMARY:Lenten Potluck
DESCRIPTION:
URL:https://stjohnscordova.com/churchevent/lenten-potluck-7/
END:VEVENT
BEGIN:VEVENT
DTSTART;TZID=America/Chicago:20240214T160000
DTEND;TZID=America/Chicago:20240214T180000
DTSTAMP:20260425T102527
CREATED:20240129T180909Z
LAST-MODIFIED:20240129T180909Z
UID:2226-1707926400-1707933600@stjohnscordova.com
SUMMARY:Confirmation
DESCRIPTION:
URL:https://stjohnscordova.com/churchevent/confirmation-54/
END:VEVENT
BEGIN:VEVENT
DTSTART;TZID=America/Chicago:20240212T190000
DTEND;TZID=America/Chicago:20240212T200000
DTSTAMP:20260425T102527
CREATED:20240129T180845Z
LAST-MODIFIED:20240129T180845Z
UID:2222-1707764400-1707768000@stjohnscordova.com
SUMMARY:Lydia LWML
DESCRIPTION:
URL:https://stjohnscordova.com/churchevent/lydia-lwml-16/
END:VEVENT
BEGIN:VEVENT
DTSTART;TZID=America/Chicago:20240211T103000
DTEND;TZID=America/Chicago:20240211T113000
DTSTAMP:20260425T102527
CREATED:20240129T180843Z
LAST-MODIFIED:20240129T180843Z
UID:2219-1707647400-1707651000@stjohnscordova.com
SUMMARY:Sunday School & Adult Bible Class
DESCRIPTION:
URL:https://stjohnscordova.com/churchevent/sunday-school-adult-bible-class-66/
END:VEVENT
BEGIN:VEVENT
DTSTART;TZID=America/Chicago:20240211T100000
DTEND;TZID=America/Chicago:20240211T103000
DTSTAMP:20260425T102527
CREATED:20240129T180918Z
LAST-MODIFIED:20240129T180918Z
UID:2230-1707645600-1707647400@stjohnscordova.com
SUMMARY:Trustees Meeting
DESCRIPTION:
URL:https://stjohnscordova.com/churchevent/trustees-meeting-7/
END:VEVENT
BEGIN:VEVENT
DTSTART;TZID=America/Chicago:20240211T090000
DTEND;TZID=America/Chicago:20240211T100000
DTSTAMP:20260425T102527
CREATED:20240129T180836Z
LAST-MODIFIED:20240129T180836Z
UID:2215-1707642000-1707645600@stjohnscordova.com
SUMMARY:Church
DESCRIPTION:
URL:https://stjohnscordova.com/churchevent/church-70/
END:VEVENT
BEGIN:VEVENT
DTSTART;TZID=America/Chicago:20240207T190000
DTEND;TZID=America/Chicago:20240207T200000
DTSTAMP:20260425T102527
CREATED:20240129T180903Z
LAST-MODIFIED:20240129T180903Z
UID:2224-1707332400-1707336000@stjohnscordova.com
SUMMARY:Elders Meeting
DESCRIPTION:
URL:https://stjohnscordova.com/churchevent/elders-meeting-16/
END:VEVENT
BEGIN:VEVENT
DTSTART;TZID=America/Chicago:20240207T160000
DTEND;TZID=America/Chicago:20240207T180000
DTSTAMP:20260425T102527
CREATED:20240129T180908Z
LAST-MODIFIED:20240129T180908Z
UID:2225-1707321600-1707328800@stjohnscordova.com
SUMMARY:Confirmation
DESCRIPTION:
URL:https://stjohnscordova.com/churchevent/confirmation-53/
END:VEVENT
BEGIN:VEVENT
DTSTART;TZID=America/Chicago:20240207T140000
DTEND;TZID=America/Chicago:20240207T150000
DTSTAMP:20260425T102527
CREATED:20240129T180858Z
LAST-MODIFIED:20240129T180858Z
UID:2223-1707314400-1707318000@stjohnscordova.com
SUMMARY:Dorcas LWML
DESCRIPTION:
URL:https://stjohnscordova.com/churchevent/dorcas-lwml-16/
END:VEVENT
BEGIN:VEVENT
DTSTART;TZID=America/Chicago:20240204T160000
DTEND;TZID=America/Chicago:20240204T173000
DTSTAMP:20260425T102527
CREATED:20240129T180957Z
LAST-MODIFIED:20240129T180957Z
UID:2237-1707062400-1707067800@stjohnscordova.com
SUMMARY:Marriage Seminar
DESCRIPTION:
URL:https://stjohnscordova.com/churchevent/marriage-seminar-5/
END:VEVENT
BEGIN:VEVENT
DTSTART;TZID=America/Chicago:20240204T103000
DTEND;TZID=America/Chicago:20240204T113000
DTSTAMP:20260425T102527
CREATED:20240129T180842Z
LAST-MODIFIED:20240129T180842Z
UID:2218-1707042600-1707046200@stjohnscordova.com
SUMMARY:Sunday School & Adult Bible Class
DESCRIPTION:
URL:https://stjohnscordova.com/churchevent/sunday-school-adult-bible-class-65/
END:VEVENT
END:VCALENDAR