BEGIN:VCALENDAR
VERSION:2.0
PRODID:-//St. John&#039;s Lutheran Church - Cordova - ECPv6.15.20//NONSGML v1.0//EN
CALSCALE:GREGORIAN
METHOD:PUBLISH
X-ORIGINAL-URL:https://stjohnscordova.com
X-WR-CALDESC:Events for St. John&#039;s Lutheran Church - Cordova
REFRESH-INTERVAL;VALUE=DURATION:PT1H
X-Robots-Tag:noindex
X-PUBLISHED-TTL:PT1H
BEGIN:VTIMEZONE
TZID:America/Chicago
BEGIN:DAYLIGHT
TZOFFSETFROM:-0600
TZOFFSETTO:-0500
TZNAME:CDT
DTSTART:20240310T080000
END:DAYLIGHT
BEGIN:STANDARD
TZOFFSETFROM:-0500
TZOFFSETTO:-0600
TZNAME:CST
DTSTART:20241103T070000
END:STANDARD
BEGIN:DAYLIGHT
TZOFFSETFROM:-0600
TZOFFSETTO:-0500
TZNAME:CDT
DTSTART:20250309T080000
END:DAYLIGHT
BEGIN:STANDARD
TZOFFSETFROM:-0500
TZOFFSETTO:-0600
TZNAME:CST
DTSTART:20251102T070000
END:STANDARD
BEGIN:DAYLIGHT
TZOFFSETFROM:-0600
TZOFFSETTO:-0500
TZNAME:CDT
DTSTART:20260308T080000
END:DAYLIGHT
BEGIN:STANDARD
TZOFFSETFROM:-0500
TZOFFSETTO:-0600
TZNAME:CST
DTSTART:20261101T070000
END:STANDARD
END:VTIMEZONE
BEGIN:VEVENT
DTSTART;TZID=America/Chicago:20250413T103000
DTEND;TZID=America/Chicago:20250413T113000
DTSTAMP:20260425T082842
CREATED:20250402T031152Z
LAST-MODIFIED:20250402T031152Z
UID:2898-1744540200-1744543800@stjohnscordova.com
SUMMARY:Sunday School & Adult Bible Class w/ Keim Presentation
DESCRIPTION:
URL:https://stjohnscordova.com/churchevent/sunday-school-adult-bible-class-w-keim-presentation/
END:VEVENT
BEGIN:VEVENT
DTSTART;TZID=America/Chicago:20250415T130000
DTEND;TZID=America/Chicago:20250415T173000
DTSTAMP:20260425T082842
CREATED:20250402T031501Z
LAST-MODIFIED:20250402T031501Z
UID:2921-1744722000-1744738200@stjohnscordova.com
SUMMARY:Pastor's walk-in hours
DESCRIPTION:
URL:https://stjohnscordova.com/churchevent/pastors-walk-in-hours-7/
END:VEVENT
BEGIN:VEVENT
DTSTART;TZID=America/Chicago:20250415T190000
DTEND;TZID=America/Chicago:20250415T200000
DTSTAMP:20260425T082842
CREATED:20250402T031208Z
LAST-MODIFIED:20250402T031208Z
UID:2904-1744743600-1744747200@stjohnscordova.com
SUMMARY:Board of Education
DESCRIPTION:
URL:https://stjohnscordova.com/churchevent/board-of-education-32/
END:VEVENT
BEGIN:VEVENT
DTSTART;TZID=America/Chicago:20250416T160000
DTEND;TZID=America/Chicago:20250416T180000
DTSTAMP:20260425T082842
CREATED:20250402T031408Z
LAST-MODIFIED:20250402T031408Z
UID:2908-1744819200-1744826400@stjohnscordova.com
SUMMARY:Confirmation
DESCRIPTION:
URL:https://stjohnscordova.com/churchevent/confirmation-99/
END:VEVENT
BEGIN:VEVENT
DTSTART;TZID=America/Chicago:20250417T190000
DTEND;TZID=America/Chicago:20250417T200000
DTSTAMP:20260425T082842
CREATED:20250402T031446Z
LAST-MODIFIED:20250402T031446Z
UID:2917-1744916400-1744920000@stjohnscordova.com
SUMMARY:Maundy Thursday Service
DESCRIPTION:
URL:https://stjohnscordova.com/churchevent/maundy-thursday-service-3/
END:VEVENT
BEGIN:VEVENT
DTSTART;TZID=America/Chicago:20250418T190000
DTEND;TZID=America/Chicago:20250418T200000
DTSTAMP:20260425T082842
CREATED:20250402T031447Z
LAST-MODIFIED:20250402T031447Z
UID:2918-1745002800-1745006400@stjohnscordova.com
SUMMARY:Good Friday Service
DESCRIPTION:
URL:https://stjohnscordova.com/churchevent/good-friday-service-3/
END:VEVENT
BEGIN:VEVENT
DTSTART;TZID=America/Chicago:20250420T073000
DTEND;TZID=America/Chicago:20250420T083000
DTSTAMP:20260425T082842
CREATED:20250402T031516Z
LAST-MODIFIED:20250402T031516Z
UID:2926-1745134200-1745137800@stjohnscordova.com
SUMMARY:Easter Breakfast by the Youth
DESCRIPTION:
URL:https://stjohnscordova.com/churchevent/easter-breakfast-by-the-youth/
END:VEVENT
BEGIN:VEVENT
DTSTART;TZID=America/Chicago:20250420T090000
DTEND;TZID=America/Chicago:20250420T100000
DTSTAMP:20260425T082842
CREATED:20250402T031147Z
LAST-MODIFIED:20250402T031147Z
UID:2895-1745139600-1745143200@stjohnscordova.com
SUMMARY:Church
DESCRIPTION:
URL:https://stjohnscordova.com/churchevent/church-131/
END:VEVENT
BEGIN:VEVENT
DTSTART;TZID=America/Chicago:20250422T130000
DTEND;TZID=America/Chicago:20250422T173000
DTSTAMP:20260425T082842
CREATED:20250402T031502Z
LAST-MODIFIED:20250402T031502Z
UID:2922-1745326800-1745343000@stjohnscordova.com
SUMMARY:Pastor's walk-in hours
DESCRIPTION:
URL:https://stjohnscordova.com/churchevent/pastors-walk-in-hours-8/
END:VEVENT
BEGIN:VEVENT
DTSTART;TZID=America/Chicago:20250423T160000
DTEND;TZID=America/Chicago:20250423T180000
DTSTAMP:20260425T082842
CREATED:20250402T031409Z
LAST-MODIFIED:20250402T031409Z
UID:2909-1745424000-1745431200@stjohnscordova.com
SUMMARY:Confirmation
DESCRIPTION:
URL:https://stjohnscordova.com/churchevent/confirmation-100/
END:VEVENT
BEGIN:VEVENT
DTSTART;TZID=America/Chicago:20250423T200000
DTEND;TZID=America/Chicago:20250423T210000
DTSTAMP:20260425T082842
CREATED:20250402T031503Z
LAST-MODIFIED:20250402T031503Z
UID:2924-1745438400-1745442000@stjohnscordova.com
SUMMARY:Church Council Meeting
DESCRIPTION:
URL:https://stjohnscordova.com/churchevent/church-council-meeting-3/
END:VEVENT
BEGIN:VEVENT
DTSTART;TZID=America/Chicago:20250427T090000
DTEND;TZID=America/Chicago:20250427T100000
DTSTAMP:20260425T082842
CREATED:20250402T031151Z
LAST-MODIFIED:20250402T031151Z
UID:2896-1745744400-1745748000@stjohnscordova.com
SUMMARY:Church
DESCRIPTION:
URL:https://stjohnscordova.com/churchevent/church-132/
END:VEVENT
BEGIN:VEVENT
DTSTART;TZID=America/Chicago:20250427T103000
DTEND;TZID=America/Chicago:20250427T113000
DTSTAMP:20260425T082842
CREATED:20250402T031152Z
LAST-MODIFIED:20250402T031152Z
UID:2899-1745749800-1745753400@stjohnscordova.com
SUMMARY:Sunday School & Adult Bible Class
DESCRIPTION:
URL:https://stjohnscordova.com/churchevent/sunday-school-adult-bible-class-127/
END:VEVENT
BEGIN:VEVENT
DTSTART;TZID=America/Chicago:20250427T113000
DTEND;TZID=America/Chicago:20250427T133000
DTSTAMP:20260425T082842
CREATED:20250402T031503Z
LAST-MODIFIED:20250402T031503Z
UID:2925-1745753400-1745760600@stjohnscordova.com
SUMMARY:Potluck & Quarterly Voters' Meeting
DESCRIPTION:
URL:https://stjohnscordova.com/churchevent/potluck-quarterly-voters-meeting-3/
END:VEVENT
BEGIN:VEVENT
DTSTART;TZID=America/Chicago:20250427T143000
DTEND;TZID=America/Chicago:20250427T163000
DTSTAMP:20260425T082842
CREATED:20250402T031208Z
LAST-MODIFIED:20250402T031208Z
UID:2905-1745764200-1745771400@stjohnscordova.com
SUMMARY:Devotions at Fairmont
DESCRIPTION:
URL:https://stjohnscordova.com/churchevent/devotions-at-fairmont-29/
END:VEVENT
BEGIN:VEVENT
DTSTART;TZID=America/Chicago:20250427T170000
DTEND;TZID=America/Chicago:20250427T190000
DTSTAMP:20260425T082842
CREATED:20250402T031431Z
LAST-MODIFIED:20250402T031431Z
UID:2911-1745773200-1745780400@stjohnscordova.com
SUMMARY:High School Night
DESCRIPTION:
URL:https://stjohnscordova.com/churchevent/high-school-night-6/
END:VEVENT
BEGIN:VEVENT
DTSTART;TZID=America/Chicago:20250429T130000
DTEND;TZID=America/Chicago:20250429T173000
DTSTAMP:20260425T082842
CREATED:20250402T031502Z
LAST-MODIFIED:20250402T031502Z
UID:2923-1745931600-1745947800@stjohnscordova.com
SUMMARY:Pastor's walk-in hours
DESCRIPTION:
URL:https://stjohnscordova.com/churchevent/pastors-walk-in-hours-9/
END:VEVENT
BEGIN:VEVENT
DTSTART;TZID=America/Chicago:20250430T160000
DTEND;TZID=America/Chicago:20250430T180000
DTSTAMP:20260425T082842
CREATED:20250402T031410Z
LAST-MODIFIED:20250402T031410Z
UID:2910-1746028800-1746036000@stjohnscordova.com
SUMMARY:Confirmation
DESCRIPTION:
URL:https://stjohnscordova.com/churchevent/confirmation-101/
END:VEVENT
BEGIN:VEVENT
DTSTART;TZID=America/Chicago:20250503T073000
DTEND;TZID=America/Chicago:20250503T083000
DTSTAMP:20260425T082842
CREATED:20250504T115453Z
LAST-MODIFIED:20250504T115453Z
UID:2938-1746257400-1746261000@stjohnscordova.com
SUMMARY:Men's Group Bible Study
DESCRIPTION:
URL:https://stjohnscordova.com/churchevent/mens-group-bible-study-8/
END:VEVENT
BEGIN:VEVENT
DTSTART;TZID=America/Chicago:20250504T085000
DTEND;TZID=America/Chicago:20250504T090000
DTSTAMP:20260425T082842
CREATED:20250504T115451Z
LAST-MODIFIED:20250504T115451Z
UID:2935-1746348600-1746349200@stjohnscordova.com
SUMMARY:Hymn Sing
DESCRIPTION:
URL:https://stjohnscordova.com/churchevent/hymn-sing-34/
END:VEVENT
BEGIN:VEVENT
DTSTART;TZID=America/Chicago:20250504T090000
DTEND;TZID=America/Chicago:20250504T100000
DTSTAMP:20260425T082842
CREATED:20250504T115452Z
LAST-MODIFIED:20250504T115452Z
UID:2936-1746349200-1746352800@stjohnscordova.com
SUMMARY:Church
DESCRIPTION:
URL:https://stjohnscordova.com/churchevent/church-133/
END:VEVENT
BEGIN:VEVENT
DTSTART;TZID=America/Chicago:20250504T103000
DTEND;TZID=America/Chicago:20250504T113000
DTSTAMP:20260425T082842
CREATED:20250504T115457Z
LAST-MODIFIED:20250504T115457Z
UID:2941-1746354600-1746358200@stjohnscordova.com
SUMMARY:Sunday School & Adult Bible Class
DESCRIPTION:
URL:https://stjohnscordova.com/churchevent/sunday-school-adult-bible-class-128/
END:VEVENT
BEGIN:VEVENT
DTSTART;TZID=America/Chicago:20250505T180000
DTEND;TZID=America/Chicago:20250505T190000
DTSTAMP:20260425T082842
CREATED:20250504T115512Z
LAST-MODIFIED:20250504T115512Z
UID:2945-1746468000-1746471600@stjohnscordova.com
SUMMARY:Lydia LWML
DESCRIPTION:
URL:https://stjohnscordova.com/churchevent/lydia-lwml-32/
END:VEVENT
BEGIN:VEVENT
DTSTART;TZID=America/Chicago:20250506T130000
DTEND;TZID=America/Chicago:20250506T173000
DTSTAMP:20260425T082842
CREATED:20250504T115530Z
LAST-MODIFIED:20250504T115530Z
UID:2952-1746536400-1746552600@stjohnscordova.com
SUMMARY:Pastor's walk-in hours
DESCRIPTION:
URL:https://stjohnscordova.com/churchevent/pastors-walk-in-hours-10/
END:VEVENT
BEGIN:VEVENT
DTSTART;TZID=America/Chicago:20250507T140000
DTEND;TZID=America/Chicago:20250507T150000
DTSTAMP:20260425T082842
CREATED:20250504T115513Z
LAST-MODIFIED:20250504T115513Z
UID:2946-1746626400-1746630000@stjohnscordova.com
SUMMARY:Dorcas LWML
DESCRIPTION:
URL:https://stjohnscordova.com/churchevent/dorcas-lwml-30/
END:VEVENT
BEGIN:VEVENT
DTSTART;TZID=America/Chicago:20250507T160000
DTEND;TZID=America/Chicago:20250507T180000
DTSTAMP:20260425T082842
CREATED:20250504T115529Z
LAST-MODIFIED:20250504T115529Z
UID:2950-1746633600-1746640800@stjohnscordova.com
SUMMARY:Confirmation
DESCRIPTION:
URL:https://stjohnscordova.com/churchevent/confirmation-102/
END:VEVENT
BEGIN:VEVENT
DTSTART;TZID=America/Chicago:20250507T190000
DTEND;TZID=America/Chicago:20250507T200000
DTSTAMP:20260425T082842
CREATED:20250504T115513Z
LAST-MODIFIED:20250504T115513Z
UID:2947-1746644400-1746648000@stjohnscordova.com
SUMMARY:Elders Meeting
DESCRIPTION:
URL:https://stjohnscordova.com/churchevent/elders-meeting-32/
END:VEVENT
BEGIN:VEVENT
DTSTART;TZID=America/Chicago:20250511T090000
DTEND;TZID=America/Chicago:20250511T100000
DTSTAMP:20260425T082842
CREATED:20250504T115452Z
LAST-MODIFIED:20250504T115452Z
UID:2937-1746954000-1746957600@stjohnscordova.com
SUMMARY:Church
DESCRIPTION:
URL:https://stjohnscordova.com/churchevent/church-134/
END:VEVENT
BEGIN:VEVENT
DTSTART;TZID=America/Chicago:20250511T100000
DTEND;TZID=America/Chicago:20250511T103000
DTSTAMP:20260425T082842
CREATED:20250504T115458Z
LAST-MODIFIED:20250504T115458Z
UID:2944-1746957600-1746959400@stjohnscordova.com
SUMMARY:Trutees Meeting
DESCRIPTION:
URL:https://stjohnscordova.com/churchevent/trutees-meeting-12/
END:VEVENT
BEGIN:VEVENT
DTSTART;TZID=America/Chicago:20250511T103000
DTEND;TZID=America/Chicago:20250511T113000
DTSTAMP:20260425T082842
CREATED:20250504T115458Z
LAST-MODIFIED:20250504T115458Z
UID:2942-1746959400-1746963000@stjohnscordova.com
SUMMARY:Sunday School & Adult Bible Class
DESCRIPTION:
URL:https://stjohnscordova.com/churchevent/sunday-school-adult-bible-class-129/
END:VEVENT
END:VCALENDAR