BEGIN:VCALENDAR
VERSION:2.0
PRODID:-//St. John&#039;s Lutheran Church - Cordova - ECPv6.15.20//NONSGML v1.0//EN
CALSCALE:GREGORIAN
METHOD:PUBLISH
X-WR-CALNAME:St. John&#039;s Lutheran Church - Cordova
X-ORIGINAL-URL:https://stjohnscordova.com
X-WR-CALDESC:Events for St. John&#039;s Lutheran Church - Cordova
REFRESH-INTERVAL;VALUE=DURATION:PT1H
X-Robots-Tag:noindex
X-PUBLISHED-TTL:PT1H
BEGIN:VTIMEZONE
TZID:America/Chicago
BEGIN:DAYLIGHT
TZOFFSETFROM:-0600
TZOFFSETTO:-0500
TZNAME:CDT
DTSTART:20230312T080000
END:DAYLIGHT
BEGIN:STANDARD
TZOFFSETFROM:-0500
TZOFFSETTO:-0600
TZNAME:CST
DTSTART:20231105T070000
END:STANDARD
BEGIN:DAYLIGHT
TZOFFSETFROM:-0600
TZOFFSETTO:-0500
TZNAME:CDT
DTSTART:20240310T080000
END:DAYLIGHT
BEGIN:STANDARD
TZOFFSETFROM:-0500
TZOFFSETTO:-0600
TZNAME:CST
DTSTART:20241103T070000
END:STANDARD
BEGIN:DAYLIGHT
TZOFFSETFROM:-0600
TZOFFSETTO:-0500
TZNAME:CDT
DTSTART:20250309T080000
END:DAYLIGHT
BEGIN:STANDARD
TZOFFSETFROM:-0500
TZOFFSETTO:-0600
TZNAME:CST
DTSTART:20251102T070000
END:STANDARD
END:VTIMEZONE
BEGIN:VEVENT
DTSTART;TZID=America/Chicago:20240128T113000
DTEND;TZID=America/Chicago:20240128T133000
DTSTAMP:20260425T113732
CREATED:20240104T025229Z
LAST-MODIFIED:20240104T025229Z
UID:2171-1706441400-1706448600@stjohnscordova.com
SUMMARY:Potluck & Quarterly Voters' Meeting
DESCRIPTION:
URL:https://stjohnscordova.com/churchevent/potluck-quarterly-voters-meeting-2/
END:VEVENT
BEGIN:VEVENT
DTSTART;TZID=America/Chicago:20240128T103000
DTEND;TZID=America/Chicago:20240128T113000
DTSTAMP:20260425T113732
CREATED:20240104T025230Z
LAST-MODIFIED:20240104T025230Z
UID:2172-1706437800-1706441400@stjohnscordova.com
SUMMARY:Sunday School & Adult Bible Class
DESCRIPTION:
URL:https://stjohnscordova.com/churchevent/sunday-school-adult-bible-class-64/
END:VEVENT
BEGIN:VEVENT
DTSTART;TZID=America/Chicago:20240128T090000
DTEND;TZID=America/Chicago:20240128T100000
DTSTAMP:20260425T113732
CREATED:20240104T025223Z
LAST-MODIFIED:20240104T025223Z
UID:2167-1706432400-1706436000@stjohnscordova.com
SUMMARY:Church
DESCRIPTION:
URL:https://stjohnscordova.com/churchevent/church-68/
END:VEVENT
BEGIN:VEVENT
DTSTART;TZID=America/Chicago:20240126T170000
DTEND;TZID=America/Chicago:20240126T200000
DTSTAMP:20260425T113732
CREATED:20250101T043604Z
LAST-MODIFIED:20250101T043604Z
UID:2754-1706288400-1706299200@stjohnscordova.com
SUMMARY:High School Night
DESCRIPTION:
URL:https://stjohnscordova.com/churchevent/high-school-night-2/
END:VEVENT
BEGIN:VEVENT
DTSTART;TZID=America/Chicago:20240126T113000
DTEND;TZID=America/Chicago:20240126T140000
DTSTAMP:20260425T113732
CREATED:20250101T043604Z
LAST-MODIFIED:20250101T043604Z
UID:2752-1706268600-1706277600@stjohnscordova.com
SUMMARY:Voters' Meeting and Youth Fundraiser
DESCRIPTION:
URL:https://stjohnscordova.com/churchevent/voters-meeting-and-youth-fundraiser/
END:VEVENT
BEGIN:VEVENT
DTSTART;TZID=America/Chicago:20240126T103000
DTEND;TZID=America/Chicago:20240126T113000
DTSTAMP:20260425T113732
CREATED:20250101T043209Z
LAST-MODIFIED:20250101T043209Z
UID:2740-1706265000-1706268600@stjohnscordova.com
SUMMARY:Sunday School & Adult Bible Class
DESCRIPTION:
URL:https://stjohnscordova.com/churchevent/sunday-school-adult-bible-class-112/
END:VEVENT
BEGIN:VEVENT
DTSTART;TZID=America/Chicago:20240126T090000
DTEND;TZID=America/Chicago:20240126T100000
DTSTAMP:20260425T113732
CREATED:20250101T043206Z
LAST-MODIFIED:20250101T043206Z
UID:2735-1706259600-1706263200@stjohnscordova.com
SUMMARY:Church
DESCRIPTION:
URL:https://stjohnscordova.com/churchevent/church-115/
END:VEVENT
BEGIN:VEVENT
DTSTART;TZID=America/Chicago:20240124T200000
DTEND;TZID=America/Chicago:20240124T210000
DTSTAMP:20260425T113732
CREATED:20240104T025246Z
LAST-MODIFIED:20240104T025246Z
UID:2177-1706126400-1706130000@stjohnscordova.com
SUMMARY:Church Council
DESCRIPTION:
URL:https://stjohnscordova.com/churchevent/church-council-4/
END:VEVENT
BEGIN:VEVENT
DTSTART;TZID=America/Chicago:20240124T190000
DTEND;TZID=America/Chicago:20240124T200000
DTSTAMP:20260425T113732
CREATED:20240104T025245Z
LAST-MODIFIED:20240104T025245Z
UID:2176-1706122800-1706126400@stjohnscordova.com
SUMMARY:Elders Meeting
DESCRIPTION:
URL:https://stjohnscordova.com/churchevent/elders-meeting-15/
END:VEVENT
BEGIN:VEVENT
DTSTART;TZID=America/Chicago:20240124T160000
DTEND;TZID=America/Chicago:20240124T180000
DTSTAMP:20260425T113732
CREATED:20240104T025323Z
LAST-MODIFIED:20240104T025323Z
UID:2185-1706112000-1706119200@stjohnscordova.com
SUMMARY:Confirmation
DESCRIPTION:
URL:https://stjohnscordova.com/churchevent/confirmation-51/
END:VEVENT
BEGIN:VEVENT
DTSTART;TZID=America/Chicago:20240122T200000
DTEND;TZID=America/Chicago:20240122T210000
DTSTAMP:20260425T113732
CREATED:20250101T043603Z
LAST-MODIFIED:20250101T043603Z
UID:2751-1705953600-1705957200@stjohnscordova.com
SUMMARY:Church Council
DESCRIPTION:
URL:https://stjohnscordova.com/churchevent/church-council-8/
END:VEVENT
BEGIN:VEVENT
DTSTART;TZID=America/Chicago:20240122T160000
DTEND;TZID=America/Chicago:20240122T180000
DTSTAMP:20260425T113732
CREATED:20250101T043506Z
LAST-MODIFIED:20250101T043506Z
UID:2748-1705939200-1705946400@stjohnscordova.com
SUMMARY:Confirmation
DESCRIPTION:
URL:https://stjohnscordova.com/churchevent/confirmation-83/
END:VEVENT
BEGIN:VEVENT
DTSTART;TZID=America/Chicago:20240121T190000
DTEND;TZID=America/Chicago:20240121T200000
DTSTAMP:20260425T113732
CREATED:20250101T043408Z
LAST-MODIFIED:20250101T043408Z
UID:2744-1705863600-1705867200@stjohnscordova.com
SUMMARY:Board of Education
DESCRIPTION:
URL:https://stjohnscordova.com/churchevent/board-of-education-28/
END:VEVENT
BEGIN:VEVENT
DTSTART;TZID=America/Chicago:20240121T160000
DTEND;TZID=America/Chicago:20240121T173000
DTSTAMP:20260425T113732
CREATED:20240104T025337Z
LAST-MODIFIED:20240104T025337Z
UID:2189-1705852800-1705858200@stjohnscordova.com
SUMMARY:Marriage Seminar
DESCRIPTION:
URL:https://stjohnscordova.com/churchevent/marriage-seminar-3/
END:VEVENT
BEGIN:VEVENT
DTSTART;TZID=America/Chicago:20240121T103000
DTEND;TZID=America/Chicago:20240121T113000
DTSTAMP:20260425T113732
CREATED:20240104T025228Z
LAST-MODIFIED:20240104T025228Z
UID:2170-1705833000-1705836600@stjohnscordova.com
SUMMARY:Sunday School & Adult Bible Class
DESCRIPTION:
URL:https://stjohnscordova.com/churchevent/sunday-school-adult-bible-class-63/
END:VEVENT
BEGIN:VEVENT
DTSTART;TZID=America/Chicago:20240121T090000
DTEND;TZID=America/Chicago:20240121T100000
DTSTAMP:20260425T113732
CREATED:20240104T025221Z
LAST-MODIFIED:20240104T025221Z
UID:2166-1705827600-1705831200@stjohnscordova.com
SUMMARY:Church
DESCRIPTION:
URL:https://stjohnscordova.com/churchevent/church-67/
END:VEVENT
BEGIN:VEVENT
DTSTART;TZID=America/Chicago:20240119T143000
DTEND;TZID=America/Chicago:20240119T163000
DTSTAMP:20260425T113732
CREATED:20250101T043409Z
LAST-MODIFIED:20250101T043409Z
UID:2745-1705674600-1705681800@stjohnscordova.com
SUMMARY:Devotions at Fairmont
DESCRIPTION:
URL:https://stjohnscordova.com/churchevent/devotions-at-fairmont-25/
END:VEVENT
BEGIN:VEVENT
DTSTART;TZID=America/Chicago:20240119T103000
DTEND;TZID=America/Chicago:20240119T113000
DTSTAMP:20260425T113732
CREATED:20250101T043209Z
LAST-MODIFIED:20250101T043209Z
UID:2739-1705660200-1705663800@stjohnscordova.com
SUMMARY:Sunday School & Adult Bible Class
DESCRIPTION:
URL:https://stjohnscordova.com/churchevent/sunday-school-adult-bible-class-111/
END:VEVENT
BEGIN:VEVENT
DTSTART;TZID=America/Chicago:20240119T090000
DTEND;TZID=America/Chicago:20240119T100000
DTSTAMP:20260425T113732
CREATED:20250101T043201Z
LAST-MODIFIED:20250101T043201Z
UID:2734-1705654800-1705658400@stjohnscordova.com
SUMMARY:Church
DESCRIPTION:
URL:https://stjohnscordova.com/churchevent/church-114/
END:VEVENT
BEGIN:VEVENT
DTSTART;TZID=America/Chicago:20240118T190000
DTEND;TZID=America/Chicago:20240118T200000
DTSTAMP:20260425T113732
CREATED:20240104T025306Z
LAST-MODIFIED:20240104T025306Z
UID:2178-1705604400-1705608000@stjohnscordova.com
SUMMARY:KIT and Friendly Members
DESCRIPTION:
URL:https://stjohnscordova.com/churchevent/kit-and-friendly-members-3/
END:VEVENT
BEGIN:VEVENT
DTSTART;TZID=America/Chicago:20240117T160000
DTEND;TZID=America/Chicago:20240117T180000
DTSTAMP:20260425T113732
CREATED:20240104T025323Z
LAST-MODIFIED:20240104T025323Z
UID:2184-1705507200-1705514400@stjohnscordova.com
SUMMARY:Confirmation
DESCRIPTION:
URL:https://stjohnscordova.com/churchevent/confirmation-50/
END:VEVENT
BEGIN:VEVENT
DTSTART;TZID=America/Chicago:20240116T190000
DTEND;TZID=America/Chicago:20240116T200000
DTSTAMP:20260425T113732
CREATED:20240104T025309Z
LAST-MODIFIED:20240104T025309Z
UID:2181-1705431600-1705435200@stjohnscordova.com
SUMMARY:Board of Education
DESCRIPTION:
URL:https://stjohnscordova.com/churchevent/board-of-education-17/
END:VEVENT
BEGIN:VEVENT
DTSTART;TZID=America/Chicago:20240115T160000
DTEND;TZID=America/Chicago:20240115T180000
DTSTAMP:20260425T113732
CREATED:20250101T043505Z
LAST-MODIFIED:20250101T043505Z
UID:2747-1705334400-1705341600@stjohnscordova.com
SUMMARY:Confirmation
DESCRIPTION:
URL:https://stjohnscordova.com/churchevent/confirmation-82/
END:VEVENT
BEGIN:VEVENT
DTSTART;VALUE=DATE:20240114
DTEND;VALUE=DATE:20240115
DTSTAMP:20260425T113732
CREATED:20240113T155539Z
LAST-MODIFIED:20240113T155539Z
UID:2203-1705190400-1705276799@stjohnscordova.com
SUMMARY:Canceled - Weather
DESCRIPTION:Due to the weather\, we are canceling all St. John’s activities – worship service\, Sunday School and marriage seminar on January 14. Stay safe and God’s blessings!
URL:https://stjohnscordova.com/churchevent/canceled-weather/
END:VEVENT
BEGIN:VEVENT
DTSTART;TZID=America/Chicago:20240112T103000
DTEND;TZID=America/Chicago:20240112T113000
DTSTAMP:20260425T113732
CREATED:20250101T043207Z
LAST-MODIFIED:20250101T043207Z
UID:2737-1705055400-1705059000@stjohnscordova.com
SUMMARY:Sunday School & Adult Bible Class
DESCRIPTION:
URL:https://stjohnscordova.com/churchevent/sunday-school-adult-bible-class-110/
END:VEVENT
BEGIN:VEVENT
DTSTART;TZID=America/Chicago:20240112T100000
DTEND;TZID=America/Chicago:20240112T110000
DTSTAMP:20260425T113732
CREATED:20250101T043407Z
LAST-MODIFIED:20250101T043407Z
UID:2741-1705053600-1705057200@stjohnscordova.com
SUMMARY:Trutees Meeting
DESCRIPTION:
URL:https://stjohnscordova.com/churchevent/trutees-meeting-7/
END:VEVENT
BEGIN:VEVENT
DTSTART;TZID=America/Chicago:20240112T090000
DTEND;TZID=America/Chicago:20240112T100000
DTSTAMP:20260425T113732
CREATED:20250101T043200Z
LAST-MODIFIED:20250101T043200Z
UID:2732-1705050000-1705053600@stjohnscordova.com
SUMMARY:Church
DESCRIPTION:
URL:https://stjohnscordova.com/churchevent/church-113/
END:VEVENT
BEGIN:VEVENT
DTSTART;TZID=America/Chicago:20240110T190000
DTEND;TZID=America/Chicago:20240110T200000
DTSTAMP:20260425T113732
CREATED:20240104T025309Z
LAST-MODIFIED:20240104T025309Z
UID:2180-1704913200-1704916800@stjohnscordova.com
SUMMARY:Small Group Study
DESCRIPTION:
URL:https://stjohnscordova.com/churchevent/small-group-study-25/
END:VEVENT
BEGIN:VEVENT
DTSTART;TZID=America/Chicago:20240110T160000
DTEND;TZID=America/Chicago:20240110T180000
DTSTAMP:20260425T113732
CREATED:20240104T025321Z
LAST-MODIFIED:20240104T025321Z
UID:2183-1704902400-1704909600@stjohnscordova.com
SUMMARY:Confirmation
DESCRIPTION:
URL:https://stjohnscordova.com/churchevent/confirmation-49/
END:VEVENT
BEGIN:VEVENT
DTSTART;TZID=America/Chicago:20240110T133000
DTEND;TZID=America/Chicago:20240110T143000
DTSTAMP:20260425T113732
CREATED:20240104T025306Z
LAST-MODIFIED:20240104T025306Z
UID:2179-1704893400-1704897000@stjohnscordova.com
SUMMARY:Small Group Study
DESCRIPTION:
URL:https://stjohnscordova.com/churchevent/small-group-study-24/
END:VEVENT
END:VCALENDAR