BEGIN:VCALENDAR
VERSION:2.0
PRODID:-//St. John&#039;s Lutheran Church - Cordova - ECPv6.15.20//NONSGML v1.0//EN
CALSCALE:GREGORIAN
METHOD:PUBLISH
X-WR-CALNAME:St. John&#039;s Lutheran Church - Cordova
X-ORIGINAL-URL:https://stjohnscordova.com
X-WR-CALDESC:Events for St. John&#039;s Lutheran Church - Cordova
REFRESH-INTERVAL;VALUE=DURATION:PT1H
X-Robots-Tag:noindex
X-PUBLISHED-TTL:PT1H
BEGIN:VTIMEZONE
TZID:America/Chicago
BEGIN:DAYLIGHT
TZOFFSETFROM:-0600
TZOFFSETTO:-0500
TZNAME:CDT
DTSTART:20230312T080000
END:DAYLIGHT
BEGIN:STANDARD
TZOFFSETFROM:-0500
TZOFFSETTO:-0600
TZNAME:CST
DTSTART:20231105T070000
END:STANDARD
BEGIN:DAYLIGHT
TZOFFSETFROM:-0600
TZOFFSETTO:-0500
TZNAME:CDT
DTSTART:20240310T080000
END:DAYLIGHT
BEGIN:STANDARD
TZOFFSETFROM:-0500
TZOFFSETTO:-0600
TZNAME:CST
DTSTART:20241103T070000
END:STANDARD
BEGIN:DAYLIGHT
TZOFFSETFROM:-0600
TZOFFSETTO:-0500
TZNAME:CDT
DTSTART:20250309T080000
END:DAYLIGHT
BEGIN:STANDARD
TZOFFSETFROM:-0500
TZOFFSETTO:-0600
TZNAME:CST
DTSTART:20251102T070000
END:STANDARD
END:VTIMEZONE
BEGIN:VEVENT
DTSTART;TZID=America/Chicago:20240328T190000
DTEND;TZID=America/Chicago:20240328T200000
DTSTAMP:20260425T100512
CREATED:20240226T233820Z
LAST-MODIFIED:20240226T233820Z
UID:2282-1711652400-1711656000@stjohnscordova.com
SUMMARY:Maundy Thursday Service
DESCRIPTION:
URL:https://stjohnscordova.com/churchevent/maundy-thursday-service-2/
END:VEVENT
BEGIN:VEVENT
DTSTART;TZID=America/Chicago:20240327T160000
DTEND;TZID=America/Chicago:20240327T180000
DTSTAMP:20260425T100512
CREATED:20240226T233420Z
LAST-MODIFIED:20240226T233420Z
UID:2271-1711555200-1711562400@stjohnscordova.com
SUMMARY:Confirmation
DESCRIPTION:
URL:https://stjohnscordova.com/churchevent/confirmation-60/
END:VEVENT
BEGIN:VEVENT
DTSTART;TZID=America/Chicago:20240324T143000
DTEND;TZID=America/Chicago:20240324T163000
DTSTAMP:20260425T100512
CREATED:20240226T233619Z
LAST-MODIFIED:20240226T233619Z
UID:2274-1711290600-1711297800@stjohnscordova.com
SUMMARY:Devotions at Fairmont
DESCRIPTION:
URL:https://stjohnscordova.com/churchevent/devotions-at-fairmont-15/
END:VEVENT
BEGIN:VEVENT
DTSTART;TZID=America/Chicago:20240324T103000
DTEND;TZID=America/Chicago:20240324T113000
DTSTAMP:20260425T100512
CREATED:20240226T233404Z
LAST-MODIFIED:20240226T233404Z
UID:2264-1711276200-1711279800@stjohnscordova.com
SUMMARY:Sunday School & Adult Bible Class
DESCRIPTION:
URL:https://stjohnscordova.com/churchevent/sunday-school-adult-bible-class-72/
END:VEVENT
BEGIN:VEVENT
DTSTART;TZID=America/Chicago:20240324T090000
DTEND;TZID=America/Chicago:20240324T100000
DTSTAMP:20260425T100512
CREATED:20240226T233343Z
LAST-MODIFIED:20240226T233343Z
UID:2258-1711270800-1711274400@stjohnscordova.com
SUMMARY:Palm Sunday Service
DESCRIPTION:
URL:https://stjohnscordova.com/churchevent/palm-sunday-service-2/
END:VEVENT
BEGIN:VEVENT
DTSTART;TZID=America/Chicago:20240320T190000
DTEND;TZID=America/Chicago:20240320T200000
DTSTAMP:20260425T100512
CREATED:20240226T233620Z
LAST-MODIFIED:20240226T233620Z
UID:2278-1710961200-1710964800@stjohnscordova.com
SUMMARY:Lenten Service
DESCRIPTION:
URL:https://stjohnscordova.com/churchevent/lenten-service-9/
END:VEVENT
BEGIN:VEVENT
DTSTART;TZID=America/Chicago:20240320T180000
DTEND;TZID=America/Chicago:20240320T183000
DTSTAMP:20260425T100512
CREATED:20240226T233820Z
LAST-MODIFIED:20240226T234213Z
UID:2281-1710957600-1710959400@stjohnscordova.com
SUMMARY:Lenten Supper
DESCRIPTION:
URL:https://stjohnscordova.com/churchevent/lenten-supper-3/
END:VEVENT
BEGIN:VEVENT
DTSTART;TZID=America/Chicago:20240320T160000
DTEND;TZID=America/Chicago:20240320T180000
DTSTAMP:20260425T100512
CREATED:20240226T233419Z
LAST-MODIFIED:20240226T233419Z
UID:2270-1710950400-1710957600@stjohnscordova.com
SUMMARY:Confirmation
DESCRIPTION:
URL:https://stjohnscordova.com/churchevent/confirmation-59/
END:VEVENT
BEGIN:VEVENT
DTSTART;TZID=America/Chicago:20240319T190000
DTEND;TZID=America/Chicago:20240319T200000
DTSTAMP:20260425T100512
CREATED:20240226T233421Z
LAST-MODIFIED:20240226T233421Z
UID:2272-1710874800-1710878400@stjohnscordova.com
SUMMARY:Board of Education
DESCRIPTION:
URL:https://stjohnscordova.com/churchevent/board-of-education-19/
END:VEVENT
BEGIN:VEVENT
DTSTART;TZID=America/Chicago:20240317T103000
DTEND;TZID=America/Chicago:20240317T113000
DTSTAMP:20260425T100512
CREATED:20240226T233351Z
LAST-MODIFIED:20240226T233351Z
UID:2263-1710671400-1710675000@stjohnscordova.com
SUMMARY:Sunday School & Adult Bible Class
DESCRIPTION:
URL:https://stjohnscordova.com/churchevent/sunday-school-adult-bible-class-71/
END:VEVENT
BEGIN:VEVENT
DTSTART;TZID=America/Chicago:20240317T090000
DTEND;TZID=America/Chicago:20240317T100000
DTSTAMP:20260425T100512
CREATED:20240226T233342Z
LAST-MODIFIED:20240226T233342Z
UID:2257-1710666000-1710669600@stjohnscordova.com
SUMMARY:Church
DESCRIPTION:
URL:https://stjohnscordova.com/churchevent/church-75/
END:VEVENT
BEGIN:VEVENT
DTSTART;TZID=America/Chicago:20240316T170000
DTEND;TZID=America/Chicago:20240316T235900
DTSTAMP:20260425T100512
CREATED:20240226T234019Z
LAST-MODIFIED:20240226T234019Z
UID:2284-1710608400-1710633540@stjohnscordova.com
SUMMARY:Youth Lock-In
DESCRIPTION:
URL:https://stjohnscordova.com/churchevent/youth-lock-in-4/
END:VEVENT
BEGIN:VEVENT
DTSTART;TZID=America/Chicago:20240313T190000
DTEND;TZID=America/Chicago:20240313T200000
DTSTAMP:20260425T100512
CREATED:20240226T233620Z
LAST-MODIFIED:20240226T233620Z
UID:2277-1710356400-1710360000@stjohnscordova.com
SUMMARY:Lenten Service
DESCRIPTION:
URL:https://stjohnscordova.com/churchevent/lenten-service-8/
END:VEVENT
BEGIN:VEVENT
DTSTART;TZID=America/Chicago:20240313T180000
DTEND;TZID=America/Chicago:20240313T183000
DTSTAMP:20260425T100512
CREATED:20240226T233819Z
LAST-MODIFIED:20240226T234221Z
UID:2280-1710352800-1710354600@stjohnscordova.com
SUMMARY:Lenten Supper
DESCRIPTION:
URL:https://stjohnscordova.com/churchevent/lenten-supper-2/
END:VEVENT
BEGIN:VEVENT
DTSTART;TZID=America/Chicago:20240313T160000
DTEND;TZID=America/Chicago:20240313T180000
DTSTAMP:20260425T100512
CREATED:20240226T233419Z
LAST-MODIFIED:20240226T233419Z
UID:2269-1710345600-1710352800@stjohnscordova.com
SUMMARY:Confirmation
DESCRIPTION:
URL:https://stjohnscordova.com/churchevent/confirmation-58/
END:VEVENT
BEGIN:VEVENT
DTSTART;TZID=America/Chicago:20240311T190000
DTEND;TZID=America/Chicago:20240311T200000
DTSTAMP:20260425T100512
CREATED:20240226T233405Z
LAST-MODIFIED:20240226T233405Z
UID:2265-1710183600-1710187200@stjohnscordova.com
SUMMARY:Lydia LWML
DESCRIPTION:
URL:https://stjohnscordova.com/churchevent/lydia-lwml-17/
END:VEVENT
BEGIN:VEVENT
DTSTART;TZID=America/Chicago:20240310T103000
DTEND;TZID=America/Chicago:20240310T113000
DTSTAMP:20260425T100512
CREATED:20240226T233350Z
LAST-MODIFIED:20240226T233350Z
UID:2262-1710066600-1710070200@stjohnscordova.com
SUMMARY:Sunday School & Adult Bible Class
DESCRIPTION:
URL:https://stjohnscordova.com/churchevent/sunday-school-adult-bible-class-70/
END:VEVENT
BEGIN:VEVENT
DTSTART;TZID=America/Chicago:20240310T100000
DTEND;TZID=America/Chicago:20240310T103000
DTSTAMP:20260425T100512
CREATED:20240226T233421Z
LAST-MODIFIED:20240226T233421Z
UID:2273-1710064800-1710066600@stjohnscordova.com
SUMMARY:Trustees Meeting
DESCRIPTION:
URL:https://stjohnscordova.com/churchevent/trustees-meeting-8/
END:VEVENT
BEGIN:VEVENT
DTSTART;TZID=America/Chicago:20240310T090000
DTEND;TZID=America/Chicago:20240310T100000
DTSTAMP:20260425T100512
CREATED:20240226T233341Z
LAST-MODIFIED:20240226T233341Z
UID:2256-1710061200-1710064800@stjohnscordova.com
SUMMARY:Church
DESCRIPTION:
URL:https://stjohnscordova.com/churchevent/church-74/
END:VEVENT
BEGIN:VEVENT
DTSTART;TZID=America/Chicago:20240306T190000
DTEND;TZID=America/Chicago:20240306T200000
DTSTAMP:20260425T100512
CREATED:20240226T233619Z
LAST-MODIFIED:20240226T233619Z
UID:2276-1709751600-1709755200@stjohnscordova.com
SUMMARY:Lenten Service
DESCRIPTION:
URL:https://stjohnscordova.com/churchevent/lenten-service-7/
END:VEVENT
BEGIN:VEVENT
DTSTART;TZID=America/Chicago:20240306T180000
DTEND;TZID=America/Chicago:20240306T183000
DTSTAMP:20260425T100512
CREATED:20240226T233819Z
LAST-MODIFIED:20240226T234228Z
UID:2279-1709748000-1709749800@stjohnscordova.com
SUMMARY:Lenten Supper
DESCRIPTION:
URL:https://stjohnscordova.com/churchevent/lenten-supper/
END:VEVENT
BEGIN:VEVENT
DTSTART;TZID=America/Chicago:20240306T160000
DTEND;TZID=America/Chicago:20240306T180000
DTSTAMP:20260425T100512
CREATED:20240226T233407Z
LAST-MODIFIED:20240226T233407Z
UID:2268-1709740800-1709748000@stjohnscordova.com
SUMMARY:Confirmation
DESCRIPTION:
URL:https://stjohnscordova.com/churchevent/confirmation-57/
END:VEVENT
BEGIN:VEVENT
DTSTART;TZID=America/Chicago:20240306T140000
DTEND;TZID=America/Chicago:20240306T150000
DTSTAMP:20260425T100512
CREATED:20240226T233406Z
LAST-MODIFIED:20240226T233406Z
UID:2266-1709733600-1709737200@stjohnscordova.com
SUMMARY:Dorcas LWML
DESCRIPTION:
URL:https://stjohnscordova.com/churchevent/dorcas-lwml-17/
END:VEVENT
BEGIN:VEVENT
DTSTART;TZID=America/Chicago:20240305T190000
DTEND;TZID=America/Chicago:20240305T200000
DTSTAMP:20260425T100512
CREATED:20240226T233407Z
LAST-MODIFIED:20240226T233407Z
UID:2267-1709665200-1709668800@stjohnscordova.com
SUMMARY:Elders Meeting
DESCRIPTION:
URL:https://stjohnscordova.com/churchevent/elders-meeting-17/
END:VEVENT
BEGIN:VEVENT
DTSTART;TZID=America/Chicago:20240303T103000
DTEND;TZID=America/Chicago:20240303T113000
DTSTAMP:20260425T100512
CREATED:20240226T233349Z
LAST-MODIFIED:20240226T233349Z
UID:2261-1709461800-1709465400@stjohnscordova.com
SUMMARY:Sunday School & Adult Bible Class
DESCRIPTION:
URL:https://stjohnscordova.com/churchevent/sunday-school-adult-bible-class-69/
END:VEVENT
BEGIN:VEVENT
DTSTART;TZID=America/Chicago:20240303T090000
DTEND;TZID=America/Chicago:20240303T100000
DTSTAMP:20260425T100512
CREATED:20240226T233340Z
LAST-MODIFIED:20240226T233340Z
UID:2255-1709456400-1709460000@stjohnscordova.com
SUMMARY:Church
DESCRIPTION:
URL:https://stjohnscordova.com/churchevent/church-73/
END:VEVENT
BEGIN:VEVENT
DTSTART;TZID=America/Chicago:20240303T085000
DTEND;TZID=America/Chicago:20240303T090000
DTSTAMP:20260425T100512
CREATED:20240226T233338Z
LAST-MODIFIED:20240226T233338Z
UID:2254-1709455800-1709456400@stjohnscordova.com
SUMMARY:Hymn Sing
DESCRIPTION:
URL:https://stjohnscordova.com/churchevent/hymn-sing-19/
END:VEVENT
BEGIN:VEVENT
DTSTART;TZID=America/Chicago:20240301T173000
DTEND;TZID=America/Chicago:20240302T210000
DTSTAMP:20260425T100512
CREATED:20240226T233619Z
LAST-MODIFIED:20240226T233619Z
UID:2275-1709314200-1709413200@stjohnscordova.com
SUMMARY:7th & 8th Grade Confirmation Trip - Camp Luther
DESCRIPTION:
URL:https://stjohnscordova.com/churchevent/7th-8th-grade-confirmation-trip-camp-luther/
END:VEVENT
BEGIN:VEVENT
DTSTART;TZID=America/Chicago:20240228T190000
DTEND;TZID=America/Chicago:20240228T200000
DTSTAMP:20260425T100512
CREATED:20240129T180952Z
LAST-MODIFIED:20240129T180952Z
UID:2235-1709146800-1709150400@stjohnscordova.com
SUMMARY:Lenten Service
DESCRIPTION:
URL:https://stjohnscordova.com/churchevent/lenten-service-6/
END:VEVENT
BEGIN:VEVENT
DTSTART;TZID=America/Chicago:20240228T180000
DTEND;TZID=America/Chicago:20240228T184500
DTSTAMP:20260425T100512
CREATED:20240129T181929Z
LAST-MODIFIED:20240129T181929Z
UID:2246-1709143200-1709145900@stjohnscordova.com
SUMMARY:Lenten Potluck
DESCRIPTION:
URL:https://stjohnscordova.com/churchevent/lenten-potluck-9/
END:VEVENT
END:VCALENDAR