BEGIN:VCALENDAR
VERSION:2.0
PRODID:-//St. John&#039;s Lutheran Church - Cordova - ECPv6.15.20//NONSGML v1.0//EN
CALSCALE:GREGORIAN
METHOD:PUBLISH
X-WR-CALNAME:St. John&#039;s Lutheran Church - Cordova
X-ORIGINAL-URL:https://stjohnscordova.com
X-WR-CALDESC:Events for St. John&#039;s Lutheran Church - Cordova
REFRESH-INTERVAL;VALUE=DURATION:PT1H
X-Robots-Tag:noindex
X-PUBLISHED-TTL:PT1H
BEGIN:VTIMEZONE
TZID:America/Chicago
BEGIN:DAYLIGHT
TZOFFSETFROM:-0600
TZOFFSETTO:-0500
TZNAME:CDT
DTSTART:20230312T080000
END:DAYLIGHT
BEGIN:STANDARD
TZOFFSETFROM:-0500
TZOFFSETTO:-0600
TZNAME:CST
DTSTART:20231105T070000
END:STANDARD
BEGIN:DAYLIGHT
TZOFFSETFROM:-0600
TZOFFSETTO:-0500
TZNAME:CDT
DTSTART:20240310T080000
END:DAYLIGHT
BEGIN:STANDARD
TZOFFSETFROM:-0500
TZOFFSETTO:-0600
TZNAME:CST
DTSTART:20241103T070000
END:STANDARD
BEGIN:DAYLIGHT
TZOFFSETFROM:-0600
TZOFFSETTO:-0500
TZNAME:CDT
DTSTART:20250309T080000
END:DAYLIGHT
BEGIN:STANDARD
TZOFFSETFROM:-0500
TZOFFSETTO:-0600
TZNAME:CST
DTSTART:20251102T070000
END:STANDARD
END:VTIMEZONE
BEGIN:VEVENT
DTSTART;TZID=America/Chicago:20240616T103000
DTEND;TZID=America/Chicago:20240616T113000
DTSTAMP:20260425T082547
CREATED:20240527T184445Z
LAST-MODIFIED:20240527T184445Z
UID:2393-1718533800-1718537400@stjohnscordova.com
SUMMARY:Sunday School & Adult Bible Class
DESCRIPTION:
URL:https://stjohnscordova.com/churchevent/sunday-school-adult-bible-class-82/
END:VEVENT
BEGIN:VEVENT
DTSTART;TZID=America/Chicago:20240616T090000
DTEND;TZID=America/Chicago:20240616T100000
DTSTAMP:20260425T082547
CREATED:20240527T184436Z
LAST-MODIFIED:20240527T184436Z
UID:2388-1718528400-1718532000@stjohnscordova.com
SUMMARY:Church
DESCRIPTION:
URL:https://stjohnscordova.com/churchevent/church-85/
END:VEVENT
BEGIN:VEVENT
DTSTART;TZID=America/Chicago:20240613T190000
DTEND;TZID=America/Chicago:20240613T200000
DTSTAMP:20260425T082547
CREATED:20240527T184615Z
LAST-MODIFIED:20240527T184615Z
UID:2400-1718305200-1718308800@stjohnscordova.com
SUMMARY:Elders Meeting
DESCRIPTION:
URL:https://stjohnscordova.com/churchevent/elders-meeting-20/
END:VEVENT
BEGIN:VEVENT
DTSTART;TZID=America/Chicago:20240612T190000
DTEND;TZID=America/Chicago:20240612T200000
DTSTAMP:20260425T082547
CREATED:20240527T184500Z
LAST-MODIFIED:20240527T184500Z
UID:2399-1718218800-1718222400@stjohnscordova.com
SUMMARY:Small Group
DESCRIPTION:
URL:https://stjohnscordova.com/churchevent/small-group-8/
END:VEVENT
BEGIN:VEVENT
DTSTART;TZID=America/Chicago:20240612T133000
DTEND;TZID=America/Chicago:20240612T143000
DTSTAMP:20260425T082547
CREATED:20240527T184459Z
LAST-MODIFIED:20240527T184459Z
UID:2398-1718199000-1718202600@stjohnscordova.com
SUMMARY:Small Group
DESCRIPTION:
URL:https://stjohnscordova.com/churchevent/small-group-7/
END:VEVENT
BEGIN:VEVENT
DTSTART;TZID=America/Chicago:20240609T103000
DTEND;TZID=America/Chicago:20240609T113000
DTSTAMP:20260425T082547
CREATED:20240527T184444Z
LAST-MODIFIED:20240527T184444Z
UID:2392-1717929000-1717932600@stjohnscordova.com
SUMMARY:Sunday School & Adult Bible Class
DESCRIPTION:
URL:https://stjohnscordova.com/churchevent/sunday-school-adult-bible-class-81/
END:VEVENT
BEGIN:VEVENT
DTSTART;TZID=America/Chicago:20240609T100000
DTEND;TZID=America/Chicago:20240609T103000
DTSTAMP:20260425T082547
CREATED:20240527T184617Z
LAST-MODIFIED:20240527T184617Z
UID:2402-1717927200-1717929000@stjohnscordova.com
SUMMARY:Trustees Meeting
DESCRIPTION:
URL:https://stjohnscordova.com/churchevent/trustees-meeting-11/
END:VEVENT
BEGIN:VEVENT
DTSTART;TZID=America/Chicago:20240609T090000
DTEND;TZID=America/Chicago:20240609T100000
DTSTAMP:20260425T082547
CREATED:20240527T184435Z
LAST-MODIFIED:20240527T184435Z
UID:2387-1717923600-1717927200@stjohnscordova.com
SUMMARY:Church
DESCRIPTION:
URL:https://stjohnscordova.com/churchevent/church-84/
END:VEVENT
BEGIN:VEVENT
DTSTART;TZID=America/Chicago:20240605T140000
DTEND;TZID=America/Chicago:20240605T150000
DTSTAMP:20260425T082547
CREATED:20240527T184459Z
LAST-MODIFIED:20240527T184459Z
UID:2397-1717596000-1717599600@stjohnscordova.com
SUMMARY:Dorcas LWML
DESCRIPTION:
URL:https://stjohnscordova.com/churchevent/dorcas-lwml-20/
END:VEVENT
BEGIN:VEVENT
DTSTART;TZID=America/Chicago:20240603T190000
DTEND;TZID=America/Chicago:20240603T200000
DTSTAMP:20260425T082547
CREATED:20240527T184458Z
LAST-MODIFIED:20240527T184458Z
UID:2396-1717441200-1717444800@stjohnscordova.com
SUMMARY:Lydia LWML
DESCRIPTION:
URL:https://stjohnscordova.com/churchevent/lydia-lwml-20/
END:VEVENT
BEGIN:VEVENT
DTSTART;TZID=America/Chicago:20240602T103000
DTEND;TZID=America/Chicago:20240602T113000
DTSTAMP:20260425T082547
CREATED:20240527T184443Z
LAST-MODIFIED:20240527T184443Z
UID:2391-1717324200-1717327800@stjohnscordova.com
SUMMARY:Sunday School & Adult Bible Class
DESCRIPTION:
URL:https://stjohnscordova.com/churchevent/sunday-school-adult-bible-class-80/
END:VEVENT
BEGIN:VEVENT
DTSTART;TZID=America/Chicago:20240602T090000
DTEND;TZID=America/Chicago:20240602T100000
DTSTAMP:20260425T082547
CREATED:20240527T184435Z
LAST-MODIFIED:20240527T184435Z
UID:2386-1717318800-1717322400@stjohnscordova.com
SUMMARY:Church
DESCRIPTION:
URL:https://stjohnscordova.com/churchevent/church-83/
END:VEVENT
BEGIN:VEVENT
DTSTART;TZID=America/Chicago:20240602T085000
DTEND;TZID=America/Chicago:20240602T090000
DTSTAMP:20260425T082547
CREATED:20240527T184433Z
LAST-MODIFIED:20240527T184433Z
UID:2385-1717318200-1717318800@stjohnscordova.com
SUMMARY:Hymn Sing
DESCRIPTION:
URL:https://stjohnscordova.com/churchevent/hymn-sing-22/
END:VEVENT
BEGIN:VEVENT
DTSTART;TZID=America/Chicago:20240526T143000
DTEND;TZID=America/Chicago:20240526T163000
DTSTAMP:20260425T082547
CREATED:20240501T155404Z
LAST-MODIFIED:20240501T155404Z
UID:2382-1716733800-1716741000@stjohnscordova.com
SUMMARY:Devotions at Fairmont
DESCRIPTION:
URL:https://stjohnscordova.com/churchevent/devotions-at-fairmont-17/
END:VEVENT
BEGIN:VEVENT
DTSTART;TZID=America/Chicago:20240526T103000
DTEND;TZID=America/Chicago:20240526T113000
DTSTAMP:20260425T082547
CREATED:20240501T155333Z
LAST-MODIFIED:20240501T155333Z
UID:2373-1716719400-1716723000@stjohnscordova.com
SUMMARY:Sunday School & Adult Bible Class
DESCRIPTION:
URL:https://stjohnscordova.com/churchevent/sunday-school-adult-bible-class-79/
END:VEVENT
BEGIN:VEVENT
DTSTART;TZID=America/Chicago:20240526T090000
DTEND;TZID=America/Chicago:20240526T100000
DTSTAMP:20260425T082547
CREATED:20240501T155330Z
LAST-MODIFIED:20240501T155330Z
UID:2370-1716714000-1716717600@stjohnscordova.com
SUMMARY:Church
DESCRIPTION:
URL:https://stjohnscordova.com/churchevent/church-82/
END:VEVENT
BEGIN:VEVENT
DTSTART;TZID=America/Chicago:20240521T190000
DTEND;TZID=America/Chicago:20240521T200000
DTSTAMP:20260425T082547
CREATED:20240501T155350Z
LAST-MODIFIED:20240501T155350Z
UID:2380-1716318000-1716321600@stjohnscordova.com
SUMMARY:Board of Education
DESCRIPTION:
URL:https://stjohnscordova.com/churchevent/board-of-education-21/
END:VEVENT
BEGIN:VEVENT
DTSTART;TZID=America/Chicago:20240519T090000
DTEND;TZID=America/Chicago:20240519T100000
DTSTAMP:20260425T082547
CREATED:20240501T155329Z
LAST-MODIFIED:20240501T155329Z
UID:2369-1716109200-1716112800@stjohnscordova.com
SUMMARY:Church - Confirmation Sunday
DESCRIPTION:
URL:https://stjohnscordova.com/churchevent/church-confirmation-sunday/
END:VEVENT
BEGIN:VEVENT
DTSTART;TZID=America/Chicago:20240512T103000
DTEND;TZID=America/Chicago:20240512T113000
DTSTAMP:20260425T082547
CREATED:20240501T155333Z
LAST-MODIFIED:20240501T155333Z
UID:2372-1715509800-1715513400@stjohnscordova.com
SUMMARY:Sunday School & Adult Bible Class
DESCRIPTION:
URL:https://stjohnscordova.com/churchevent/sunday-school-adult-bible-class-78/
END:VEVENT
BEGIN:VEVENT
DTSTART;TZID=America/Chicago:20240512T100000
DTEND;TZID=America/Chicago:20240512T103000
DTSTAMP:20260425T082547
CREATED:20240501T155403Z
LAST-MODIFIED:20240501T155403Z
UID:2381-1715508000-1715509800@stjohnscordova.com
SUMMARY:Trustees Meeting
DESCRIPTION:
URL:https://stjohnscordova.com/churchevent/trustees-meeting-10/
END:VEVENT
BEGIN:VEVENT
DTSTART;TZID=America/Chicago:20240512T090000
DTEND;TZID=America/Chicago:20240512T100000
DTSTAMP:20260425T082547
CREATED:20240501T155328Z
LAST-MODIFIED:20240501T155328Z
UID:2368-1715504400-1715508000@stjohnscordova.com
SUMMARY:Church
DESCRIPTION:
URL:https://stjohnscordova.com/churchevent/church-81/
END:VEVENT
BEGIN:VEVENT
DTSTART;TZID=America/Chicago:20240509T190000
DTEND;TZID=America/Chicago:20240509T200000
DTSTAMP:20260425T082547
CREATED:20240501T155349Z
LAST-MODIFIED:20240501T155349Z
UID:2378-1715281200-1715284800@stjohnscordova.com
SUMMARY:Elders Meeting
DESCRIPTION:
URL:https://stjohnscordova.com/churchevent/elders-meeting-19/
END:VEVENT
BEGIN:VEVENT
DTSTART;TZID=America/Chicago:20240508T190000
DTEND;TZID=America/Chicago:20240508T200000
DTSTAMP:20260425T082547
CREATED:20240501T155349Z
LAST-MODIFIED:20240501T155349Z
UID:2377-1715194800-1715198400@stjohnscordova.com
SUMMARY:Small Group
DESCRIPTION:
URL:https://stjohnscordova.com/churchevent/small-group-6/
END:VEVENT
BEGIN:VEVENT
DTSTART;TZID=America/Chicago:20240508T133000
DTEND;TZID=America/Chicago:20240508T143000
DTSTAMP:20260425T082547
CREATED:20240501T155348Z
LAST-MODIFIED:20240501T155348Z
UID:2376-1715175000-1715178600@stjohnscordova.com
SUMMARY:Small Group
DESCRIPTION:
URL:https://stjohnscordova.com/churchevent/small-group-5/
END:VEVENT
BEGIN:VEVENT
DTSTART;TZID=America/Chicago:20240506T190000
DTEND;TZID=America/Chicago:20240506T200000
DTSTAMP:20260425T082547
CREATED:20240501T155334Z
LAST-MODIFIED:20240501T155334Z
UID:2374-1715022000-1715025600@stjohnscordova.com
SUMMARY:Lydia LWML
DESCRIPTION:
URL:https://stjohnscordova.com/churchevent/lydia-lwml-19/
END:VEVENT
BEGIN:VEVENT
DTSTART;TZID=America/Chicago:20240505T103000
DTEND;TZID=America/Chicago:20240505T113000
DTSTAMP:20260425T082547
CREATED:20240501T155332Z
LAST-MODIFIED:20240501T155332Z
UID:2371-1714905000-1714908600@stjohnscordova.com
SUMMARY:Sunday School & Adult Bible Class
DESCRIPTION:
URL:https://stjohnscordova.com/churchevent/sunday-school-adult-bible-class-77/
END:VEVENT
BEGIN:VEVENT
DTSTART;TZID=America/Chicago:20240505T090000
DTEND;TZID=America/Chicago:20240505T100000
DTSTAMP:20260425T082547
CREATED:20240501T155327Z
LAST-MODIFIED:20240501T155327Z
UID:2367-1714899600-1714903200@stjohnscordova.com
SUMMARY:Church
DESCRIPTION:
URL:https://stjohnscordova.com/churchevent/church-80/
END:VEVENT
BEGIN:VEVENT
DTSTART;TZID=America/Chicago:20240505T085000
DTEND;TZID=America/Chicago:20240505T090000
DTSTAMP:20260425T082547
CREATED:20240501T155326Z
LAST-MODIFIED:20240501T155326Z
UID:2366-1714899000-1714899600@stjohnscordova.com
SUMMARY:Hymn Sing
DESCRIPTION:
URL:https://stjohnscordova.com/churchevent/hymn-sing-21/
END:VEVENT
BEGIN:VEVENT
DTSTART;TZID=America/Chicago:20240501T160000
DTEND;TZID=America/Chicago:20240501T180000
DTSTAMP:20260425T082547
CREATED:20240501T155350Z
LAST-MODIFIED:20240501T155350Z
UID:2379-1714579200-1714586400@stjohnscordova.com
SUMMARY:Confirmation - Last Class
DESCRIPTION:
URL:https://stjohnscordova.com/churchevent/confirmation-last-class/
END:VEVENT
BEGIN:VEVENT
DTSTART;TZID=America/Chicago:20240501T140000
DTEND;TZID=America/Chicago:20240501T150000
DTSTAMP:20260425T082547
CREATED:20240501T155334Z
LAST-MODIFIED:20240501T155334Z
UID:2375-1714572000-1714575600@stjohnscordova.com
SUMMARY:Dorcas LWML
DESCRIPTION:
URL:https://stjohnscordova.com/churchevent/dorcas-lwml-19/
END:VEVENT
END:VCALENDAR