BEGIN:VCALENDAR
VERSION:2.0
PRODID:-//St. John&#039;s Lutheran Church - Cordova - ECPv6.15.20//NONSGML v1.0//EN
CALSCALE:GREGORIAN
METHOD:PUBLISH
X-WR-CALNAME:St. John&#039;s Lutheran Church - Cordova
X-ORIGINAL-URL:https://stjohnscordova.com
X-WR-CALDESC:Events for St. John&#039;s Lutheran Church - Cordova
REFRESH-INTERVAL;VALUE=DURATION:PT1H
X-Robots-Tag:noindex
X-PUBLISHED-TTL:PT1H
BEGIN:VTIMEZONE
TZID:America/Chicago
BEGIN:DAYLIGHT
TZOFFSETFROM:-0600
TZOFFSETTO:-0500
TZNAME:CDT
DTSTART:20220313T080000
END:DAYLIGHT
BEGIN:STANDARD
TZOFFSETFROM:-0500
TZOFFSETTO:-0600
TZNAME:CST
DTSTART:20221106T070000
END:STANDARD
BEGIN:DAYLIGHT
TZOFFSETFROM:-0600
TZOFFSETTO:-0500
TZNAME:CDT
DTSTART:20230312T080000
END:DAYLIGHT
BEGIN:STANDARD
TZOFFSETFROM:-0500
TZOFFSETTO:-0600
TZNAME:CST
DTSTART:20231105T070000
END:STANDARD
BEGIN:DAYLIGHT
TZOFFSETFROM:-0600
TZOFFSETTO:-0500
TZNAME:CDT
DTSTART:20240310T080000
END:DAYLIGHT
BEGIN:STANDARD
TZOFFSETFROM:-0500
TZOFFSETTO:-0600
TZNAME:CST
DTSTART:20241103T070000
END:STANDARD
BEGIN:DAYLIGHT
TZOFFSETFROM:-0600
TZOFFSETTO:-0500
TZNAME:CDT
DTSTART:20250309T080000
END:DAYLIGHT
BEGIN:STANDARD
TZOFFSETFROM:-0500
TZOFFSETTO:-0600
TZNAME:CST
DTSTART:20251102T070000
END:STANDARD
END:VTIMEZONE
BEGIN:VEVENT
DTSTART;TZID=America/Chicago:20240118T190000
DTEND;TZID=America/Chicago:20240118T200000
DTSTAMP:20260425T191454
CREATED:20240104T025306Z
LAST-MODIFIED:20240104T025306Z
UID:2178-1705604400-1705608000@stjohnscordova.com
SUMMARY:KIT and Friendly Members
DESCRIPTION:
URL:https://stjohnscordova.com/churchevent/kit-and-friendly-members-3/
END:VEVENT
BEGIN:VEVENT
DTSTART;TZID=America/Chicago:20240117T160000
DTEND;TZID=America/Chicago:20240117T180000
DTSTAMP:20260425T191454
CREATED:20240104T025323Z
LAST-MODIFIED:20240104T025323Z
UID:2184-1705507200-1705514400@stjohnscordova.com
SUMMARY:Confirmation
DESCRIPTION:
URL:https://stjohnscordova.com/churchevent/confirmation-50/
END:VEVENT
BEGIN:VEVENT
DTSTART;TZID=America/Chicago:20240116T190000
DTEND;TZID=America/Chicago:20240116T200000
DTSTAMP:20260425T191454
CREATED:20240104T025309Z
LAST-MODIFIED:20240104T025309Z
UID:2181-1705431600-1705435200@stjohnscordova.com
SUMMARY:Board of Education
DESCRIPTION:
URL:https://stjohnscordova.com/churchevent/board-of-education-17/
END:VEVENT
BEGIN:VEVENT
DTSTART;TZID=America/Chicago:20240115T160000
DTEND;TZID=America/Chicago:20240115T180000
DTSTAMP:20260425T191454
CREATED:20250101T043505Z
LAST-MODIFIED:20250101T043505Z
UID:2747-1705334400-1705341600@stjohnscordova.com
SUMMARY:Confirmation
DESCRIPTION:
URL:https://stjohnscordova.com/churchevent/confirmation-82/
END:VEVENT
BEGIN:VEVENT
DTSTART;VALUE=DATE:20240114
DTEND;VALUE=DATE:20240115
DTSTAMP:20260425T191454
CREATED:20240113T155539Z
LAST-MODIFIED:20240113T155539Z
UID:2203-1705190400-1705276799@stjohnscordova.com
SUMMARY:Canceled - Weather
DESCRIPTION:Due to the weather\, we are canceling all St. John’s activities – worship service\, Sunday School and marriage seminar on January 14. Stay safe and God’s blessings!
URL:https://stjohnscordova.com/churchevent/canceled-weather/
END:VEVENT
BEGIN:VEVENT
DTSTART;TZID=America/Chicago:20240112T103000
DTEND;TZID=America/Chicago:20240112T113000
DTSTAMP:20260425T191454
CREATED:20250101T043207Z
LAST-MODIFIED:20250101T043207Z
UID:2737-1705055400-1705059000@stjohnscordova.com
SUMMARY:Sunday School & Adult Bible Class
DESCRIPTION:
URL:https://stjohnscordova.com/churchevent/sunday-school-adult-bible-class-110/
END:VEVENT
BEGIN:VEVENT
DTSTART;TZID=America/Chicago:20240112T100000
DTEND;TZID=America/Chicago:20240112T110000
DTSTAMP:20260425T191454
CREATED:20250101T043407Z
LAST-MODIFIED:20250101T043407Z
UID:2741-1705053600-1705057200@stjohnscordova.com
SUMMARY:Trutees Meeting
DESCRIPTION:
URL:https://stjohnscordova.com/churchevent/trutees-meeting-7/
END:VEVENT
BEGIN:VEVENT
DTSTART;TZID=America/Chicago:20240112T090000
DTEND;TZID=America/Chicago:20240112T100000
DTSTAMP:20260425T191454
CREATED:20250101T043200Z
LAST-MODIFIED:20250101T043200Z
UID:2732-1705050000-1705053600@stjohnscordova.com
SUMMARY:Church
DESCRIPTION:
URL:https://stjohnscordova.com/churchevent/church-113/
END:VEVENT
BEGIN:VEVENT
DTSTART;TZID=America/Chicago:20240110T190000
DTEND;TZID=America/Chicago:20240110T200000
DTSTAMP:20260425T191454
CREATED:20240104T025309Z
LAST-MODIFIED:20240104T025309Z
UID:2180-1704913200-1704916800@stjohnscordova.com
SUMMARY:Small Group Study
DESCRIPTION:
URL:https://stjohnscordova.com/churchevent/small-group-study-25/
END:VEVENT
BEGIN:VEVENT
DTSTART;TZID=America/Chicago:20240110T160000
DTEND;TZID=America/Chicago:20240110T180000
DTSTAMP:20260425T191454
CREATED:20240104T025321Z
LAST-MODIFIED:20240104T025321Z
UID:2183-1704902400-1704909600@stjohnscordova.com
SUMMARY:Confirmation
DESCRIPTION:
URL:https://stjohnscordova.com/churchevent/confirmation-49/
END:VEVENT
BEGIN:VEVENT
DTSTART;TZID=America/Chicago:20240110T133000
DTEND;TZID=America/Chicago:20240110T143000
DTSTAMP:20260425T191454
CREATED:20240104T025306Z
LAST-MODIFIED:20240104T025306Z
UID:2179-1704893400-1704897000@stjohnscordova.com
SUMMARY:Small Group Study
DESCRIPTION:
URL:https://stjohnscordova.com/churchevent/small-group-study-24/
END:VEVENT
BEGIN:VEVENT
DTSTART;TZID=America/Chicago:20240108T190000
DTEND;TZID=America/Chicago:20240108T200000
DTSTAMP:20260425T191454
CREATED:20240104T025242Z
LAST-MODIFIED:20240104T025242Z
UID:2174-1704740400-1704744000@stjohnscordova.com
SUMMARY:Lydia LWML
DESCRIPTION:
URL:https://stjohnscordova.com/churchevent/lydia-lwml-15/
END:VEVENT
BEGIN:VEVENT
DTSTART;TZID=America/Chicago:20240108T160000
DTEND;TZID=America/Chicago:20240108T180000
DTSTAMP:20260425T191454
CREATED:20250101T043505Z
LAST-MODIFIED:20250101T043505Z
UID:2746-1704729600-1704736800@stjohnscordova.com
SUMMARY:Confirmation
DESCRIPTION:
URL:https://stjohnscordova.com/churchevent/confirmation-81/
END:VEVENT
BEGIN:VEVENT
DTSTART;TZID=America/Chicago:20240108T133000
DTEND;TZID=America/Chicago:20240108T143000
DTSTAMP:20260425T191454
CREATED:20250101T043604Z
LAST-MODIFIED:20250101T043604Z
UID:2753-1704720600-1704724200@stjohnscordova.com
SUMMARY:Small Group Study
DESCRIPTION:
URL:https://stjohnscordova.com/churchevent/small-group-study-26/
END:VEVENT
BEGIN:VEVENT
DTSTART;TZID=America/Chicago:20240107T190000
DTEND;TZID=America/Chicago:20240107T200000
DTSTAMP:20260425T191454
CREATED:20250101T043408Z
LAST-MODIFIED:20250101T043408Z
UID:2743-1704654000-1704657600@stjohnscordova.com
SUMMARY:Elders Meeting
DESCRIPTION:
URL:https://stjohnscordova.com/churchevent/elders-meeting-27/
END:VEVENT
BEGIN:VEVENT
DTSTART;TZID=America/Chicago:20240107T160000
DTEND;TZID=America/Chicago:20240107T173000
DTSTAMP:20260425T191454
CREATED:20240104T025323Z
LAST-MODIFIED:20240104T025323Z
UID:2187-1704643200-1704648600@stjohnscordova.com
SUMMARY:Marriage Seminar
DESCRIPTION:
URL:https://stjohnscordova.com/churchevent/marriage-seminar/
END:VEVENT
BEGIN:VEVENT
DTSTART;TZID=America/Chicago:20240107T103000
DTEND;TZID=America/Chicago:20240107T113000
DTSTAMP:20260425T191454
CREATED:20240104T025225Z
LAST-MODIFIED:20240104T025225Z
UID:2168-1704623400-1704627000@stjohnscordova.com
SUMMARY:Sunday School & Adult Bible Class
DESCRIPTION:
URL:https://stjohnscordova.com/churchevent/sunday-school-adult-bible-class-61/
END:VEVENT
BEGIN:VEVENT
DTSTART;TZID=America/Chicago:20240107T090000
DTEND;TZID=America/Chicago:20240107T100000
DTSTAMP:20260425T191454
CREATED:20240104T025220Z
LAST-MODIFIED:20240104T025220Z
UID:2164-1704618000-1704621600@stjohnscordova.com
SUMMARY:Church
DESCRIPTION:
URL:https://stjohnscordova.com/churchevent/church-65/
END:VEVENT
BEGIN:VEVENT
DTSTART;TZID=America/Chicago:20240107T085000
DTEND;TZID=America/Chicago:20240107T090000
DTSTAMP:20260425T191454
CREATED:20240104T025217Z
LAST-MODIFIED:20240104T025217Z
UID:2163-1704617400-1704618000@stjohnscordova.com
SUMMARY:Hymn Sing
DESCRIPTION:
URL:https://stjohnscordova.com/churchevent/hymn-sing-17/
END:VEVENT
BEGIN:VEVENT
DTSTART;TZID=America/Chicago:20240106T180000
DTEND;TZID=America/Chicago:20240106T190000
DTSTAMP:20260425T191454
CREATED:20250101T043408Z
LAST-MODIFIED:20250101T043408Z
UID:2742-1704564000-1704567600@stjohnscordova.com
SUMMARY:Lydia LWML
DESCRIPTION:
URL:https://stjohnscordova.com/churchevent/lydia-lwml-27/
END:VEVENT
BEGIN:VEVENT
DTSTART;TZID=America/Chicago:20240105T113000
DTEND;TZID=America/Chicago:20240105T123000
DTSTAMP:20260425T191454
CREATED:20250101T043506Z
LAST-MODIFIED:20250101T043506Z
UID:2750-1704454200-1704457800@stjohnscordova.com
SUMMARY:Youth take down Christmas decorations
DESCRIPTION:
URL:https://stjohnscordova.com/churchevent/youth-take-down-christmas-decorations-2/
END:VEVENT
BEGIN:VEVENT
DTSTART;TZID=America/Chicago:20240105T103000
DTEND;TZID=America/Chicago:20240105T113000
DTSTAMP:20260425T191454
CREATED:20250101T043207Z
LAST-MODIFIED:20250101T043207Z
UID:2736-1704450600-1704454200@stjohnscordova.com
SUMMARY:Sunday School & Adult Bible Class
DESCRIPTION:
URL:https://stjohnscordova.com/churchevent/sunday-school-adult-bible-class-109/
END:VEVENT
BEGIN:VEVENT
DTSTART;TZID=America/Chicago:20240105T090000
DTEND;TZID=America/Chicago:20240105T100000
DTSTAMP:20260425T191454
CREATED:20250101T043200Z
LAST-MODIFIED:20250101T043200Z
UID:2731-1704445200-1704448800@stjohnscordova.com
SUMMARY:Church
DESCRIPTION:
URL:https://stjohnscordova.com/churchevent/church-112/
END:VEVENT
BEGIN:VEVENT
DTSTART;TZID=America/Chicago:20240105T085000
DTEND;TZID=America/Chicago:20240105T090000
DTSTAMP:20260425T191454
CREATED:20250101T043159Z
LAST-MODIFIED:20250101T043159Z
UID:2730-1704444600-1704445200@stjohnscordova.com
SUMMARY:Hymn Sing
DESCRIPTION:
URL:https://stjohnscordova.com/churchevent/hymn-sing-29/
END:VEVENT
BEGIN:VEVENT
DTSTART;TZID=America/Chicago:20240104T073000
DTEND;TZID=America/Chicago:20240104T083000
DTSTAMP:20260425T191454
CREATED:20250101T043201Z
LAST-MODIFIED:20250101T043201Z
UID:2733-1704353400-1704357000@stjohnscordova.com
SUMMARY:Men's Group Bible Study
DESCRIPTION:
URL:https://stjohnscordova.com/churchevent/mens-group-bible-study-3/
END:VEVENT
BEGIN:VEVENT
DTSTART;TZID=America/Chicago:20240103T140000
DTEND;TZID=America/Chicago:20240103T150000
DTSTAMP:20260425T191454
CREATED:20240104T025243Z
LAST-MODIFIED:20240104T025243Z
UID:2175-1704290400-1704294000@stjohnscordova.com
SUMMARY:Dorcas LWML
DESCRIPTION:
URL:https://stjohnscordova.com/churchevent/dorcas-lwml-15/
END:VEVENT
BEGIN:VEVENT
DTSTART;TZID=America/Chicago:20231231T113000
DTEND;TZID=America/Chicago:20231231T123000
DTSTAMP:20260425T191454
CREATED:20231202T125536Z
LAST-MODIFIED:20231202T125536Z
UID:2128-1704022200-1704025800@stjohnscordova.com
SUMMARY:Youth take down Christmas decorations
DESCRIPTION:
URL:https://stjohnscordova.com/churchevent/youth-take-down-christmas-decorations/
END:VEVENT
BEGIN:VEVENT
DTSTART;TZID=America/Chicago:20231231T103000
DTEND;TZID=America/Chicago:20231231T113000
DTSTAMP:20260425T191454
CREATED:20231202T125454Z
LAST-MODIFIED:20231202T125454Z
UID:2118-1704018600-1704022200@stjohnscordova.com
SUMMARY:Sunday School & Adult Bible Class
DESCRIPTION:
URL:https://stjohnscordova.com/churchevent/sunday-school-adult-bible-class-60/
END:VEVENT
BEGIN:VEVENT
DTSTART;TZID=America/Chicago:20231231T090000
DTEND;TZID=America/Chicago:20231231T100000
DTSTAMP:20260425T191454
CREATED:20231202T125452Z
LAST-MODIFIED:20231202T125452Z
UID:2115-1704013200-1704016800@stjohnscordova.com
SUMMARY:Church
DESCRIPTION:
URL:https://stjohnscordova.com/churchevent/church-64/
END:VEVENT
BEGIN:VEVENT
DTSTART;TZID=America/Chicago:20231224T170000
DTEND;TZID=America/Chicago:20231224T180000
DTSTAMP:20260425T191454
CREATED:20231202T125624Z
LAST-MODIFIED:20231202T125624Z
UID:2131-1703437200-1703440800@stjohnscordova.com
SUMMARY:Christmas Eve Service
DESCRIPTION:
URL:https://stjohnscordova.com/churchevent/christmas-eve-service-2/
END:VEVENT
END:VCALENDAR