BEGIN:VCALENDAR
VERSION:2.0
PRODID:-//St. John&#039;s Lutheran Church - Cordova - ECPv6.15.20//NONSGML v1.0//EN
CALSCALE:GREGORIAN
METHOD:PUBLISH
X-ORIGINAL-URL:https://stjohnscordova.com
X-WR-CALDESC:Events for St. John&#039;s Lutheran Church - Cordova
REFRESH-INTERVAL;VALUE=DURATION:PT1H
X-Robots-Tag:noindex
X-PUBLISHED-TTL:PT1H
BEGIN:VTIMEZONE
TZID:America/Chicago
BEGIN:DAYLIGHT
TZOFFSETFROM:-0600
TZOFFSETTO:-0500
TZNAME:CDT
DTSTART:20230312T080000
END:DAYLIGHT
BEGIN:STANDARD
TZOFFSETFROM:-0500
TZOFFSETTO:-0600
TZNAME:CST
DTSTART:20231105T070000
END:STANDARD
BEGIN:DAYLIGHT
TZOFFSETFROM:-0600
TZOFFSETTO:-0500
TZNAME:CDT
DTSTART:20240310T080000
END:DAYLIGHT
BEGIN:STANDARD
TZOFFSETFROM:-0500
TZOFFSETTO:-0600
TZNAME:CST
DTSTART:20241103T070000
END:STANDARD
BEGIN:DAYLIGHT
TZOFFSETFROM:-0600
TZOFFSETTO:-0500
TZNAME:CDT
DTSTART:20250309T080000
END:DAYLIGHT
BEGIN:STANDARD
TZOFFSETFROM:-0500
TZOFFSETTO:-0600
TZNAME:CST
DTSTART:20251102T070000
END:STANDARD
BEGIN:DAYLIGHT
TZOFFSETFROM:-0600
TZOFFSETTO:-0500
TZNAME:CDT
DTSTART:20260308T080000
END:DAYLIGHT
BEGIN:STANDARD
TZOFFSETFROM:-0500
TZOFFSETTO:-0600
TZNAME:CST
DTSTART:20261101T070000
END:STANDARD
END:VTIMEZONE
BEGIN:VEVENT
DTSTART;TZID=America/Chicago:20241211T180000
DTEND;TZID=America/Chicago:20241211T190000
DTSTAMP:20260424T110249
CREATED:20241201T023906Z
LAST-MODIFIED:20241201T024401Z
UID:2693-1733940000-1733943600@stjohnscordova.com
SUMMARY:Advent Supper
DESCRIPTION:
URL:https://stjohnscordova.com/churchevent/advent-supper/
END:VEVENT
BEGIN:VEVENT
DTSTART;TZID=America/Chicago:20241211T190000
DTEND;TZID=America/Chicago:20241211T200000
DTSTAMP:20260424T110249
CREATED:20241201T023906Z
LAST-MODIFIED:20241201T024406Z
UID:2694-1733943600-1733947200@stjohnscordova.com
SUMMARY:Advent Service
DESCRIPTION:
URL:https://stjohnscordova.com/churchevent/advent-service-7/
END:VEVENT
BEGIN:VEVENT
DTSTART;TZID=America/Chicago:20241215T090000
DTEND;TZID=America/Chicago:20241215T100000
DTSTAMP:20260424T110249
CREATED:20241201T023604Z
LAST-MODIFIED:20241201T023604Z
UID:2674-1734253200-1734256800@stjohnscordova.com
SUMMARY:Church
DESCRIPTION:
URL:https://stjohnscordova.com/churchevent/church-110/
END:VEVENT
BEGIN:VEVENT
DTSTART;TZID=America/Chicago:20241215T100000
DTEND;TZID=America/Chicago:20241215T103000
DTSTAMP:20260424T110249
CREATED:20241201T023815Z
LAST-MODIFIED:20241201T023815Z
UID:2685-1734256800-1734258600@stjohnscordova.com
SUMMARY:Trustees Meeting
DESCRIPTION:
URL:https://stjohnscordova.com/churchevent/trustees-meeting-17/
END:VEVENT
BEGIN:VEVENT
DTSTART;TZID=America/Chicago:20241215T103000
DTEND;TZID=America/Chicago:20241215T113000
DTSTAMP:20260424T110249
CREATED:20241201T023613Z
LAST-MODIFIED:20241201T023613Z
UID:2680-1734258600-1734262200@stjohnscordova.com
SUMMARY:Sunday School & Adult Bible Class
DESCRIPTION:
URL:https://stjohnscordova.com/churchevent/sunday-school-adult-bible-class-107/
END:VEVENT
BEGIN:VEVENT
DTSTART;TZID=America/Chicago:20241217T190000
DTEND;TZID=America/Chicago:20241217T200000
DTSTAMP:20260424T110249
CREATED:20241201T023851Z
LAST-MODIFIED:20241201T023851Z
UID:2688-1734462000-1734465600@stjohnscordova.com
SUMMARY:Board of Education
DESCRIPTION:
URL:https://stjohnscordova.com/churchevent/board-of-education-27/
END:VEVENT
BEGIN:VEVENT
DTSTART;TZID=America/Chicago:20241218T160000
DTEND;TZID=America/Chicago:20241218T180000
DTSTAMP:20260424T110249
CREATED:20241201T023905Z
LAST-MODIFIED:20241201T024615Z
UID:2691-1734537600-1734544800@stjohnscordova.com
SUMMARY:Confirmation
DESCRIPTION:
URL:https://stjohnscordova.com/churchevent/confirmation-80/
END:VEVENT
BEGIN:VEVENT
DTSTART;TZID=America/Chicago:20241218T180000
DTEND;TZID=America/Chicago:20241218T190000
DTSTAMP:20260424T110249
CREATED:20241201T024513Z
LAST-MODIFIED:20241201T024513Z
UID:2704-1734544800-1734548400@stjohnscordova.com
SUMMARY:Advent Supper
DESCRIPTION:
URL:https://stjohnscordova.com/churchevent/advent-supper-3/
END:VEVENT
BEGIN:VEVENT
DTSTART;TZID=America/Chicago:20241218T190000
DTEND;TZID=America/Chicago:20241218T200000
DTSTAMP:20260424T110249
CREATED:20241201T024531Z
LAST-MODIFIED:20241201T024531Z
UID:2705-1734548400-1734552000@stjohnscordova.com
SUMMARY:Advent Service
DESCRIPTION:
URL:https://stjohnscordova.com/churchevent/advent-service-9/
END:VEVENT
BEGIN:VEVENT
DTSTART;TZID=America/Chicago:20241221T093000
DTEND;TZID=America/Chicago:20241221T113000
DTSTAMP:20260424T110249
CREATED:20241201T023946Z
LAST-MODIFIED:20241201T023946Z
UID:2700-1734773400-1734780600@stjohnscordova.com
SUMMARY:Christmas Food Basket Distribution in Friend
DESCRIPTION:
URL:https://stjohnscordova.com/churchevent/christmas-food-basket-distribution-in-friend/
END:VEVENT
BEGIN:VEVENT
DTSTART;TZID=America/Chicago:20241222T090000
DTEND;TZID=America/Chicago:20241222T100000
DTSTAMP:20260424T110249
CREATED:20241201T023605Z
LAST-MODIFIED:20241201T023605Z
UID:2675-1734858000-1734861600@stjohnscordova.com
SUMMARY:Christmas Program
DESCRIPTION:
URL:https://stjohnscordova.com/churchevent/christmas-program/
END:VEVENT
BEGIN:VEVENT
DTSTART;TZID=America/Chicago:20241222T143000
DTEND;TZID=America/Chicago:20241222T163000
DTSTAMP:20260424T110249
CREATED:20241201T023851Z
LAST-MODIFIED:20241201T023851Z
UID:2687-1734877800-1734885000@stjohnscordova.com
SUMMARY:Devotions at Fairmont
DESCRIPTION:
URL:https://stjohnscordova.com/churchevent/devotions-at-fairmont-24/
END:VEVENT
BEGIN:VEVENT
DTSTART;TZID=America/Chicago:20241222T170000
DTEND;TZID=America/Chicago:20241222T170000
DTSTAMP:20260424T110249
CREATED:20241201T023946Z
LAST-MODIFIED:20241201T023946Z
UID:2701-1734886800-1734886800@stjohnscordova.com
SUMMARY:High School Night
DESCRIPTION:
URL:https://stjohnscordova.com/churchevent/high-school-night/
END:VEVENT
BEGIN:VEVENT
DTSTART;TZID=America/Chicago:20241224T170000
DTEND;TZID=America/Chicago:20241224T180000
DTSTAMP:20260424T110249
CREATED:20241201T023921Z
LAST-MODIFIED:20241201T023921Z
UID:2698-1735059600-1735063200@stjohnscordova.com
SUMMARY:Christmas Eve Service
DESCRIPTION:
URL:https://stjohnscordova.com/churchevent/christmas-eve-service-3/
END:VEVENT
BEGIN:VEVENT
DTSTART;TZID=America/Chicago:20241229T090000
DTEND;TZID=America/Chicago:20241229T100000
DTSTAMP:20260424T110249
CREATED:20241201T023610Z
LAST-MODIFIED:20241201T023610Z
UID:2676-1735462800-1735466400@stjohnscordova.com
SUMMARY:Church
DESCRIPTION:
URL:https://stjohnscordova.com/churchevent/church-111/
END:VEVENT
BEGIN:VEVENT
DTSTART;TZID=America/Chicago:20241229T103000
DTEND;TZID=America/Chicago:20241229T113000
DTSTAMP:20260424T110249
CREATED:20241201T023812Z
LAST-MODIFIED:20241201T023812Z
UID:2681-1735468200-1735471800@stjohnscordova.com
SUMMARY:Sunday School & Adult Bible Class
DESCRIPTION:
URL:https://stjohnscordova.com/churchevent/sunday-school-adult-bible-class-108/
END:VEVENT
BEGIN:VEVENT
DTSTART;TZID=America/Chicago:20250104T073000
DTEND;TZID=America/Chicago:20250104T083000
DTSTAMP:20260424T110249
CREATED:20250101T043632Z
LAST-MODIFIED:20250101T043632Z
UID:2760-1735975800-1735979400@stjohnscordova.com
SUMMARY:Men's Group Bible Study
DESCRIPTION:
URL:https://stjohnscordova.com/churchevent/mens-group-bible-study-4/
END:VEVENT
BEGIN:VEVENT
DTSTART;TZID=America/Chicago:20250105T085000
DTEND;TZID=America/Chicago:20250105T090000
DTSTAMP:20260424T110249
CREATED:20250101T043631Z
LAST-MODIFIED:20250101T043631Z
UID:2757-1736067000-1736067600@stjohnscordova.com
SUMMARY:Hymn Sing
DESCRIPTION:
URL:https://stjohnscordova.com/churchevent/hymn-sing-30/
END:VEVENT
BEGIN:VEVENT
DTSTART;TZID=America/Chicago:20250105T090000
DTEND;TZID=America/Chicago:20250105T100000
DTSTAMP:20260424T110249
CREATED:20250101T043631Z
LAST-MODIFIED:20250101T043631Z
UID:2758-1736067600-1736071200@stjohnscordova.com
SUMMARY:Church
DESCRIPTION:
URL:https://stjohnscordova.com/churchevent/church-116/
END:VEVENT
BEGIN:VEVENT
DTSTART;TZID=America/Chicago:20250105T103000
DTEND;TZID=America/Chicago:20250105T113000
DTSTAMP:20260424T110249
CREATED:20250101T043636Z
LAST-MODIFIED:20250101T043636Z
UID:2763-1736073000-1736076600@stjohnscordova.com
SUMMARY:Sunday School & Adult Bible Class
DESCRIPTION:
URL:https://stjohnscordova.com/churchevent/sunday-school-adult-bible-class-113/
END:VEVENT
BEGIN:VEVENT
DTSTART;TZID=America/Chicago:20250105T113000
DTEND;TZID=America/Chicago:20250105T123000
DTSTAMP:20260424T110249
CREATED:20250101T044039Z
LAST-MODIFIED:20250101T044039Z
UID:2777-1736076600-1736080200@stjohnscordova.com
SUMMARY:Youth take down Christmas decorations
DESCRIPTION:
URL:https://stjohnscordova.com/churchevent/youth-take-down-christmas-decorations-3/
END:VEVENT
BEGIN:VEVENT
DTSTART;TZID=America/Chicago:20250107T190000
DTEND;TZID=America/Chicago:20250107T200000
DTSTAMP:20260424T110249
CREATED:20250101T043837Z
LAST-MODIFIED:20250101T043837Z
UID:2769-1736276400-1736280000@stjohnscordova.com
SUMMARY:Elders Meeting
DESCRIPTION:
URL:https://stjohnscordova.com/churchevent/elders-meeting-28/
END:VEVENT
BEGIN:VEVENT
DTSTART;TZID=America/Chicago:20250108T160000
DTEND;TZID=America/Chicago:20250108T180000
DTSTAMP:20260424T110249
CREATED:20250101T044038Z
LAST-MODIFIED:20250101T044038Z
UID:2773-1736352000-1736359200@stjohnscordova.com
SUMMARY:Confirmation
DESCRIPTION:
URL:https://stjohnscordova.com/churchevent/confirmation-85/
END:VEVENT
BEGIN:VEVENT
DTSTART;TZID=America/Chicago:20250108T180000
DTEND;TZID=America/Chicago:20250108T190000
DTSTAMP:20260424T110249
CREATED:20250101T043837Z
LAST-MODIFIED:20250106T212635Z
UID:2768-1736359200-1736362800@stjohnscordova.com
SUMMARY:Lydia LWML
DESCRIPTION:
URL:https://stjohnscordova.com/churchevent/lydia-lwml-28/
END:VEVENT
BEGIN:VEVENT
DTSTART;TZID=America/Chicago:20250112T090000
DTEND;TZID=America/Chicago:20250112T100000
DTSTAMP:20260424T110249
CREATED:20250101T043631Z
LAST-MODIFIED:20250101T043631Z
UID:2759-1736672400-1736676000@stjohnscordova.com
SUMMARY:Church
DESCRIPTION:
URL:https://stjohnscordova.com/churchevent/church-117/
END:VEVENT
BEGIN:VEVENT
DTSTART;TZID=America/Chicago:20250112T100000
DTEND;TZID=America/Chicago:20250112T110000
DTSTAMP:20260424T110249
CREATED:20250101T043837Z
LAST-MODIFIED:20250101T043837Z
UID:2767-1736676000-1736679600@stjohnscordova.com
SUMMARY:Trutees Meeting
DESCRIPTION:
URL:https://stjohnscordova.com/churchevent/trutees-meeting-8/
END:VEVENT
BEGIN:VEVENT
DTSTART;TZID=America/Chicago:20250112T103000
DTEND;TZID=America/Chicago:20250112T113000
DTSTAMP:20260424T110249
CREATED:20250101T043636Z
LAST-MODIFIED:20250101T043636Z
UID:2764-1736677800-1736681400@stjohnscordova.com
SUMMARY:Sunday School & Adult Bible Class
DESCRIPTION:
URL:https://stjohnscordova.com/churchevent/sunday-school-adult-bible-class-114/
END:VEVENT
BEGIN:VEVENT
DTSTART;TZID=America/Chicago:20250115T133000
DTEND;TZID=America/Chicago:20250115T143000
DTSTAMP:20260424T110249
CREATED:20250101T044240Z
LAST-MODIFIED:20250106T212627Z
UID:2780-1736947800-1736951400@stjohnscordova.com
SUMMARY:Small Group Study
DESCRIPTION:
URL:https://stjohnscordova.com/churchevent/small-group-study-27/
END:VEVENT
BEGIN:VEVENT
DTSTART;TZID=America/Chicago:20250115T160000
DTEND;TZID=America/Chicago:20250115T180000
DTSTAMP:20260424T110249
CREATED:20250101T044038Z
LAST-MODIFIED:20250101T044038Z
UID:2774-1736956800-1736964000@stjohnscordova.com
SUMMARY:Confirmation
DESCRIPTION:
URL:https://stjohnscordova.com/churchevent/confirmation-86/
END:VEVENT
BEGIN:VEVENT
DTSTART;TZID=America/Chicago:20250119T090000
DTEND;TZID=America/Chicago:20250119T100000
DTSTAMP:20260424T110249
CREATED:20250101T043632Z
LAST-MODIFIED:20250101T043632Z
UID:2761-1737277200-1737280800@stjohnscordova.com
SUMMARY:Church
DESCRIPTION:
URL:https://stjohnscordova.com/churchevent/church-118/
END:VEVENT
END:VCALENDAR