BEGIN:VCALENDAR
VERSION:2.0
PRODID:-//St. John&#039;s Lutheran Church - Cordova - ECPv6.15.20//NONSGML v1.0//EN
CALSCALE:GREGORIAN
METHOD:PUBLISH
X-WR-CALNAME:St. John&#039;s Lutheran Church - Cordova
X-ORIGINAL-URL:https://stjohnscordova.com
X-WR-CALDESC:Events for St. John&#039;s Lutheran Church - Cordova
REFRESH-INTERVAL;VALUE=DURATION:PT1H
X-Robots-Tag:noindex
X-PUBLISHED-TTL:PT1H
BEGIN:VTIMEZONE
TZID:America/Chicago
BEGIN:DAYLIGHT
TZOFFSETFROM:-0600
TZOFFSETTO:-0500
TZNAME:CDT
DTSTART:20230312T080000
END:DAYLIGHT
BEGIN:STANDARD
TZOFFSETFROM:-0500
TZOFFSETTO:-0600
TZNAME:CST
DTSTART:20231105T070000
END:STANDARD
BEGIN:DAYLIGHT
TZOFFSETFROM:-0600
TZOFFSETTO:-0500
TZNAME:CDT
DTSTART:20240310T080000
END:DAYLIGHT
BEGIN:STANDARD
TZOFFSETFROM:-0500
TZOFFSETTO:-0600
TZNAME:CST
DTSTART:20241103T070000
END:STANDARD
BEGIN:DAYLIGHT
TZOFFSETFROM:-0600
TZOFFSETTO:-0500
TZNAME:CDT
DTSTART:20250309T080000
END:DAYLIGHT
BEGIN:STANDARD
TZOFFSETFROM:-0500
TZOFFSETTO:-0600
TZNAME:CST
DTSTART:20251102T070000
END:STANDARD
END:VTIMEZONE
BEGIN:VEVENT
DTSTART;TZID=America/Chicago:20240915T173000
DTEND;TZID=America/Chicago:20240915T193000
DTSTAMP:20260425T082551
CREATED:20240914T225136Z
LAST-MODIFIED:20240914T225237Z
UID:2528-1726421400-1726428600@stjohnscordova.com
SUMMARY:Youth Group Kick-Off
DESCRIPTION:Sunday\, September 15th at 5:30 pm at the Smith Creek Recreation Area.
URL:https://stjohnscordova.com/churchevent/youth-group-kick-off-2/
LOCATION:Smith Creek Recreation Area\, 856 Co Rd 448\, Utica\, 68456\, United States
END:VEVENT
BEGIN:VEVENT
DTSTART;TZID=America/Chicago:20240915T103000
DTEND;TZID=America/Chicago:20240915T113000
DTSTAMP:20260425T082551
CREATED:20240827T115025Z
LAST-MODIFIED:20240827T115025Z
UID:2504-1726396200-1726399800@stjohnscordova.com
SUMMARY:Sunday School & Adult Bible Class
DESCRIPTION:
URL:https://stjohnscordova.com/churchevent/sunday-school-adult-bible-class-94/
END:VEVENT
BEGIN:VEVENT
DTSTART;TZID=America/Chicago:20240915T090000
DTEND;TZID=America/Chicago:20240915T100000
DTSTAMP:20260425T082551
CREATED:20240827T115018Z
LAST-MODIFIED:20240827T120127Z
UID:2499-1726390800-1726394400@stjohnscordova.com
SUMMARY:Church
DESCRIPTION:
URL:https://stjohnscordova.com/churchevent/church-w-confirmation-sunday-school-and-teacher-installation/
END:VEVENT
BEGIN:VEVENT
DTSTART;TZID=America/Chicago:20240911T190000
DTEND;TZID=America/Chicago:20240911T200000
DTSTAMP:20260425T082551
CREATED:20240827T115103Z
LAST-MODIFIED:20240827T115103Z
UID:2511-1726081200-1726084800@stjohnscordova.com
SUMMARY:Small Group
DESCRIPTION:
URL:https://stjohnscordova.com/churchevent/small-group-14/
END:VEVENT
BEGIN:VEVENT
DTSTART;TZID=America/Chicago:20240911T160000
DTEND;TZID=America/Chicago:20240911T200000
DTSTAMP:20260425T082551
CREATED:20240827T115140Z
LAST-MODIFIED:20240827T115140Z
UID:2517-1726070400-1726084800@stjohnscordova.com
SUMMARY:Confirmation
DESCRIPTION:
URL:https://stjohnscordova.com/churchevent/confirmation-66/
END:VEVENT
BEGIN:VEVENT
DTSTART;TZID=America/Chicago:20240911T133000
DTEND;TZID=America/Chicago:20240911T143000
DTSTAMP:20260425T082551
CREATED:20240827T115041Z
LAST-MODIFIED:20240827T115041Z
UID:2510-1726061400-1726065000@stjohnscordova.com
SUMMARY:Small Group
DESCRIPTION:
URL:https://stjohnscordova.com/churchevent/small-group-13/
END:VEVENT
BEGIN:VEVENT
DTSTART;TZID=America/Chicago:20240908T103000
DTEND;TZID=America/Chicago:20240908T113000
DTSTAMP:20260425T082551
CREATED:20240827T115025Z
LAST-MODIFIED:20240827T115025Z
UID:2503-1725791400-1725795000@stjohnscordova.com
SUMMARY:Sunday School Kickoff w/ Potluck and Adult Bible Class
DESCRIPTION:
URL:https://stjohnscordova.com/churchevent/sunday-school-kickoff-w-potluck-and-adult-bible-class/
END:VEVENT
BEGIN:VEVENT
DTSTART;TZID=America/Chicago:20240908T100000
DTEND;TZID=America/Chicago:20240908T103000
DTSTAMP:20260425T082551
CREATED:20240827T115105Z
LAST-MODIFIED:20240827T115105Z
UID:2513-1725789600-1725791400@stjohnscordova.com
SUMMARY:Trustees Meeting
DESCRIPTION:
URL:https://stjohnscordova.com/churchevent/trustees-meeting-14/
END:VEVENT
BEGIN:VEVENT
DTSTART;TZID=America/Chicago:20240908T090000
DTEND;TZID=America/Chicago:20240908T100000
DTSTAMP:20260425T082551
CREATED:20240827T115017Z
LAST-MODIFIED:20240827T120136Z
UID:2498-1725786000-1725789600@stjohnscordova.com
SUMMARY:Church w/ Confirmation\, Sunday School and Teacher Installation
DESCRIPTION:
URL:https://stjohnscordova.com/churchevent/church-97/
END:VEVENT
BEGIN:VEVENT
DTSTART;TZID=America/Chicago:20240904T190000
DTEND;TZID=America/Chicago:20240904T200000
DTSTAMP:20260425T082551
CREATED:20240827T115104Z
LAST-MODIFIED:20240827T115104Z
UID:2512-1725476400-1725480000@stjohnscordova.com
SUMMARY:Elders Meeting
DESCRIPTION:
URL:https://stjohnscordova.com/churchevent/elders-meeting-23/
END:VEVENT
BEGIN:VEVENT
DTSTART;TZID=America/Chicago:20240904T190000
DTEND;TZID=America/Chicago:20240904T200000
DTSTAMP:20260425T082551
CREATED:20240827T115041Z
LAST-MODIFIED:20240827T115041Z
UID:2508-1725476400-1725480000@stjohnscordova.com
SUMMARY:Lydia LWML
DESCRIPTION:
URL:https://stjohnscordova.com/churchevent/lydia-lwml-23/
END:VEVENT
BEGIN:VEVENT
DTSTART;TZID=America/Chicago:20240904T160000
DTEND;TZID=America/Chicago:20240904T180000
DTSTAMP:20260425T082551
CREATED:20240827T115139Z
LAST-MODIFIED:20240827T115139Z
UID:2516-1725465600-1725472800@stjohnscordova.com
SUMMARY:Confirmation
DESCRIPTION:
URL:https://stjohnscordova.com/churchevent/confirmation-65/
END:VEVENT
BEGIN:VEVENT
DTSTART;TZID=America/Chicago:20240904T140000
DTEND;TZID=America/Chicago:20240904T150000
DTSTAMP:20260425T082551
CREATED:20240827T115041Z
LAST-MODIFIED:20240827T115041Z
UID:2509-1725458400-1725462000@stjohnscordova.com
SUMMARY:Dorcas LWML
DESCRIPTION:
URL:https://stjohnscordova.com/churchevent/dorcas-lwml-23/
END:VEVENT
BEGIN:VEVENT
DTSTART;TZID=America/Chicago:20240901T103000
DTEND;TZID=America/Chicago:20240901T113000
DTSTAMP:20260425T082551
CREATED:20240827T115024Z
LAST-MODIFIED:20240827T115024Z
UID:2502-1725186600-1725190200@stjohnscordova.com
SUMMARY:Sunday School & Adult Bible Class
DESCRIPTION:
URL:https://stjohnscordova.com/churchevent/sunday-school-adult-bible-class-93/
END:VEVENT
BEGIN:VEVENT
DTSTART;TZID=America/Chicago:20240901T090000
DTEND;TZID=America/Chicago:20240901T100000
DTSTAMP:20260425T082551
CREATED:20240827T115017Z
LAST-MODIFIED:20240827T115017Z
UID:2497-1725181200-1725184800@stjohnscordova.com
SUMMARY:Church
DESCRIPTION:
URL:https://stjohnscordova.com/churchevent/church-96/
END:VEVENT
BEGIN:VEVENT
DTSTART;TZID=America/Chicago:20240901T085000
DTEND;TZID=America/Chicago:20240901T090000
DTSTAMP:20260425T082551
CREATED:20240827T115016Z
LAST-MODIFIED:20240827T115016Z
UID:2496-1725180600-1725181200@stjohnscordova.com
SUMMARY:Hymn Sing
DESCRIPTION:
URL:https://stjohnscordova.com/churchevent/hymn-sing-25/
END:VEVENT
BEGIN:VEVENT
DTSTART;TZID=America/Chicago:20240825T143000
DTEND;TZID=America/Chicago:20240825T163000
DTSTAMP:20260425T082551
CREATED:20240801T005626Z
LAST-MODIFIED:20240801T005626Z
UID:2482-1724596200-1724603400@stjohnscordova.com
SUMMARY:Devotions at Fairmont
DESCRIPTION:
URL:https://stjohnscordova.com/churchevent/devotions-at-fairmont-20/
END:VEVENT
BEGIN:VEVENT
DTSTART;TZID=America/Chicago:20240825T103000
DTEND;TZID=America/Chicago:20240825T113000
DTSTAMP:20260425T082551
CREATED:20240801T005412Z
LAST-MODIFIED:20240801T005412Z
UID:2475-1724581800-1724585400@stjohnscordova.com
SUMMARY:Sunday School & Adult Bible Class
DESCRIPTION:
URL:https://stjohnscordova.com/churchevent/sunday-school-adult-bible-class-92/
END:VEVENT
BEGIN:VEVENT
DTSTART;TZID=America/Chicago:20240825T090000
DTEND;TZID=America/Chicago:20240825T100000
DTSTAMP:20260425T082551
CREATED:20240801T005407Z
LAST-MODIFIED:20240801T005407Z
UID:2471-1724576400-1724580000@stjohnscordova.com
SUMMARY:Church
DESCRIPTION:
URL:https://stjohnscordova.com/churchevent/church-95/
END:VEVENT
BEGIN:VEVENT
DTSTART;TZID=America/Chicago:20240821T190000
DTEND;TZID=America/Chicago:20240821T200000
DTSTAMP:20260425T082551
CREATED:20240801T005428Z
LAST-MODIFIED:20240819T031534Z
UID:2479-1724266800-1724270400@stjohnscordova.com
SUMMARY:Small Group
DESCRIPTION:
URL:https://stjohnscordova.com/churchevent/small-group-12/
END:VEVENT
BEGIN:VEVENT
DTSTART;TZID=America/Chicago:20240821T133000
DTEND;TZID=America/Chicago:20240821T143000
DTSTAMP:20260425T082551
CREATED:20240801T005427Z
LAST-MODIFIED:20240819T031539Z
UID:2478-1724247000-1724250600@stjohnscordova.com
SUMMARY:Small Group
DESCRIPTION:
URL:https://stjohnscordova.com/churchevent/small-group-11/
END:VEVENT
BEGIN:VEVENT
DTSTART;TZID=America/Chicago:20240820T190000
DTEND;TZID=America/Chicago:20240820T200000
DTSTAMP:20260425T082551
CREATED:20240801T005627Z
LAST-MODIFIED:20240801T005627Z
UID:2483-1724180400-1724184000@stjohnscordova.com
SUMMARY:Board of Education
DESCRIPTION:
URL:https://stjohnscordova.com/churchevent/board-of-education-23/
END:VEVENT
BEGIN:VEVENT
DTSTART;TZID=America/Chicago:20240818T103000
DTEND;TZID=America/Chicago:20240818T113000
DTSTAMP:20260425T082551
CREATED:20240801T005411Z
LAST-MODIFIED:20240801T005411Z
UID:2474-1723977000-1723980600@stjohnscordova.com
SUMMARY:Sunday School & Adult Bible Class
DESCRIPTION:
URL:https://stjohnscordova.com/churchevent/sunday-school-adult-bible-class-91/
END:VEVENT
BEGIN:VEVENT
DTSTART;TZID=America/Chicago:20240818T090000
DTEND;TZID=America/Chicago:20240818T100000
DTSTAMP:20260425T082551
CREATED:20240801T005406Z
LAST-MODIFIED:20240801T005406Z
UID:2470-1723971600-1723975200@stjohnscordova.com
SUMMARY:Church
DESCRIPTION:
URL:https://stjohnscordova.com/churchevent/church-94/
END:VEVENT
BEGIN:VEVENT
DTSTART;TZID=America/Chicago:20240811T103000
DTEND;TZID=America/Chicago:20240811T113000
DTSTAMP:20260425T082551
CREATED:20240801T005411Z
LAST-MODIFIED:20240801T005411Z
UID:2473-1723372200-1723375800@stjohnscordova.com
SUMMARY:Sunday School & Adult Bible Class
DESCRIPTION:
URL:https://stjohnscordova.com/churchevent/sunday-school-adult-bible-class-90/
END:VEVENT
BEGIN:VEVENT
DTSTART;TZID=America/Chicago:20240811T100000
DTEND;TZID=America/Chicago:20240811T103000
DTSTAMP:20260425T082551
CREATED:20240801T005429Z
LAST-MODIFIED:20240801T005429Z
UID:2481-1723370400-1723372200@stjohnscordova.com
SUMMARY:Trustees Meeting
DESCRIPTION:
URL:https://stjohnscordova.com/churchevent/trustees-meeting-13/
END:VEVENT
BEGIN:VEVENT
DTSTART;TZID=America/Chicago:20240811T090000
DTEND;TZID=America/Chicago:20240811T100000
DTSTAMP:20260425T082551
CREATED:20240801T005406Z
LAST-MODIFIED:20240801T005406Z
UID:2469-1723366800-1723370400@stjohnscordova.com
SUMMARY:Church
DESCRIPTION:
URL:https://stjohnscordova.com/churchevent/church-93/
END:VEVENT
BEGIN:VEVENT
DTSTART;TZID=America/Chicago:20240807T190000
DTEND;TZID=America/Chicago:20240807T200000
DTSTAMP:20260425T082551
CREATED:20240801T005428Z
LAST-MODIFIED:20240801T005428Z
UID:2480-1723057200-1723060800@stjohnscordova.com
SUMMARY:Elders Meeting
DESCRIPTION:
URL:https://stjohnscordova.com/churchevent/elders-meeting-22/
END:VEVENT
BEGIN:VEVENT
DTSTART;TZID=America/Chicago:20240807T140000
DTEND;TZID=America/Chicago:20240807T150000
DTSTAMP:20260425T082551
CREATED:20240801T005426Z
LAST-MODIFIED:20240801T005426Z
UID:2477-1723039200-1723042800@stjohnscordova.com
SUMMARY:Dorcas LWML
DESCRIPTION:
URL:https://stjohnscordova.com/churchevent/dorcas-lwml-22/
END:VEVENT
BEGIN:VEVENT
DTSTART;TZID=America/Chicago:20240805T190000
DTEND;TZID=America/Chicago:20240805T200000
DTSTAMP:20260425T082551
CREATED:20240801T005412Z
LAST-MODIFIED:20240801T005412Z
UID:2476-1722884400-1722888000@stjohnscordova.com
SUMMARY:Lydia LWML
DESCRIPTION:
URL:https://stjohnscordova.com/churchevent/lydia-lwml-22/
END:VEVENT
END:VCALENDAR