BEGIN:VCALENDAR
VERSION:2.0
PRODID:-//St. John&#039;s Lutheran Church - Cordova - ECPv6.15.20//NONSGML v1.0//EN
CALSCALE:GREGORIAN
METHOD:PUBLISH
X-WR-CALNAME:St. John&#039;s Lutheran Church - Cordova
X-ORIGINAL-URL:https://stjohnscordova.com
X-WR-CALDESC:Events for St. John&#039;s Lutheran Church - Cordova
REFRESH-INTERVAL;VALUE=DURATION:PT1H
X-Robots-Tag:noindex
X-PUBLISHED-TTL:PT1H
BEGIN:VTIMEZONE
TZID:America/Chicago
BEGIN:DAYLIGHT
TZOFFSETFROM:-0600
TZOFFSETTO:-0500
TZNAME:CDT
DTSTART:20230312T080000
END:DAYLIGHT
BEGIN:STANDARD
TZOFFSETFROM:-0500
TZOFFSETTO:-0600
TZNAME:CST
DTSTART:20231105T070000
END:STANDARD
BEGIN:DAYLIGHT
TZOFFSETFROM:-0600
TZOFFSETTO:-0500
TZNAME:CDT
DTSTART:20240310T080000
END:DAYLIGHT
BEGIN:STANDARD
TZOFFSETFROM:-0500
TZOFFSETTO:-0600
TZNAME:CST
DTSTART:20241103T070000
END:STANDARD
BEGIN:DAYLIGHT
TZOFFSETFROM:-0600
TZOFFSETTO:-0500
TZNAME:CDT
DTSTART:20250309T080000
END:DAYLIGHT
BEGIN:STANDARD
TZOFFSETFROM:-0500
TZOFFSETTO:-0600
TZNAME:CST
DTSTART:20251102T070000
END:STANDARD
END:VTIMEZONE
BEGIN:VEVENT
DTSTART;TZID=America/Chicago:20241013T090000
DTEND;TZID=America/Chicago:20241013T100000
DTSTAMP:20260425T090508
CREATED:20241001T150924Z
LAST-MODIFIED:20241001T150924Z
UID:2546-1728810000-1728813600@stjohnscordova.com
SUMMARY:Church
DESCRIPTION:
URL:https://stjohnscordova.com/churchevent/church-101/
END:VEVENT
BEGIN:VEVENT
DTSTART;TZID=America/Chicago:20241009T190000
DTEND;TZID=America/Chicago:20241009T200000
DTSTAMP:20260425T090508
CREATED:20241001T150948Z
LAST-MODIFIED:20241001T150948Z
UID:2557-1728500400-1728504000@stjohnscordova.com
SUMMARY:Small Group
DESCRIPTION:
URL:https://stjohnscordova.com/churchevent/small-group-16/
END:VEVENT
BEGIN:VEVENT
DTSTART;TZID=America/Chicago:20241009T190000
DTEND;TZID=America/Chicago:20241009T200000
DTSTAMP:20260425T090508
CREATED:20241001T150946Z
LAST-MODIFIED:20241001T150946Z
UID:2554-1728500400-1728504000@stjohnscordova.com
SUMMARY:Lydia LWML
DESCRIPTION:
URL:https://stjohnscordova.com/churchevent/lydia-lwml-24/
END:VEVENT
BEGIN:VEVENT
DTSTART;TZID=America/Chicago:20241009T160000
DTEND;TZID=America/Chicago:20241009T180000
DTSTAMP:20260425T090508
CREATED:20241001T151203Z
LAST-MODIFIED:20241001T152304Z
UID:2564-1728489600-1728496800@stjohnscordova.com
SUMMARY:Confirmation
DESCRIPTION:
URL:https://stjohnscordova.com/churchevent/confirmation-70/
END:VEVENT
BEGIN:VEVENT
DTSTART;TZID=America/Chicago:20241009T133000
DTEND;TZID=America/Chicago:20241009T143000
DTSTAMP:20260425T090508
CREATED:20241001T150947Z
LAST-MODIFIED:20241001T150947Z
UID:2556-1728480600-1728484200@stjohnscordova.com
SUMMARY:Small Group
DESCRIPTION:
URL:https://stjohnscordova.com/churchevent/small-group-15/
END:VEVENT
BEGIN:VEVENT
DTSTART;TZID=America/Chicago:20241008T190000
DTEND;TZID=America/Chicago:20241008T200000
DTSTAMP:20260425T090508
CREATED:20241001T151003Z
LAST-MODIFIED:20241001T151003Z
UID:2562-1728414000-1728417600@stjohnscordova.com
SUMMARY:Board of Education
DESCRIPTION:
URL:https://stjohnscordova.com/churchevent/board-of-education-25/
END:VEVENT
BEGIN:VEVENT
DTSTART;TZID=America/Chicago:20241006T140000
DTEND;TZID=America/Chicago:20241006T150000
DTSTAMP:20260425T090508
CREATED:20241001T151313Z
LAST-MODIFIED:20241001T151313Z
UID:2570-1728223200-1728226800@stjohnscordova.com
SUMMARY:Life Chain in Friend and Seward
DESCRIPTION:
URL:https://stjohnscordova.com/churchevent/life-chain-in-friend-and-seward/
END:VEVENT
BEGIN:VEVENT
DTSTART;TZID=America/Chicago:20241006T103000
DTEND;TZID=America/Chicago:20241006T113000
DTSTAMP:20260425T090508
CREATED:20241001T150930Z
LAST-MODIFIED:20241001T150930Z
UID:2549-1728210600-1728214200@stjohnscordova.com
SUMMARY:Sunday School & Adult Bible Class
DESCRIPTION:
URL:https://stjohnscordova.com/churchevent/sunday-school-adult-bible-class-97/
END:VEVENT
BEGIN:VEVENT
DTSTART;TZID=America/Chicago:20241006T090000
DTEND;TZID=America/Chicago:20241006T100000
DTSTAMP:20260425T090508
CREATED:20241001T150924Z
LAST-MODIFIED:20241001T150924Z
UID:2545-1728205200-1728208800@stjohnscordova.com
SUMMARY:Church
DESCRIPTION:
URL:https://stjohnscordova.com/churchevent/church-100/
END:VEVENT
BEGIN:VEVENT
DTSTART;TZID=America/Chicago:20241006T085000
DTEND;TZID=America/Chicago:20241006T090000
DTSTAMP:20260425T090508
CREATED:20241001T150922Z
LAST-MODIFIED:20241001T150922Z
UID:2544-1728204600-1728205200@stjohnscordova.com
SUMMARY:Hymn Sing
DESCRIPTION:
URL:https://stjohnscordova.com/churchevent/hymn-sing-26/
END:VEVENT
BEGIN:VEVENT
DTSTART;TZID=America/Chicago:20241005T073000
DTEND;TZID=America/Chicago:20241005T083000
DTSTAMP:20260425T090508
CREATED:20241001T151312Z
LAST-MODIFIED:20241001T151312Z
UID:2569-1728113400-1728117000@stjohnscordova.com
SUMMARY:Men's Group Planning Meeting
DESCRIPTION:
URL:https://stjohnscordova.com/churchevent/mens-group-planning-meeting/
END:VEVENT
BEGIN:VEVENT
DTSTART;TZID=America/Chicago:20241002T160000
DTEND;TZID=America/Chicago:20241002T180000
DTSTAMP:20260425T090508
CREATED:20241001T151003Z
LAST-MODIFIED:20241001T151003Z
UID:2563-1727884800-1727892000@stjohnscordova.com
SUMMARY:Confirmation
DESCRIPTION:
URL:https://stjohnscordova.com/churchevent/confirmation-69/
END:VEVENT
BEGIN:VEVENT
DTSTART;TZID=America/Chicago:20241002T140000
DTEND;TZID=America/Chicago:20241002T150000
DTSTAMP:20260425T090508
CREATED:20241001T150946Z
LAST-MODIFIED:20241001T150946Z
UID:2555-1727877600-1727881200@stjohnscordova.com
SUMMARY:Dorcas LWML
DESCRIPTION:
URL:https://stjohnscordova.com/churchevent/dorcas-lwml-24/
END:VEVENT
BEGIN:VEVENT
DTSTART;TZID=America/Chicago:20240929T113000
DTEND;TZID=America/Chicago:20240929T123000
DTSTAMP:20260425T090508
CREATED:20240827T115040Z
LAST-MODIFIED:20240827T115040Z
UID:2507-1727609400-1727613000@stjohnscordova.com
SUMMARY:Potuck with Hope Rescue Mission\, York Speaker
DESCRIPTION:
URL:https://stjohnscordova.com/churchevent/potuck-with-hope-rescue-mission-york-speaker/
END:VEVENT
BEGIN:VEVENT
DTSTART;TZID=America/Chicago:20240929T103000
DTEND;TZID=America/Chicago:20240929T113000
DTSTAMP:20260425T090508
CREATED:20240827T115039Z
LAST-MODIFIED:20240827T115039Z
UID:2506-1727605800-1727609400@stjohnscordova.com
SUMMARY:Sunday School & Adult Bible Class
DESCRIPTION:
URL:https://stjohnscordova.com/churchevent/sunday-school-adult-bible-class-96/
END:VEVENT
BEGIN:VEVENT
DTSTART;TZID=America/Chicago:20240929T090000
DTEND;TZID=America/Chicago:20240929T100000
DTSTAMP:20260425T090508
CREATED:20240827T115024Z
LAST-MODIFIED:20240827T115024Z
UID:2501-1727600400-1727604000@stjohnscordova.com
SUMMARY:Church
DESCRIPTION:
URL:https://stjohnscordova.com/churchevent/church-99/
END:VEVENT
BEGIN:VEVENT
DTSTART;TZID=America/Chicago:20240925T160000
DTEND;TZID=America/Chicago:20240925T200000
DTSTAMP:20260425T090508
CREATED:20240827T115140Z
LAST-MODIFIED:20240827T115140Z
UID:2519-1727280000-1727294400@stjohnscordova.com
SUMMARY:Confirmation
DESCRIPTION:
URL:https://stjohnscordova.com/churchevent/confirmation-68/
END:VEVENT
BEGIN:VEVENT
DTSTART;TZID=America/Chicago:20240922T143000
DTEND;TZID=America/Chicago:20240922T163000
DTSTAMP:20260425T090508
CREATED:20240827T115105Z
LAST-MODIFIED:20240827T115105Z
UID:2514-1727015400-1727022600@stjohnscordova.com
SUMMARY:Devotions at Fairmont
DESCRIPTION:
URL:https://stjohnscordova.com/churchevent/devotions-at-fairmont-21/
END:VEVENT
BEGIN:VEVENT
DTSTART;TZID=America/Chicago:20240922T103000
DTEND;TZID=America/Chicago:20240922T113000
DTSTAMP:20260425T090508
CREATED:20240827T115026Z
LAST-MODIFIED:20240827T115026Z
UID:2505-1727001000-1727004600@stjohnscordova.com
SUMMARY:Sunday School & Adult Bible Class
DESCRIPTION:
URL:https://stjohnscordova.com/churchevent/sunday-school-adult-bible-class-95/
END:VEVENT
BEGIN:VEVENT
DTSTART;TZID=America/Chicago:20240922T090000
DTEND;TZID=America/Chicago:20240922T100000
DTSTAMP:20260425T090508
CREATED:20240827T115018Z
LAST-MODIFIED:20240827T115018Z
UID:2500-1726995600-1726999200@stjohnscordova.com
SUMMARY:Church
DESCRIPTION:
URL:https://stjohnscordova.com/churchevent/church-98/
END:VEVENT
BEGIN:VEVENT
DTSTART;TZID=America/Chicago:20240921T140000
DTEND;TZID=America/Chicago:20240921T160000
DTSTAMP:20260425T090508
CREATED:20240827T115141Z
LAST-MODIFIED:20240827T115141Z
UID:2520-1726927200-1726934400@stjohnscordova.com
SUMMARY:Mother-Daughter Tea
DESCRIPTION:
URL:https://stjohnscordova.com/churchevent/mother-daughter-tea-2/
END:VEVENT
BEGIN:VEVENT
DTSTART;TZID=America/Chicago:20240918T160000
DTEND;TZID=America/Chicago:20240918T200000
DTSTAMP:20260425T090508
CREATED:20240827T115140Z
LAST-MODIFIED:20240827T115140Z
UID:2518-1726675200-1726689600@stjohnscordova.com
SUMMARY:Confirmation
DESCRIPTION:
URL:https://stjohnscordova.com/churchevent/confirmation-67/
END:VEVENT
BEGIN:VEVENT
DTSTART;TZID=America/Chicago:20240917T190000
DTEND;TZID=America/Chicago:20240917T200000
DTSTAMP:20260425T090508
CREATED:20240827T115106Z
LAST-MODIFIED:20240827T115106Z
UID:2515-1726599600-1726603200@stjohnscordova.com
SUMMARY:Board of Education
DESCRIPTION:
URL:https://stjohnscordova.com/churchevent/board-of-education-24/
END:VEVENT
BEGIN:VEVENT
DTSTART;TZID=America/Chicago:20240915T173000
DTEND;TZID=America/Chicago:20240915T193000
DTSTAMP:20260425T090508
CREATED:20240914T225136Z
LAST-MODIFIED:20240914T225237Z
UID:2528-1726421400-1726428600@stjohnscordova.com
SUMMARY:Youth Group Kick-Off
DESCRIPTION:Sunday\, September 15th at 5:30 pm at the Smith Creek Recreation Area.
URL:https://stjohnscordova.com/churchevent/youth-group-kick-off-2/
LOCATION:Smith Creek Recreation Area\, 856 Co Rd 448\, Utica\, 68456\, United States
END:VEVENT
BEGIN:VEVENT
DTSTART;TZID=America/Chicago:20240915T103000
DTEND;TZID=America/Chicago:20240915T113000
DTSTAMP:20260425T090508
CREATED:20240827T115025Z
LAST-MODIFIED:20240827T115025Z
UID:2504-1726396200-1726399800@stjohnscordova.com
SUMMARY:Sunday School & Adult Bible Class
DESCRIPTION:
URL:https://stjohnscordova.com/churchevent/sunday-school-adult-bible-class-94/
END:VEVENT
BEGIN:VEVENT
DTSTART;TZID=America/Chicago:20240915T090000
DTEND;TZID=America/Chicago:20240915T100000
DTSTAMP:20260425T090508
CREATED:20240827T115018Z
LAST-MODIFIED:20240827T120127Z
UID:2499-1726390800-1726394400@stjohnscordova.com
SUMMARY:Church
DESCRIPTION:
URL:https://stjohnscordova.com/churchevent/church-w-confirmation-sunday-school-and-teacher-installation/
END:VEVENT
BEGIN:VEVENT
DTSTART;TZID=America/Chicago:20240911T190000
DTEND;TZID=America/Chicago:20240911T200000
DTSTAMP:20260425T090508
CREATED:20240827T115103Z
LAST-MODIFIED:20240827T115103Z
UID:2511-1726081200-1726084800@stjohnscordova.com
SUMMARY:Small Group
DESCRIPTION:
URL:https://stjohnscordova.com/churchevent/small-group-14/
END:VEVENT
BEGIN:VEVENT
DTSTART;TZID=America/Chicago:20240911T160000
DTEND;TZID=America/Chicago:20240911T200000
DTSTAMP:20260425T090508
CREATED:20240827T115140Z
LAST-MODIFIED:20240827T115140Z
UID:2517-1726070400-1726084800@stjohnscordova.com
SUMMARY:Confirmation
DESCRIPTION:
URL:https://stjohnscordova.com/churchevent/confirmation-66/
END:VEVENT
BEGIN:VEVENT
DTSTART;TZID=America/Chicago:20240911T133000
DTEND;TZID=America/Chicago:20240911T143000
DTSTAMP:20260425T090508
CREATED:20240827T115041Z
LAST-MODIFIED:20240827T115041Z
UID:2510-1726061400-1726065000@stjohnscordova.com
SUMMARY:Small Group
DESCRIPTION:
URL:https://stjohnscordova.com/churchevent/small-group-13/
END:VEVENT
BEGIN:VEVENT
DTSTART;TZID=America/Chicago:20240908T103000
DTEND;TZID=America/Chicago:20240908T113000
DTSTAMP:20260425T090508
CREATED:20240827T115025Z
LAST-MODIFIED:20240827T115025Z
UID:2503-1725791400-1725795000@stjohnscordova.com
SUMMARY:Sunday School Kickoff w/ Potluck and Adult Bible Class
DESCRIPTION:
URL:https://stjohnscordova.com/churchevent/sunday-school-kickoff-w-potluck-and-adult-bible-class/
END:VEVENT
END:VCALENDAR