BEGIN:VCALENDAR
VERSION:2.0
PRODID:-//St. John&#039;s Lutheran Church - Cordova - ECPv6.15.20//NONSGML v1.0//EN
CALSCALE:GREGORIAN
METHOD:PUBLISH
X-WR-CALNAME:St. John&#039;s Lutheran Church - Cordova
X-ORIGINAL-URL:https://stjohnscordova.com
X-WR-CALDESC:Events for St. John&#039;s Lutheran Church - Cordova
REFRESH-INTERVAL;VALUE=DURATION:PT1H
X-Robots-Tag:noindex
X-PUBLISHED-TTL:PT1H
BEGIN:VTIMEZONE
TZID:America/Chicago
BEGIN:DAYLIGHT
TZOFFSETFROM:-0600
TZOFFSETTO:-0500
TZNAME:CDT
DTSTART:20220313T080000
END:DAYLIGHT
BEGIN:STANDARD
TZOFFSETFROM:-0500
TZOFFSETTO:-0600
TZNAME:CST
DTSTART:20221106T070000
END:STANDARD
BEGIN:DAYLIGHT
TZOFFSETFROM:-0600
TZOFFSETTO:-0500
TZNAME:CDT
DTSTART:20230312T080000
END:DAYLIGHT
BEGIN:STANDARD
TZOFFSETFROM:-0500
TZOFFSETTO:-0600
TZNAME:CST
DTSTART:20231105T070000
END:STANDARD
BEGIN:DAYLIGHT
TZOFFSETFROM:-0600
TZOFFSETTO:-0500
TZNAME:CDT
DTSTART:20240310T080000
END:DAYLIGHT
BEGIN:STANDARD
TZOFFSETFROM:-0500
TZOFFSETTO:-0600
TZNAME:CST
DTSTART:20241103T070000
END:STANDARD
END:VTIMEZONE
BEGIN:VEVENT
DTSTART;TZID=America/Chicago:20231112T100000
DTEND;TZID=America/Chicago:20231112T110000
DTSTAMP:20260425T224023
CREATED:20231029T225738Z
LAST-MODIFIED:20231029T225738Z
UID:2072-1699783200-1699786800@stjohnscordova.com
SUMMARY:Trutees Meeting
DESCRIPTION:
URL:https://stjohnscordova.com/churchevent/trutees-meeting-4/
END:VEVENT
BEGIN:VEVENT
DTSTART;TZID=America/Chicago:20231112T090000
DTEND;TZID=America/Chicago:20231112T100000
DTSTAMP:20260425T224023
CREATED:20231029T225712Z
LAST-MODIFIED:20231029T225712Z
UID:2064-1699779600-1699783200@stjohnscordova.com
SUMMARY:Church
DESCRIPTION:
URL:https://stjohnscordova.com/churchevent/church-58/
END:VEVENT
BEGIN:VEVENT
DTSTART;TZID=America/Chicago:20231108T190000
DTEND;TZID=America/Chicago:20231108T200000
DTSTAMP:20260425T224023
CREATED:20231029T225753Z
LAST-MODIFIED:20231029T225753Z
UID:2077-1699470000-1699473600@stjohnscordova.com
SUMMARY:Small Group Study
DESCRIPTION:
URL:https://stjohnscordova.com/churchevent/small-group-study-23/
END:VEVENT
BEGIN:VEVENT
DTSTART;TZID=America/Chicago:20231108T160000
DTEND;TZID=America/Chicago:20231108T180000
DTSTAMP:20260425T224023
CREATED:20231029T225756Z
LAST-MODIFIED:20231029T225756Z
UID:2081-1699459200-1699466400@stjohnscordova.com
SUMMARY:Confirmation
DESCRIPTION:
URL:https://stjohnscordova.com/churchevent/confirmation-43/
END:VEVENT
BEGIN:VEVENT
DTSTART;TZID=America/Chicago:20231108T133000
DTEND;TZID=America/Chicago:20231108T143000
DTSTAMP:20260425T224023
CREATED:20231029T225741Z
LAST-MODIFIED:20231029T225741Z
UID:2076-1699450200-1699453800@stjohnscordova.com
SUMMARY:Small Group Study
DESCRIPTION:
URL:https://stjohnscordova.com/churchevent/small-group-study-22/
END:VEVENT
BEGIN:VEVENT
DTSTART;TZID=America/Chicago:20231106T190000
DTEND;TZID=America/Chicago:20231106T200000
DTSTAMP:20260425T224023
CREATED:20231029T225739Z
LAST-MODIFIED:20231029T225739Z
UID:2073-1699297200-1699300800@stjohnscordova.com
SUMMARY:Lydia LWML
DESCRIPTION:
URL:https://stjohnscordova.com/churchevent/lydia-lwml-13/
END:VEVENT
BEGIN:VEVENT
DTSTART;TZID=America/Chicago:20231105T173000
DTEND;TZID=America/Chicago:20231105T203000
DTSTAMP:20260425T224023
CREATED:20231029T225916Z
LAST-MODIFIED:20231029T230305Z
UID:2084-1699205400-1699216200@stjohnscordova.com
SUMMARY:Youth Movie Night
DESCRIPTION:
URL:https://stjohnscordova.com/churchevent/youth-movie-night-2/
END:VEVENT
BEGIN:VEVENT
DTSTART;TZID=America/Chicago:20231105T103000
DTEND;TZID=America/Chicago:20231105T113000
DTSTAMP:20260425T224023
CREATED:20231029T225717Z
LAST-MODIFIED:20231029T225717Z
UID:2067-1699180200-1699183800@stjohnscordova.com
SUMMARY:Sunday School & Adult Bible Class
DESCRIPTION:
URL:https://stjohnscordova.com/churchevent/sunday-school-adult-bible-class-54/
END:VEVENT
BEGIN:VEVENT
DTSTART;TZID=America/Chicago:20231105T090000
DTEND;TZID=America/Chicago:20231105T100000
DTSTAMP:20260425T224023
CREATED:20231029T225711Z
LAST-MODIFIED:20231029T225711Z
UID:2063-1699174800-1699178400@stjohnscordova.com
SUMMARY:Church
DESCRIPTION:
URL:https://stjohnscordova.com/churchevent/church-57/
END:VEVENT
BEGIN:VEVENT
DTSTART;TZID=America/Chicago:20231105T085000
DTEND;TZID=America/Chicago:20231105T090000
DTSTAMP:20260425T224023
CREATED:20231029T225709Z
LAST-MODIFIED:20231029T225709Z
UID:2062-1699174200-1699174800@stjohnscordova.com
SUMMARY:Hymn Sing
DESCRIPTION:
URL:https://stjohnscordova.com/churchevent/hymn-sing-15/
END:VEVENT
BEGIN:VEVENT
DTSTART;TZID=America/Chicago:20231101T190000
DTEND;TZID=America/Chicago:20231101T200000
DTSTAMP:20260425T224023
CREATED:20231029T225740Z
LAST-MODIFIED:20231029T225740Z
UID:2075-1698865200-1698868800@stjohnscordova.com
SUMMARY:Elders Meeting
DESCRIPTION:
URL:https://stjohnscordova.com/churchevent/elders-meeting-13/
END:VEVENT
BEGIN:VEVENT
DTSTART;TZID=America/Chicago:20231101T160000
DTEND;TZID=America/Chicago:20231101T180000
DTSTAMP:20260425T224023
CREATED:20231029T225755Z
LAST-MODIFIED:20231029T225755Z
UID:2080-1698854400-1698861600@stjohnscordova.com
SUMMARY:Confirmation
DESCRIPTION:
URL:https://stjohnscordova.com/churchevent/confirmation-42/
END:VEVENT
BEGIN:VEVENT
DTSTART;TZID=America/Chicago:20231101T140000
DTEND;TZID=America/Chicago:20231101T150000
DTSTAMP:20260425T224023
CREATED:20231029T225739Z
LAST-MODIFIED:20231029T225739Z
UID:2074-1698847200-1698850800@stjohnscordova.com
SUMMARY:Dorcas LWML
DESCRIPTION:
URL:https://stjohnscordova.com/churchevent/dorcas-lwml-14/
END:VEVENT
BEGIN:VEVENT
DTSTART;TZID=America/Chicago:20231029T103000
DTEND;TZID=America/Chicago:20231029T113000
DTSTAMP:20260425T224023
CREATED:20230924T174113Z
LAST-MODIFIED:20230924T174113Z
UID:2015-1698575400-1698579000@stjohnscordova.com
SUMMARY:Sunday School & Adult Bible Class
DESCRIPTION:
URL:https://stjohnscordova.com/churchevent/sunday-school-adult-bible-class-53/
END:VEVENT
BEGIN:VEVENT
DTSTART;TZID=America/Chicago:20231029T090000
DTEND;TZID=America/Chicago:20231029T100000
DTSTAMP:20260425T224023
CREATED:20230924T174057Z
LAST-MODIFIED:20230924T174057Z
UID:2009-1698570000-1698573600@stjohnscordova.com
SUMMARY:Church
DESCRIPTION:
URL:https://stjohnscordova.com/churchevent/church-56/
END:VEVENT
BEGIN:VEVENT
DTSTART;TZID=America/Chicago:20231028T170000
DTEND;TZID=America/Chicago:20231028T235900
DTSTAMP:20260425T224023
CREATED:20230924T174259Z
LAST-MODIFIED:20230924T174259Z
UID:2031-1698512400-1698537540@stjohnscordova.com
SUMMARY:Youth Lock-In
DESCRIPTION:
URL:https://stjohnscordova.com/churchevent/youth-lock-in-3/
END:VEVENT
BEGIN:VEVENT
DTSTART;TZID=America/Chicago:20231026T110000
DTEND;TZID=America/Chicago:20231026T120000
DTSTAMP:20260425T224023
CREATED:20231025T134637Z
LAST-MODIFIED:20231025T134637Z
UID:2055-1698318000-1698321600@stjohnscordova.com
SUMMARY:Funeral for Rosie Schwisow
DESCRIPTION:The funeral service will be at St. John’s on Thursday October 26 at 11:00 am with lunch immediately following.
URL:https://stjohnscordova.com/churchevent/funeral-for-rosie-schwisow/
END:VEVENT
BEGIN:VEVENT
DTSTART;TZID=America/Chicago:20231025T160000
DTEND;TZID=America/Chicago:20231025T180000
DTSTAMP:20260425T224023
CREATED:20230924T174259Z
LAST-MODIFIED:20230924T174259Z
UID:2030-1698249600-1698256800@stjohnscordova.com
SUMMARY:Confirmation
DESCRIPTION:
URL:https://stjohnscordova.com/churchevent/confirmation-41/
END:VEVENT
BEGIN:VEVENT
DTSTART;TZID=America/Chicago:20231022T143000
DTEND;TZID=America/Chicago:20231022T163000
DTSTAMP:20260425T224023
CREATED:20230924T174207Z
LAST-MODIFIED:20230924T174207Z
UID:2025-1697985000-1697992200@stjohnscordova.com
SUMMARY:Devotions at Fairmont
DESCRIPTION:
URL:https://stjohnscordova.com/churchevent/devotions-at-fairmont-10/
END:VEVENT
BEGIN:VEVENT
DTSTART;TZID=America/Chicago:20231022T113000
DTEND;TZID=America/Chicago:20231022T133000
DTSTAMP:20260425T224023
CREATED:20230924T174059Z
LAST-MODIFIED:20230924T174059Z
UID:2013-1697974200-1697981400@stjohnscordova.com
SUMMARY:Potluck & Quarterly Voters' Meeting
DESCRIPTION:
URL:https://stjohnscordova.com/churchevent/potluck-quarterly-voters-meeting/
END:VEVENT
BEGIN:VEVENT
DTSTART;TZID=America/Chicago:20231022T103000
DTEND;TZID=America/Chicago:20231022T113000
DTSTAMP:20260425T224023
CREATED:20230924T174113Z
LAST-MODIFIED:20230924T174113Z
UID:2014-1697970600-1697974200@stjohnscordova.com
SUMMARY:Sunday School & Adult Bible Class
DESCRIPTION:
URL:https://stjohnscordova.com/churchevent/sunday-school-adult-bible-class-52/
END:VEVENT
BEGIN:VEVENT
DTSTART;TZID=America/Chicago:20231022T090000
DTEND;TZID=America/Chicago:20231022T100000
DTSTAMP:20260425T224023
CREATED:20230924T174054Z
LAST-MODIFIED:20230924T174054Z
UID:2008-1697965200-1697968800@stjohnscordova.com
SUMMARY:Church
DESCRIPTION:
URL:https://stjohnscordova.com/churchevent/church-55/
END:VEVENT
BEGIN:VEVENT
DTSTART;TZID=America/Chicago:20231019T190000
DTEND;TZID=America/Chicago:20231019T200000
DTSTAMP:20260425T224023
CREATED:20230924T174136Z
LAST-MODIFIED:20230924T174136Z
UID:2021-1697742000-1697745600@stjohnscordova.com
SUMMARY:KIT and Friendly Members
DESCRIPTION:
URL:https://stjohnscordova.com/churchevent/kit-and-friendly-members-2/
END:VEVENT
BEGIN:VEVENT
DTSTART;TZID=America/Chicago:20231018T200000
DTEND;TZID=America/Chicago:20231018T210000
DTSTAMP:20260425T224023
CREATED:20230924T174136Z
LAST-MODIFIED:20230924T174136Z
UID:2020-1697659200-1697662800@stjohnscordova.com
SUMMARY:Church Council
DESCRIPTION:
URL:https://stjohnscordova.com/churchevent/church-council-3/
END:VEVENT
BEGIN:VEVENT
DTSTART;TZID=America/Chicago:20231018T190000
DTEND;TZID=America/Chicago:20231018T200000
DTSTAMP:20260425T224023
CREATED:20230924T174136Z
LAST-MODIFIED:20230924T174136Z
UID:2019-1697655600-1697659200@stjohnscordova.com
SUMMARY:Elders Meeting
DESCRIPTION:
URL:https://stjohnscordova.com/churchevent/elders-meeting-12/
END:VEVENT
BEGIN:VEVENT
DTSTART;TZID=America/Chicago:20231018T160000
DTEND;TZID=America/Chicago:20231018T180000
DTSTAMP:20260425T224023
CREATED:20230924T174259Z
LAST-MODIFIED:20230924T174259Z
UID:2029-1697644800-1697652000@stjohnscordova.com
SUMMARY:Confirmation
DESCRIPTION:
URL:https://stjohnscordova.com/churchevent/confirmation-40/
END:VEVENT
BEGIN:VEVENT
DTSTART;TZID=America/Chicago:20231017T190000
DTEND;TZID=America/Chicago:20231017T200000
DTSTAMP:20260425T224023
CREATED:20230924T174206Z
LAST-MODIFIED:20230924T174206Z
UID:2024-1697569200-1697572800@stjohnscordova.com
SUMMARY:Board of Education
DESCRIPTION:
URL:https://stjohnscordova.com/churchevent/board-of-education-14/
END:VEVENT
BEGIN:VEVENT
DTSTART;TZID=America/Chicago:20231015T103000
DTEND;TZID=America/Chicago:20231015T113000
DTSTAMP:20260425T224023
CREATED:20230924T174059Z
LAST-MODIFIED:20230924T174059Z
UID:2012-1697365800-1697369400@stjohnscordova.com
SUMMARY:Sunday School & Adult Bible Class
DESCRIPTION:
URL:https://stjohnscordova.com/churchevent/sunday-school-adult-bible-class-51/
END:VEVENT
BEGIN:VEVENT
DTSTART;TZID=America/Chicago:20231015T090000
DTEND;TZID=America/Chicago:20231015T100000
DTSTAMP:20260425T224023
CREATED:20230924T174054Z
LAST-MODIFIED:20230924T174054Z
UID:2007-1697360400-1697364000@stjohnscordova.com
SUMMARY:Church
DESCRIPTION:
URL:https://stjohnscordova.com/churchevent/church-54/
END:VEVENT
BEGIN:VEVENT
DTSTART;TZID=America/Chicago:20231011T190000
DTEND;TZID=America/Chicago:20231011T200000
DTSTAMP:20260425T224023
CREATED:20230924T174137Z
LAST-MODIFIED:20230924T174137Z
UID:2023-1697050800-1697054400@stjohnscordova.com
SUMMARY:Small Group Study
DESCRIPTION:
URL:https://stjohnscordova.com/churchevent/small-group-study-21/
END:VEVENT
END:VCALENDAR