BEGIN:VCALENDAR
VERSION:2.0
PRODID:-//St. John&#039;s Lutheran Church - Cordova - ECPv6.15.20//NONSGML v1.0//EN
CALSCALE:GREGORIAN
METHOD:PUBLISH
X-WR-CALNAME:St. John&#039;s Lutheran Church - Cordova
X-ORIGINAL-URL:https://stjohnscordova.com
X-WR-CALDESC:Events for St. John&#039;s Lutheran Church - Cordova
REFRESH-INTERVAL;VALUE=DURATION:PT1H
X-Robots-Tag:noindex
X-PUBLISHED-TTL:PT1H
BEGIN:VTIMEZONE
TZID:America/Chicago
BEGIN:DAYLIGHT
TZOFFSETFROM:-0600
TZOFFSETTO:-0500
TZNAME:CDT
DTSTART:20220313T080000
END:DAYLIGHT
BEGIN:STANDARD
TZOFFSETFROM:-0500
TZOFFSETTO:-0600
TZNAME:CST
DTSTART:20221106T070000
END:STANDARD
BEGIN:DAYLIGHT
TZOFFSETFROM:-0600
TZOFFSETTO:-0500
TZNAME:CDT
DTSTART:20230312T080000
END:DAYLIGHT
BEGIN:STANDARD
TZOFFSETFROM:-0500
TZOFFSETTO:-0600
TZNAME:CST
DTSTART:20231105T070000
END:STANDARD
BEGIN:DAYLIGHT
TZOFFSETFROM:-0600
TZOFFSETTO:-0500
TZNAME:CDT
DTSTART:20240310T080000
END:DAYLIGHT
BEGIN:STANDARD
TZOFFSETFROM:-0500
TZOFFSETTO:-0600
TZNAME:CST
DTSTART:20241103T070000
END:STANDARD
BEGIN:DAYLIGHT
TZOFFSETFROM:-0600
TZOFFSETTO:-0500
TZNAME:CDT
DTSTART:20250309T080000
END:DAYLIGHT
BEGIN:STANDARD
TZOFFSETFROM:-0500
TZOFFSETTO:-0600
TZNAME:CST
DTSTART:20251102T070000
END:STANDARD
END:VTIMEZONE
BEGIN:VEVENT
DTSTART;TZID=America/Chicago:20240105T103000
DTEND;TZID=America/Chicago:20240105T113000
DTSTAMP:20260425T204328
CREATED:20250101T043207Z
LAST-MODIFIED:20250101T043207Z
UID:2736-1704450600-1704454200@stjohnscordova.com
SUMMARY:Sunday School & Adult Bible Class
DESCRIPTION:
URL:https://stjohnscordova.com/churchevent/sunday-school-adult-bible-class-109/
END:VEVENT
BEGIN:VEVENT
DTSTART;TZID=America/Chicago:20240105T090000
DTEND;TZID=America/Chicago:20240105T100000
DTSTAMP:20260425T204328
CREATED:20250101T043200Z
LAST-MODIFIED:20250101T043200Z
UID:2731-1704445200-1704448800@stjohnscordova.com
SUMMARY:Church
DESCRIPTION:
URL:https://stjohnscordova.com/churchevent/church-112/
END:VEVENT
BEGIN:VEVENT
DTSTART;TZID=America/Chicago:20240105T085000
DTEND;TZID=America/Chicago:20240105T090000
DTSTAMP:20260425T204328
CREATED:20250101T043159Z
LAST-MODIFIED:20250101T043159Z
UID:2730-1704444600-1704445200@stjohnscordova.com
SUMMARY:Hymn Sing
DESCRIPTION:
URL:https://stjohnscordova.com/churchevent/hymn-sing-29/
END:VEVENT
BEGIN:VEVENT
DTSTART;TZID=America/Chicago:20240104T073000
DTEND;TZID=America/Chicago:20240104T083000
DTSTAMP:20260425T204328
CREATED:20250101T043201Z
LAST-MODIFIED:20250101T043201Z
UID:2733-1704353400-1704357000@stjohnscordova.com
SUMMARY:Men's Group Bible Study
DESCRIPTION:
URL:https://stjohnscordova.com/churchevent/mens-group-bible-study-3/
END:VEVENT
BEGIN:VEVENT
DTSTART;TZID=America/Chicago:20240103T140000
DTEND;TZID=America/Chicago:20240103T150000
DTSTAMP:20260425T204328
CREATED:20240104T025243Z
LAST-MODIFIED:20240104T025243Z
UID:2175-1704290400-1704294000@stjohnscordova.com
SUMMARY:Dorcas LWML
DESCRIPTION:
URL:https://stjohnscordova.com/churchevent/dorcas-lwml-15/
END:VEVENT
BEGIN:VEVENT
DTSTART;TZID=America/Chicago:20231231T113000
DTEND;TZID=America/Chicago:20231231T123000
DTSTAMP:20260425T204328
CREATED:20231202T125536Z
LAST-MODIFIED:20231202T125536Z
UID:2128-1704022200-1704025800@stjohnscordova.com
SUMMARY:Youth take down Christmas decorations
DESCRIPTION:
URL:https://stjohnscordova.com/churchevent/youth-take-down-christmas-decorations/
END:VEVENT
BEGIN:VEVENT
DTSTART;TZID=America/Chicago:20231231T103000
DTEND;TZID=America/Chicago:20231231T113000
DTSTAMP:20260425T204328
CREATED:20231202T125454Z
LAST-MODIFIED:20231202T125454Z
UID:2118-1704018600-1704022200@stjohnscordova.com
SUMMARY:Sunday School & Adult Bible Class
DESCRIPTION:
URL:https://stjohnscordova.com/churchevent/sunday-school-adult-bible-class-60/
END:VEVENT
BEGIN:VEVENT
DTSTART;TZID=America/Chicago:20231231T090000
DTEND;TZID=America/Chicago:20231231T100000
DTSTAMP:20260425T204328
CREATED:20231202T125452Z
LAST-MODIFIED:20231202T125452Z
UID:2115-1704013200-1704016800@stjohnscordova.com
SUMMARY:Church
DESCRIPTION:
URL:https://stjohnscordova.com/churchevent/church-64/
END:VEVENT
BEGIN:VEVENT
DTSTART;TZID=America/Chicago:20231224T170000
DTEND;TZID=America/Chicago:20231224T180000
DTSTAMP:20260425T204328
CREATED:20231202T125624Z
LAST-MODIFIED:20231202T125624Z
UID:2131-1703437200-1703440800@stjohnscordova.com
SUMMARY:Christmas Eve Service
DESCRIPTION:
URL:https://stjohnscordova.com/churchevent/christmas-eve-service-2/
END:VEVENT
BEGIN:VEVENT
DTSTART;TZID=America/Chicago:20231224T143000
DTEND;TZID=America/Chicago:20231224T163000
DTSTAMP:20260425T204328
CREATED:20231202T125511Z
LAST-MODIFIED:20231202T125511Z
UID:2124-1703428200-1703435400@stjohnscordova.com
SUMMARY:Devotions at Fairmont
DESCRIPTION:
URL:https://stjohnscordova.com/churchevent/devotions-at-fairmont-12/
END:VEVENT
BEGIN:VEVENT
DTSTART;TZID=America/Chicago:20231224T090000
DTEND;TZID=America/Chicago:20231224T100000
DTSTAMP:20260425T204328
CREATED:20231202T125449Z
LAST-MODIFIED:20231202T125449Z
UID:2114-1703408400-1703412000@stjohnscordova.com
SUMMARY:Church
DESCRIPTION:
URL:https://stjohnscordova.com/churchevent/church-63/
END:VEVENT
BEGIN:VEVENT
DTSTART;TZID=America/Chicago:20231220T190000
DTEND;TZID=America/Chicago:20231220T200000
DTSTAMP:20260425T204328
CREATED:20231202T130126Z
LAST-MODIFIED:20231202T130126Z
UID:2137-1703098800-1703102400@stjohnscordova.com
SUMMARY:Advent Service
DESCRIPTION:
URL:https://stjohnscordova.com/churchevent/advent-service-6/
END:VEVENT
BEGIN:VEVENT
DTSTART;TZID=America/Chicago:20231220T180000
DTEND;TZID=America/Chicago:20231220T190000
DTSTAMP:20260425T204328
CREATED:20231202T130128Z
LAST-MODIFIED:20231202T130128Z
UID:2140-1703095200-1703098800@stjohnscordova.com
SUMMARY:Advent Supper Fundraiser
DESCRIPTION:
URL:https://stjohnscordova.com/churchevent/advent-supper-fundraiser-3/
END:VEVENT
BEGIN:VEVENT
DTSTART;TZID=America/Chicago:20231220T160000
DTEND;TZID=America/Chicago:20231220T180000
DTSTAMP:20260425T204328
CREATED:20231202T125535Z
LAST-MODIFIED:20231202T125535Z
UID:2127-1703088000-1703095200@stjohnscordova.com
SUMMARY:Confirmation
DESCRIPTION:
URL:https://stjohnscordova.com/churchevent/confirmation-48/
END:VEVENT
BEGIN:VEVENT
DTSTART;TZID=America/Chicago:20231219T190000
DTEND;TZID=America/Chicago:20231219T200000
DTSTAMP:20260425T204328
CREATED:20231202T125510Z
LAST-MODIFIED:20231202T125510Z
UID:2123-1703012400-1703016000@stjohnscordova.com
SUMMARY:Board of Education
DESCRIPTION:
URL:https://stjohnscordova.com/churchevent/board-of-education-16/
END:VEVENT
BEGIN:VEVENT
DTSTART;TZID=America/Chicago:20231217T090000
DTEND;TZID=America/Chicago:20231217T100000
DTSTAMP:20260425T204328
CREATED:20231202T125448Z
LAST-MODIFIED:20231202T125448Z
UID:2113-1702803600-1702807200@stjohnscordova.com
SUMMARY:Children's Christmas Program
DESCRIPTION:
URL:https://stjohnscordova.com/churchevent/childrens-christmas-program-2/
END:VEVENT
BEGIN:VEVENT
DTSTART;TZID=America/Chicago:20231213T190000
DTEND;TZID=America/Chicago:20231213T200000
DTSTAMP:20260425T204328
CREATED:20231202T130125Z
LAST-MODIFIED:20231202T130125Z
UID:2136-1702494000-1702497600@stjohnscordova.com
SUMMARY:Advent Service
DESCRIPTION:
URL:https://stjohnscordova.com/churchevent/advent-service-5/
END:VEVENT
BEGIN:VEVENT
DTSTART;TZID=America/Chicago:20231213T180000
DTEND;TZID=America/Chicago:20231213T190000
DTSTAMP:20260425T204328
CREATED:20231202T130127Z
LAST-MODIFIED:20231202T130127Z
UID:2139-1702490400-1702494000@stjohnscordova.com
SUMMARY:Advent Supper Fundraiser
DESCRIPTION:
URL:https://stjohnscordova.com/churchevent/advent-supper-fundraiser-2/
END:VEVENT
BEGIN:VEVENT
DTSTART;TZID=America/Chicago:20231213T160000
DTEND;TZID=America/Chicago:20231213T180000
DTSTAMP:20260425T204328
CREATED:20231202T125534Z
LAST-MODIFIED:20231202T125534Z
UID:2126-1702483200-1702490400@stjohnscordova.com
SUMMARY:Confirmation
DESCRIPTION:
URL:https://stjohnscordova.com/churchevent/confirmation-47/
END:VEVENT
BEGIN:VEVENT
DTSTART;TZID=America/Chicago:20231210T103000
DTEND;TZID=America/Chicago:20231210T113000
DTSTAMP:20260425T204328
CREATED:20231202T125453Z
LAST-MODIFIED:20231202T125453Z
UID:2117-1702204200-1702207800@stjohnscordova.com
SUMMARY:Sunday School & Adult Bible Class
DESCRIPTION:
URL:https://stjohnscordova.com/churchevent/sunday-school-adult-bible-class-59/
END:VEVENT
BEGIN:VEVENT
DTSTART;TZID=America/Chicago:20231210T100000
DTEND;TZID=America/Chicago:20231210T110000
DTSTAMP:20260425T204328
CREATED:20231202T125454Z
LAST-MODIFIED:20231202T125454Z
UID:2119-1702202400-1702206000@stjohnscordova.com
SUMMARY:Trutees Meeting
DESCRIPTION:
URL:https://stjohnscordova.com/churchevent/trutees-meeting-5/
END:VEVENT
BEGIN:VEVENT
DTSTART;TZID=America/Chicago:20231210T090000
DTEND;TZID=America/Chicago:20231210T100000
DTSTAMP:20260425T204328
CREATED:20231202T125448Z
LAST-MODIFIED:20231202T125448Z
UID:2112-1702198800-1702202400@stjohnscordova.com
SUMMARY:Church
DESCRIPTION:
URL:https://stjohnscordova.com/churchevent/church-62/
END:VEVENT
BEGIN:VEVENT
DTSTART;TZID=America/Chicago:20231206T190000
DTEND;TZID=America/Chicago:20231206T200000
DTSTAMP:20260425T204328
CREATED:20231202T125537Z
LAST-MODIFIED:20231202T125624Z
UID:2129-1701889200-1701892800@stjohnscordova.com
SUMMARY:Advent Service
DESCRIPTION:
URL:https://stjohnscordova.com/churchevent/advent-service-4/
END:VEVENT
BEGIN:VEVENT
DTSTART;TZID=America/Chicago:20231206T180000
DTEND;TZID=America/Chicago:20231206T190000
DTSTAMP:20260425T204328
CREATED:20231202T130127Z
LAST-MODIFIED:20231202T130127Z
UID:2138-1701885600-1701889200@stjohnscordova.com
SUMMARY:Advent Supper Fundraiser
DESCRIPTION:
URL:https://stjohnscordova.com/churchevent/advent-supper-fundraiser/
END:VEVENT
BEGIN:VEVENT
DTSTART;TZID=America/Chicago:20231206T160000
DTEND;TZID=America/Chicago:20231206T180000
DTSTAMP:20260425T204328
CREATED:20231202T125533Z
LAST-MODIFIED:20231202T125533Z
UID:2125-1701878400-1701885600@stjohnscordova.com
SUMMARY:Confirmation
DESCRIPTION:
URL:https://stjohnscordova.com/churchevent/confirmation-46/
END:VEVENT
BEGIN:VEVENT
DTSTART;TZID=America/Chicago:20231206T140000
DTEND;TZID=America/Chicago:20231206T150000
DTSTAMP:20260425T204328
CREATED:20231202T125508Z
LAST-MODIFIED:20231202T125508Z
UID:2121-1701871200-1701874800@stjohnscordova.com
SUMMARY:Dorcas Christmas Party
DESCRIPTION:
URL:https://stjohnscordova.com/churchevent/dorcas-christmas-party/
END:VEVENT
BEGIN:VEVENT
DTSTART;TZID=America/Chicago:20231205T190000
DTEND;TZID=America/Chicago:20231205T200000
DTSTAMP:20260425T204328
CREATED:20231202T125509Z
LAST-MODIFIED:20231202T125509Z
UID:2122-1701802800-1701806400@stjohnscordova.com
SUMMARY:Elders Meeting
DESCRIPTION:
URL:https://stjohnscordova.com/churchevent/elders-meeting-14/
END:VEVENT
BEGIN:VEVENT
DTSTART;TZID=America/Chicago:20231204T190000
DTEND;TZID=America/Chicago:20231204T200000
DTSTAMP:20260425T204328
CREATED:20231202T125508Z
LAST-MODIFIED:20231202T125508Z
UID:2120-1701716400-1701720000@stjohnscordova.com
SUMMARY:Lydia LWML
DESCRIPTION:
URL:https://stjohnscordova.com/churchevent/lydia-lwml-14/
END:VEVENT
BEGIN:VEVENT
DTSTART;TZID=America/Chicago:20231203T103000
DTEND;TZID=America/Chicago:20231203T113000
DTSTAMP:20260425T204328
CREATED:20231202T125453Z
LAST-MODIFIED:20231202T125453Z
UID:2116-1701599400-1701603000@stjohnscordova.com
SUMMARY:Sunday School & Adult Bible Class
DESCRIPTION:
URL:https://stjohnscordova.com/churchevent/sunday-school-adult-bible-class-58/
END:VEVENT
BEGIN:VEVENT
DTSTART;TZID=America/Chicago:20231203T090000
DTEND;TZID=America/Chicago:20231203T100000
DTSTAMP:20260425T204328
CREATED:20231202T125447Z
LAST-MODIFIED:20231202T125447Z
UID:2111-1701594000-1701597600@stjohnscordova.com
SUMMARY:Church
DESCRIPTION:
URL:https://stjohnscordova.com/churchevent/church-61/
END:VEVENT
END:VCALENDAR