BEGIN:VCALENDAR
VERSION:2.0
PRODID:-//St. John&#039;s Lutheran Church - Cordova - ECPv6.15.20//NONSGML v1.0//EN
CALSCALE:GREGORIAN
METHOD:PUBLISH
X-WR-CALNAME:St. John&#039;s Lutheran Church - Cordova
X-ORIGINAL-URL:https://stjohnscordova.com
X-WR-CALDESC:Events for St. John&#039;s Lutheran Church - Cordova
REFRESH-INTERVAL;VALUE=DURATION:PT1H
X-Robots-Tag:noindex
X-PUBLISHED-TTL:PT1H
BEGIN:VTIMEZONE
TZID:America/Chicago
BEGIN:DAYLIGHT
TZOFFSETFROM:-0600
TZOFFSETTO:-0500
TZNAME:CDT
DTSTART:20230312T080000
END:DAYLIGHT
BEGIN:STANDARD
TZOFFSETFROM:-0500
TZOFFSETTO:-0600
TZNAME:CST
DTSTART:20231105T070000
END:STANDARD
BEGIN:DAYLIGHT
TZOFFSETFROM:-0600
TZOFFSETTO:-0500
TZNAME:CDT
DTSTART:20240310T080000
END:DAYLIGHT
BEGIN:STANDARD
TZOFFSETFROM:-0500
TZOFFSETTO:-0600
TZNAME:CST
DTSTART:20241103T070000
END:STANDARD
BEGIN:DAYLIGHT
TZOFFSETFROM:-0600
TZOFFSETTO:-0500
TZNAME:CDT
DTSTART:20250309T080000
END:DAYLIGHT
BEGIN:STANDARD
TZOFFSETFROM:-0500
TZOFFSETTO:-0600
TZNAME:CST
DTSTART:20251102T070000
END:STANDARD
END:VTIMEZONE
BEGIN:VEVENT
DTSTART;TZID=America/Chicago:20241103T103000
DTEND;TZID=America/Chicago:20241103T113000
DTSTAMP:20260425T100556
CREATED:20241105T142908Z
LAST-MODIFIED:20241105T142908Z
UID:2609-1730629800-1730633400@stjohnscordova.com
SUMMARY:Sunday School & Adult Bible Class
DESCRIPTION:
URL:https://stjohnscordova.com/churchevent/sunday-school-adult-bible-class-101/
END:VEVENT
BEGIN:VEVENT
DTSTART;TZID=America/Chicago:20241103T090000
DTEND;TZID=America/Chicago:20241103T100000
DTSTAMP:20260425T100556
CREATED:20241105T142902Z
LAST-MODIFIED:20241105T142902Z
UID:2605-1730624400-1730628000@stjohnscordova.com
SUMMARY:Church
DESCRIPTION:
URL:https://stjohnscordova.com/churchevent/church-104/
END:VEVENT
BEGIN:VEVENT
DTSTART;TZID=America/Chicago:20241103T085000
DTEND;TZID=America/Chicago:20241103T090000
DTSTAMP:20260425T100556
CREATED:20241105T142901Z
LAST-MODIFIED:20241105T142901Z
UID:2604-1730623800-1730624400@stjohnscordova.com
SUMMARY:Hymn Sing
DESCRIPTION:
URL:https://stjohnscordova.com/churchevent/hymn-sing-27/
END:VEVENT
BEGIN:VEVENT
DTSTART;TZID=America/Chicago:20241102T073000
DTEND;TZID=America/Chicago:20241102T083000
DTSTAMP:20260425T100556
CREATED:20241105T143303Z
LAST-MODIFIED:20241105T143303Z
UID:2628-1730532600-1730536200@stjohnscordova.com
SUMMARY:Men's Group Bible Study
DESCRIPTION:
URL:https://stjohnscordova.com/churchevent/mens-group-bible-study/
END:VEVENT
BEGIN:VEVENT
DTSTART;TZID=America/Chicago:20241030T160000
DTEND;TZID=America/Chicago:20241030T180000
DTSTAMP:20260425T100556
CREATED:20241001T151205Z
LAST-MODIFIED:20241001T152234Z
UID:2567-1730304000-1730311200@stjohnscordova.com
SUMMARY:Confirmation
DESCRIPTION:
URL:https://stjohnscordova.com/churchevent/confirmation-73/
END:VEVENT
BEGIN:VEVENT
DTSTART;TZID=America/Chicago:20241027T170000
DTEND;TZID=America/Chicago:20241027T190000
DTSTAMP:20260425T100556
CREATED:20241001T151313Z
LAST-MODIFIED:20241001T151313Z
UID:2571-1730048400-1730055600@stjohnscordova.com
SUMMARY:Bible Walk
DESCRIPTION:
URL:https://stjohnscordova.com/churchevent/bible-walk/
END:VEVENT
BEGIN:VEVENT
DTSTART;TZID=America/Chicago:20241027T143000
DTEND;TZID=America/Chicago:20241027T163000
DTSTAMP:20260425T100556
CREATED:20241001T151003Z
LAST-MODIFIED:20241001T151003Z
UID:2561-1730039400-1730046600@stjohnscordova.com
SUMMARY:Devotions at Fairmont
DESCRIPTION:
URL:https://stjohnscordova.com/churchevent/devotions-at-fairmont-22/
END:VEVENT
BEGIN:VEVENT
DTSTART;TZID=America/Chicago:20241027T103000
DTEND;TZID=America/Chicago:20241027T113000
DTSTAMP:20260425T100556
CREATED:20241001T150933Z
LAST-MODIFIED:20241001T150933Z
UID:2552-1730025000-1730028600@stjohnscordova.com
SUMMARY:Sunday School & Adult Bible Class
DESCRIPTION:
URL:https://stjohnscordova.com/churchevent/sunday-school-adult-bible-class-100/
END:VEVENT
BEGIN:VEVENT
DTSTART;TZID=America/Chicago:20241027T090000
DTEND;TZID=America/Chicago:20241027T100000
DTSTAMP:20260425T100556
CREATED:20241001T150926Z
LAST-MODIFIED:20241001T150926Z
UID:2548-1730019600-1730023200@stjohnscordova.com
SUMMARY:Church
DESCRIPTION:
URL:https://stjohnscordova.com/churchevent/church-103/
END:VEVENT
BEGIN:VEVENT
DTSTART;TZID=America/Chicago:20241026T170000
DTEND;TZID=America/Chicago:20241026T235900
DTSTAMP:20260425T100556
CREATED:20241001T151205Z
LAST-MODIFIED:20241001T151205Z
UID:2568-1729962000-1729987140@stjohnscordova.com
SUMMARY:Youth Group Lock-In
DESCRIPTION:
URL:https://stjohnscordova.com/churchevent/youth-group-lock-in/
END:VEVENT
BEGIN:VEVENT
DTSTART;TZID=America/Chicago:20241024T103000
DTEND;TZID=America/Chicago:20241024T113000
DTSTAMP:20260425T100556
CREATED:20241022T194434Z
LAST-MODIFIED:20241022T194434Z
UID:2592-1729765800-1729769400@stjohnscordova.com
SUMMARY:Elaine Lutz Funeral
DESCRIPTION:On Monday morning\, the Lord called Elaine Lutz to her heavenly home. Her funeral will be at St. John’s on Thursday\, October 24th\, at 10:30 am. \nPlease note: Visitation will be at St. John’s at 9:30 am (one hour before the funeral) on Thursday\, October 24th. A visitation will not be held on Wednesday the day prior. Additional information can be found at: farmerandsonfuneralhome.com
URL:https://stjohnscordova.com/churchevent/elaine-lutz-funeral/
END:VEVENT
BEGIN:VEVENT
DTSTART;TZID=America/Chicago:20241024T093000
DTEND;TZID=America/Chicago:20241024T103000
DTSTAMP:20260425T100556
CREATED:20241022T194525Z
LAST-MODIFIED:20241022T194525Z
UID:2594-1729762200-1729765800@stjohnscordova.com
SUMMARY:Elaine Lutz Visitation
DESCRIPTION:On Monday morning\, the Lord called Elaine Lutz to her heavenly home. Her funeral will be at St. John’s on Thursday\, October 24th\, at 10:30 am. \nPlease note: Visitation will be at St. John’s at 9:30 am (one hour before the funeral) on Thursday\, October 24th. A visitation will not be held on Wednesday the day prior. Additional information can be found at: farmerandsonfuneralhome.com
URL:https://stjohnscordova.com/churchevent/elaine-lutz-visitation/
END:VEVENT
BEGIN:VEVENT
DTSTART;TZID=America/Chicago:20241023T160000
DTEND;TZID=America/Chicago:20241023T180000
DTSTAMP:20260425T100556
CREATED:20241001T151204Z
LAST-MODIFIED:20241001T152255Z
UID:2566-1729699200-1729706400@stjohnscordova.com
SUMMARY:Confirmation
DESCRIPTION:
URL:https://stjohnscordova.com/churchevent/confirmation-72/
END:VEVENT
BEGIN:VEVENT
DTSTART;TZID=America/Chicago:20241020T113000
DTEND;TZID=America/Chicago:20241020T123000
DTSTAMP:20260425T100556
CREATED:20241001T150933Z
LAST-MODIFIED:20241001T150933Z
UID:2553-1729423800-1729427400@stjohnscordova.com
SUMMARY:Potluck & Voters Meeting
DESCRIPTION:
URL:https://stjohnscordova.com/churchevent/potluck-voters-meeting-3/
END:VEVENT
BEGIN:VEVENT
DTSTART;TZID=America/Chicago:20241020T103000
DTEND;TZID=America/Chicago:20241020T113000
DTSTAMP:20260425T100556
CREATED:20241001T150932Z
LAST-MODIFIED:20241001T150932Z
UID:2551-1729420200-1729423800@stjohnscordova.com
SUMMARY:Sunday School & Adult Bible Class
DESCRIPTION:
URL:https://stjohnscordova.com/churchevent/sunday-school-adult-bible-class-99/
END:VEVENT
BEGIN:VEVENT
DTSTART;TZID=America/Chicago:20241020T090000
DTEND;TZID=America/Chicago:20241020T100000
DTSTAMP:20260425T100556
CREATED:20241001T150925Z
LAST-MODIFIED:20241001T150925Z
UID:2547-1729414800-1729418400@stjohnscordova.com
SUMMARY:Church
DESCRIPTION:
URL:https://stjohnscordova.com/churchevent/church-102/
END:VEVENT
BEGIN:VEVENT
DTSTART;TZID=America/Chicago:20241016T200000
DTEND;TZID=America/Chicago:20241016T210000
DTSTAMP:20260425T100556
CREATED:20241001T151002Z
LAST-MODIFIED:20241001T151002Z
UID:2559-1729108800-1729112400@stjohnscordova.com
SUMMARY:Church Council
DESCRIPTION:
URL:https://stjohnscordova.com/churchevent/church-council-7/
END:VEVENT
BEGIN:VEVENT
DTSTART;TZID=America/Chicago:20241016T190000
DTEND;TZID=America/Chicago:20241016T200000
DTSTAMP:20260425T100556
CREATED:20241001T150949Z
LAST-MODIFIED:20241001T150949Z
UID:2558-1729105200-1729108800@stjohnscordova.com
SUMMARY:Elders Meeting
DESCRIPTION:
URL:https://stjohnscordova.com/churchevent/elders-meeting-24/
END:VEVENT
BEGIN:VEVENT
DTSTART;TZID=America/Chicago:20241016T160000
DTEND;TZID=America/Chicago:20241016T180000
DTSTAMP:20260425T100556
CREATED:20241001T151204Z
LAST-MODIFIED:20241001T152259Z
UID:2565-1729094400-1729101600@stjohnscordova.com
SUMMARY:Confirmation
DESCRIPTION:
URL:https://stjohnscordova.com/churchevent/confirmation-71/
END:VEVENT
BEGIN:VEVENT
DTSTART;TZID=America/Chicago:20241013T103000
DTEND;TZID=America/Chicago:20241013T113000
DTSTAMP:20260425T100556
CREATED:20241001T150931Z
LAST-MODIFIED:20241001T150931Z
UID:2550-1728815400-1728819000@stjohnscordova.com
SUMMARY:Sunday School & Adult Bible Class
DESCRIPTION:
URL:https://stjohnscordova.com/churchevent/sunday-school-adult-bible-class-98/
END:VEVENT
BEGIN:VEVENT
DTSTART;TZID=America/Chicago:20241013T100000
DTEND;TZID=America/Chicago:20241013T103000
DTSTAMP:20260425T100556
CREATED:20241001T151002Z
LAST-MODIFIED:20241001T151002Z
UID:2560-1728813600-1728815400@stjohnscordova.com
SUMMARY:Trustees Meeting
DESCRIPTION:
URL:https://stjohnscordova.com/churchevent/trustees-meeting-15/
END:VEVENT
BEGIN:VEVENT
DTSTART;TZID=America/Chicago:20241013T090000
DTEND;TZID=America/Chicago:20241013T100000
DTSTAMP:20260425T100556
CREATED:20241001T150924Z
LAST-MODIFIED:20241001T150924Z
UID:2546-1728810000-1728813600@stjohnscordova.com
SUMMARY:Church
DESCRIPTION:
URL:https://stjohnscordova.com/churchevent/church-101/
END:VEVENT
BEGIN:VEVENT
DTSTART;TZID=America/Chicago:20241009T190000
DTEND;TZID=America/Chicago:20241009T200000
DTSTAMP:20260425T100556
CREATED:20241001T150948Z
LAST-MODIFIED:20241001T150948Z
UID:2557-1728500400-1728504000@stjohnscordova.com
SUMMARY:Small Group
DESCRIPTION:
URL:https://stjohnscordova.com/churchevent/small-group-16/
END:VEVENT
BEGIN:VEVENT
DTSTART;TZID=America/Chicago:20241009T190000
DTEND;TZID=America/Chicago:20241009T200000
DTSTAMP:20260425T100556
CREATED:20241001T150946Z
LAST-MODIFIED:20241001T150946Z
UID:2554-1728500400-1728504000@stjohnscordova.com
SUMMARY:Lydia LWML
DESCRIPTION:
URL:https://stjohnscordova.com/churchevent/lydia-lwml-24/
END:VEVENT
BEGIN:VEVENT
DTSTART;TZID=America/Chicago:20241009T160000
DTEND;TZID=America/Chicago:20241009T180000
DTSTAMP:20260425T100556
CREATED:20241001T151203Z
LAST-MODIFIED:20241001T152304Z
UID:2564-1728489600-1728496800@stjohnscordova.com
SUMMARY:Confirmation
DESCRIPTION:
URL:https://stjohnscordova.com/churchevent/confirmation-70/
END:VEVENT
BEGIN:VEVENT
DTSTART;TZID=America/Chicago:20241009T133000
DTEND;TZID=America/Chicago:20241009T143000
DTSTAMP:20260425T100556
CREATED:20241001T150947Z
LAST-MODIFIED:20241001T150947Z
UID:2556-1728480600-1728484200@stjohnscordova.com
SUMMARY:Small Group
DESCRIPTION:
URL:https://stjohnscordova.com/churchevent/small-group-15/
END:VEVENT
BEGIN:VEVENT
DTSTART;TZID=America/Chicago:20241008T190000
DTEND;TZID=America/Chicago:20241008T200000
DTSTAMP:20260425T100556
CREATED:20241001T151003Z
LAST-MODIFIED:20241001T151003Z
UID:2562-1728414000-1728417600@stjohnscordova.com
SUMMARY:Board of Education
DESCRIPTION:
URL:https://stjohnscordova.com/churchevent/board-of-education-25/
END:VEVENT
BEGIN:VEVENT
DTSTART;TZID=America/Chicago:20241006T140000
DTEND;TZID=America/Chicago:20241006T150000
DTSTAMP:20260425T100556
CREATED:20241001T151313Z
LAST-MODIFIED:20241001T151313Z
UID:2570-1728223200-1728226800@stjohnscordova.com
SUMMARY:Life Chain in Friend and Seward
DESCRIPTION:
URL:https://stjohnscordova.com/churchevent/life-chain-in-friend-and-seward/
END:VEVENT
BEGIN:VEVENT
DTSTART;TZID=America/Chicago:20241006T103000
DTEND;TZID=America/Chicago:20241006T113000
DTSTAMP:20260425T100556
CREATED:20241001T150930Z
LAST-MODIFIED:20241001T150930Z
UID:2549-1728210600-1728214200@stjohnscordova.com
SUMMARY:Sunday School & Adult Bible Class
DESCRIPTION:
URL:https://stjohnscordova.com/churchevent/sunday-school-adult-bible-class-97/
END:VEVENT
BEGIN:VEVENT
DTSTART;TZID=America/Chicago:20241006T090000
DTEND;TZID=America/Chicago:20241006T100000
DTSTAMP:20260425T100556
CREATED:20241001T150924Z
LAST-MODIFIED:20241001T150924Z
UID:2545-1728205200-1728208800@stjohnscordova.com
SUMMARY:Church
DESCRIPTION:
URL:https://stjohnscordova.com/churchevent/church-100/
END:VEVENT
END:VCALENDAR