BEGIN:VCALENDAR
VERSION:2.0
PRODID:-//St. John&#039;s Lutheran Church - Cordova - ECPv6.15.20//NONSGML v1.0//EN
CALSCALE:GREGORIAN
METHOD:PUBLISH
X-WR-CALNAME:St. John&#039;s Lutheran Church - Cordova
X-ORIGINAL-URL:https://stjohnscordova.com
X-WR-CALDESC:Events for St. John&#039;s Lutheran Church - Cordova
REFRESH-INTERVAL;VALUE=DURATION:PT1H
X-Robots-Tag:noindex
X-PUBLISHED-TTL:PT1H
BEGIN:VTIMEZONE
TZID:America/Chicago
BEGIN:DAYLIGHT
TZOFFSETFROM:-0600
TZOFFSETTO:-0500
TZNAME:CDT
DTSTART:20250309T080000
END:DAYLIGHT
BEGIN:STANDARD
TZOFFSETFROM:-0500
TZOFFSETTO:-0600
TZNAME:CST
DTSTART:20251102T070000
END:STANDARD
BEGIN:DAYLIGHT
TZOFFSETFROM:-0600
TZOFFSETTO:-0500
TZNAME:CDT
DTSTART:20260308T080000
END:DAYLIGHT
BEGIN:STANDARD
TZOFFSETFROM:-0500
TZOFFSETTO:-0600
TZNAME:CST
DTSTART:20261101T070000
END:STANDARD
BEGIN:DAYLIGHT
TZOFFSETFROM:-0600
TZOFFSETTO:-0500
TZNAME:CDT
DTSTART:20270314T080000
END:DAYLIGHT
BEGIN:STANDARD
TZOFFSETFROM:-0500
TZOFFSETTO:-0600
TZNAME:CST
DTSTART:20271107T070000
END:STANDARD
END:VTIMEZONE
BEGIN:VEVENT
DTSTART;TZID=America/Chicago:20260218T190000
DTEND;TZID=America/Chicago:20260218T200000
DTSTAMP:20260423T185141
CREATED:20260201T040024Z
LAST-MODIFIED:20260201T040024Z
UID:3675-1771441200-1771444800@stjohnscordova.com
SUMMARY:Ash Wednesday Service
DESCRIPTION:
URL:https://stjohnscordova.com/churchevent/ash-wednesday-service-5/
END:VEVENT
BEGIN:VEVENT
DTSTART;TZID=America/Chicago:20260218T180000
DTEND;TZID=America/Chicago:20260218T190000
DTSTAMP:20260423T185141
CREATED:20260201T040313Z
LAST-MODIFIED:20260201T040313Z
UID:3676-1771437600-1771441200@stjohnscordova.com
SUMMARY:Ash Wednesday Meal
DESCRIPTION:
URL:https://stjohnscordova.com/churchevent/ash-wednesday-meal/
END:VEVENT
BEGIN:VEVENT
DTSTART;TZID=America/Chicago:20260218T160000
DTEND;TZID=America/Chicago:20260218T180000
DTSTAMP:20260423T185141
CREATED:20260201T040009Z
LAST-MODIFIED:20260201T040009Z
UID:3667-1771430400-1771437600@stjohnscordova.com
SUMMARY:Confirmation
DESCRIPTION:
URL:https://stjohnscordova.com/churchevent/confirmation-123/
END:VEVENT
BEGIN:VEVENT
DTSTART;TZID=America/Chicago:20260217T190000
DTEND;TZID=America/Chicago:20260217T200000
DTSTAMP:20260423T185141
CREATED:20260201T035955Z
LAST-MODIFIED:20260201T035955Z
UID:3664-1771354800-1771358400@stjohnscordova.com
SUMMARY:Board of Education
DESCRIPTION:
URL:https://stjohnscordova.com/churchevent/board-of-education-41/
END:VEVENT
BEGIN:VEVENT
DTSTART;TZID=America/Chicago:20260215T103000
DTEND;TZID=America/Chicago:20260215T113000
DTSTAMP:20260423T185141
CREATED:20260201T035937Z
LAST-MODIFIED:20260201T035937Z
UID:3658-1771151400-1771155000@stjohnscordova.com
SUMMARY:Sunday School & Adult Bible Class
DESCRIPTION:
URL:https://stjohnscordova.com/churchevent/sunday-school-adult-bible-class-166/
END:VEVENT
BEGIN:VEVENT
DTSTART;TZID=America/Chicago:20260215T090000
DTEND;TZID=America/Chicago:20260215T090000
DTSTAMP:20260423T185141
CREATED:20260201T035934Z
LAST-MODIFIED:20260201T035934Z
UID:3654-1771146000-1771146000@stjohnscordova.com
SUMMARY:Church
DESCRIPTION:
URL:https://stjohnscordova.com/churchevent/church-171/
END:VEVENT
BEGIN:VEVENT
DTSTART;TZID=America/Chicago:20260211T160000
DTEND;TZID=America/Chicago:20260211T180000
DTSTAMP:20260423T185141
CREATED:20260201T040008Z
LAST-MODIFIED:20260201T040008Z
UID:3666-1770825600-1770832800@stjohnscordova.com
SUMMARY:Confirmation
DESCRIPTION:
URL:https://stjohnscordova.com/churchevent/confirmation-122/
END:VEVENT
BEGIN:VEVENT
DTSTART;TZID=America/Chicago:20260211T150000
DTEND;TZID=America/Chicago:20260211T160000
DTSTAMP:20260423T185141
CREATED:20260201T040023Z
LAST-MODIFIED:20260201T040023Z
UID:3671-1770822000-1770825600@stjohnscordova.com
SUMMARY:Missional Community Gathering
DESCRIPTION:
URL:https://stjohnscordova.com/churchevent/missional-community-gathering/
END:VEVENT
BEGIN:VEVENT
DTSTART;TZID=America/Chicago:20260211T133000
DTEND;TZID=America/Chicago:20260211T143000
DTSTAMP:20260423T185141
CREATED:20260201T040010Z
LAST-MODIFIED:20260201T040010Z
UID:3670-1770816600-1770820200@stjohnscordova.com
SUMMARY:Small Group Study
DESCRIPTION:
URL:https://stjohnscordova.com/churchevent/small-group-study-31/
END:VEVENT
BEGIN:VEVENT
DTSTART;TZID=America/Chicago:20260208T103000
DTEND;TZID=America/Chicago:20260208T113000
DTSTAMP:20260423T185141
CREATED:20260201T035937Z
LAST-MODIFIED:20260201T035937Z
UID:3657-1770546600-1770550200@stjohnscordova.com
SUMMARY:Sunday School & Adult Bible Class
DESCRIPTION:
URL:https://stjohnscordova.com/churchevent/sunday-school-adult-bible-class-165/
END:VEVENT
BEGIN:VEVENT
DTSTART;TZID=America/Chicago:20260208T100000
DTEND;TZID=America/Chicago:20260208T103000
DTSTAMP:20260423T185141
CREATED:20260201T035952Z
LAST-MODIFIED:20260201T035952Z
UID:3661-1770544800-1770546600@stjohnscordova.com
SUMMARY:Trustees Meeting
DESCRIPTION:
URL:https://stjohnscordova.com/churchevent/trustees-meeting-20/
END:VEVENT
BEGIN:VEVENT
DTSTART;TZID=America/Chicago:20260208T090000
DTEND;TZID=America/Chicago:20260208T090000
DTSTAMP:20260423T185141
CREATED:20260201T035933Z
LAST-MODIFIED:20260201T035933Z
UID:3653-1770541200-1770541200@stjohnscordova.com
SUMMARY:Church
DESCRIPTION:
URL:https://stjohnscordova.com/churchevent/church-170/
END:VEVENT
BEGIN:VEVENT
DTSTART;TZID=America/Chicago:20260207T073000
DTEND;TZID=America/Chicago:20260207T083000
DTSTAMP:20260423T185141
CREATED:20260201T035938Z
LAST-MODIFIED:20260201T035938Z
UID:3660-1770449400-1770453000@stjohnscordova.com
SUMMARY:Men's Group Bible Study
DESCRIPTION:
URL:https://stjohnscordova.com/churchevent/mens-group-bible-study-17/
END:VEVENT
BEGIN:VEVENT
DTSTART;TZID=America/Chicago:20260205T190000
DTEND;TZID=America/Chicago:20260205T200000
DTSTAMP:20260423T185141
CREATED:20260201T040023Z
LAST-MODIFIED:20260201T040023Z
UID:3672-1770318000-1770321600@stjohnscordova.com
SUMMARY:Elders Meeting
DESCRIPTION:
URL:https://stjohnscordova.com/churchevent/elders-meeting-39/
END:VEVENT
BEGIN:VEVENT
DTSTART;TZID=America/Chicago:20260204T160000
DTEND;TZID=America/Chicago:20260204T180000
DTSTAMP:20260423T185141
CREATED:20260201T035955Z
LAST-MODIFIED:20260201T035955Z
UID:3665-1770220800-1770228000@stjohnscordova.com
SUMMARY:Confirmation
DESCRIPTION:
URL:https://stjohnscordova.com/churchevent/confirmation-121/
END:VEVENT
BEGIN:VEVENT
DTSTART;TZID=America/Chicago:20260204T140000
DTEND;TZID=America/Chicago:20260204T150000
DTSTAMP:20260423T185141
CREATED:20260201T035954Z
LAST-MODIFIED:20260201T035954Z
UID:3663-1770213600-1770217200@stjohnscordova.com
SUMMARY:Dorcas LWML
DESCRIPTION:
URL:https://stjohnscordova.com/churchevent/dorcas-lwml-38/
END:VEVENT
BEGIN:VEVENT
DTSTART;TZID=America/Chicago:20260202T173000
DTEND;TZID=America/Chicago:20260202T190000
DTSTAMP:20260423T185141
CREATED:20260201T035953Z
LAST-MODIFIED:20260201T035953Z
UID:3662-1770053400-1770058800@stjohnscordova.com
SUMMARY:Lydia LWML
DESCRIPTION:
URL:https://stjohnscordova.com/churchevent/lydia-lwml-41/
END:VEVENT
BEGIN:VEVENT
DTSTART;TZID=America/Chicago:20260201T103000
DTEND;TZID=America/Chicago:20260201T113000
DTSTAMP:20260423T185141
CREATED:20260201T035936Z
LAST-MODIFIED:20260201T035936Z
UID:3656-1769941800-1769945400@stjohnscordova.com
SUMMARY:Sunday School & Adult Bible Class
DESCRIPTION:
URL:https://stjohnscordova.com/churchevent/sunday-school-adult-bible-class-164/
END:VEVENT
BEGIN:VEVENT
DTSTART;TZID=America/Chicago:20260201T090000
DTEND;TZID=America/Chicago:20260201T090000
DTSTAMP:20260423T185141
CREATED:20260201T035932Z
LAST-MODIFIED:20260201T035932Z
UID:3652-1769936400-1769936400@stjohnscordova.com
SUMMARY:Church
DESCRIPTION:
URL:https://stjohnscordova.com/churchevent/church-169/
END:VEVENT
BEGIN:VEVENT
DTSTART;TZID=America/Chicago:20260201T085000
DTEND;TZID=America/Chicago:20260201T085000
DTSTAMP:20260423T185141
CREATED:20260201T035931Z
LAST-MODIFIED:20260201T035931Z
UID:3651-1769935800-1769935800@stjohnscordova.com
SUMMARY:Hymn Sing
DESCRIPTION:
URL:https://stjohnscordova.com/churchevent/hymn-sing-43/
END:VEVENT
BEGIN:VEVENT
DTSTART;TZID=America/Chicago:20260131T170000
DTEND;TZID=America/Chicago:20260131T235900
DTSTAMP:20260423T185141
CREATED:20251230T030729Z
LAST-MODIFIED:20251230T030729Z
UID:3562-1769878800-1769903940@stjohnscordova.com
SUMMARY:Youth Lock-In
DESCRIPTION:
URL:https://stjohnscordova.com/churchevent/youth-lock-in-5/
END:VEVENT
BEGIN:VEVENT
DTSTART;TZID=America/Chicago:20260129T190000
DTEND;TZID=America/Chicago:20260129T210000
DTSTAMP:20260423T185141
CREATED:20260119T122557Z
LAST-MODIFIED:20260119T122557Z
UID:3629-1769713200-1769720400@stjohnscordova.com
SUMMARY:Special Congregational Meeting
DESCRIPTION:A Special Congregational Meeting will be held on Thursday\, January 29th\, 2026\, at 7:00 p.m. District\nPresident Snow and Pastor Kitzing will be present to discuss the pastoral Call process.\nAll members are encouraged to attend.
URL:https://stjohnscordova.com/churchevent/special-congregational-meeting/
END:VEVENT
BEGIN:VEVENT
DTSTART;TZID=America/Chicago:20260128T160000
DTEND;TZID=America/Chicago:20260128T180000
DTSTAMP:20260423T185141
CREATED:20251230T030729Z
LAST-MODIFIED:20251230T030729Z
UID:3560-1769616000-1769623200@stjohnscordova.com
SUMMARY:Confirmation
DESCRIPTION:
URL:https://stjohnscordova.com/churchevent/confirmation-120/
END:VEVENT
BEGIN:VEVENT
DTSTART;TZID=America/Chicago:20260125T183000
DTEND;TZID=America/Chicago:20260125T200000
DTSTAMP:20260423T185141
CREATED:20251230T030729Z
LAST-MODIFIED:20251230T030729Z
UID:3561-1769365800-1769371200@stjohnscordova.com
SUMMARY:High School Night
DESCRIPTION:
URL:https://stjohnscordova.com/churchevent/high-school-night-8/
END:VEVENT
BEGIN:VEVENT
DTSTART;TZID=America/Chicago:20260125T113000
DTEND;TZID=America/Chicago:20260125T143000
DTSTAMP:20260423T185141
CREATED:20260119T122457Z
LAST-MODIFIED:20260119T122457Z
UID:3627-1769340600-1769351400@stjohnscordova.com
SUMMARY:Voters' Meeting
DESCRIPTION:
URL:https://stjohnscordova.com/churchevent/voters-meeting-4/
END:VEVENT
BEGIN:VEVENT
DTSTART;TZID=America/Chicago:20260125T103000
DTEND;TZID=America/Chicago:20260125T113000
DTSTAMP:20260423T185141
CREATED:20251230T030714Z
LAST-MODIFIED:20251230T030714Z
UID:3551-1769337000-1769340600@stjohnscordova.com
SUMMARY:Sunday School & Adult Bible Class
DESCRIPTION:
URL:https://stjohnscordova.com/churchevent/sunday-school-adult-bible-class-163/
END:VEVENT
BEGIN:VEVENT
DTSTART;TZID=America/Chicago:20260125T090000
DTEND;TZID=America/Chicago:20260125T100000
DTSTAMP:20260423T185141
CREATED:20251230T030710Z
LAST-MODIFIED:20251230T030710Z
UID:3546-1769331600-1769335200@stjohnscordova.com
SUMMARY:Church
DESCRIPTION:
URL:https://stjohnscordova.com/churchevent/church-168/
END:VEVENT
BEGIN:VEVENT
DTSTART;TZID=America/Chicago:20260121T190000
DTEND;TZID=America/Chicago:20260121T203000
DTSTAMP:20260423T185141
CREATED:20260119T122348Z
LAST-MODIFIED:20260119T122348Z
UID:3623-1769022000-1769027400@stjohnscordova.com
SUMMARY:Church Council
DESCRIPTION:
URL:https://stjohnscordova.com/churchevent/church-council-11/
END:VEVENT
BEGIN:VEVENT
DTSTART;TZID=America/Chicago:20260121T160000
DTEND;TZID=America/Chicago:20260121T180000
DTSTAMP:20260423T185141
CREATED:20251230T030729Z
LAST-MODIFIED:20251230T030729Z
UID:3559-1769011200-1769018400@stjohnscordova.com
SUMMARY:Confirmation
DESCRIPTION:
URL:https://stjohnscordova.com/churchevent/confirmation-119/
END:VEVENT
BEGIN:VEVENT
DTSTART;TZID=America/Chicago:20260120T190000
DTEND;TZID=America/Chicago:20260120T200000
DTSTAMP:20260423T185141
CREATED:20251230T030725Z
LAST-MODIFIED:20251230T030725Z
UID:3556-1768935600-1768939200@stjohnscordova.com
SUMMARY:Board of Education
DESCRIPTION:
URL:https://stjohnscordova.com/churchevent/board-of-education-40/
END:VEVENT
END:VCALENDAR