BEGIN:VCALENDAR
VERSION:2.0
PRODID:-//St. John&#039;s Lutheran Church - Cordova - ECPv6.15.20//NONSGML v1.0//EN
CALSCALE:GREGORIAN
METHOD:PUBLISH
X-ORIGINAL-URL:https://stjohnscordova.com
X-WR-CALDESC:Events for St. John&#039;s Lutheran Church - Cordova
REFRESH-INTERVAL;VALUE=DURATION:PT1H
X-Robots-Tag:noindex
X-PUBLISHED-TTL:PT1H
BEGIN:VTIMEZONE
TZID:America/Chicago
BEGIN:DAYLIGHT
TZOFFSETFROM:-0600
TZOFFSETTO:-0500
TZNAME:CDT
DTSTART:20240310T080000
END:DAYLIGHT
BEGIN:STANDARD
TZOFFSETFROM:-0500
TZOFFSETTO:-0600
TZNAME:CST
DTSTART:20241103T070000
END:STANDARD
BEGIN:DAYLIGHT
TZOFFSETFROM:-0600
TZOFFSETTO:-0500
TZNAME:CDT
DTSTART:20250309T080000
END:DAYLIGHT
BEGIN:STANDARD
TZOFFSETFROM:-0500
TZOFFSETTO:-0600
TZNAME:CST
DTSTART:20251102T070000
END:STANDARD
BEGIN:DAYLIGHT
TZOFFSETFROM:-0600
TZOFFSETTO:-0500
TZNAME:CDT
DTSTART:20260308T080000
END:DAYLIGHT
BEGIN:STANDARD
TZOFFSETFROM:-0500
TZOFFSETTO:-0600
TZNAME:CST
DTSTART:20261101T070000
END:STANDARD
END:VTIMEZONE
BEGIN:VEVENT
DTSTART;TZID=America/Chicago:20250513T130000
DTEND;TZID=America/Chicago:20250513T173000
DTSTAMP:20260424T071108
CREATED:20250504T115530Z
LAST-MODIFIED:20250504T115530Z
UID:2953-1747141200-1747157400@stjohnscordova.com
SUMMARY:Pastor's walk-in hours
DESCRIPTION:
URL:https://stjohnscordova.com/churchevent/pastors-walk-in-hours-11/
END:VEVENT
BEGIN:VEVENT
DTSTART;TZID=America/Chicago:20250514T133000
DTEND;TZID=America/Chicago:20250514T143000
DTSTAMP:20260424T071108
CREATED:20250504T115544Z
LAST-MODIFIED:20250504T115544Z
UID:2955-1747229400-1747233000@stjohnscordova.com
SUMMARY:Small Group
DESCRIPTION:
URL:https://stjohnscordova.com/churchevent/small-group-19/
END:VEVENT
BEGIN:VEVENT
DTSTART;TZID=America/Chicago:20250514T190000
DTEND;TZID=America/Chicago:20250514T200000
DTSTAMP:20260424T071108
CREATED:20250504T115545Z
LAST-MODIFIED:20250504T115545Z
UID:2956-1747249200-1747252800@stjohnscordova.com
SUMMARY:Small Group
DESCRIPTION:
URL:https://stjohnscordova.com/churchevent/small-group-20/
END:VEVENT
BEGIN:VEVENT
DTSTART;TZID=America/Chicago:20250518T090000
DTEND;TZID=America/Chicago:20250518T100000
DTSTAMP:20260424T071108
CREATED:20250504T115453Z
LAST-MODIFIED:20250504T115453Z
UID:2939-1747558800-1747562400@stjohnscordova.com
SUMMARY:Church - Confirmation
DESCRIPTION:
URL:https://stjohnscordova.com/churchevent/church-confirmation-2/
END:VEVENT
BEGIN:VEVENT
DTSTART;TZID=America/Chicago:20250520T130000
DTEND;TZID=America/Chicago:20250520T173000
DTSTAMP:20260424T071108
CREATED:20250504T115531Z
LAST-MODIFIED:20250504T115531Z
UID:2954-1747746000-1747762200@stjohnscordova.com
SUMMARY:Pastor's walk-in hours
DESCRIPTION:
URL:https://stjohnscordova.com/churchevent/pastors-walk-in-hours-12/
END:VEVENT
BEGIN:VEVENT
DTSTART;TZID=America/Chicago:20250520T190000
DTEND;TZID=America/Chicago:20250520T200000
DTSTAMP:20260424T071108
CREATED:20250504T115513Z
LAST-MODIFIED:20250504T115513Z
UID:2948-1747767600-1747771200@stjohnscordova.com
SUMMARY:Board of Education
DESCRIPTION:
URL:https://stjohnscordova.com/churchevent/board-of-education-33/
END:VEVENT
BEGIN:VEVENT
DTSTART;TZID=America/Chicago:20250525T090000
DTEND;TZID=America/Chicago:20250525T100000
DTSTAMP:20260424T071108
CREATED:20250504T115457Z
LAST-MODIFIED:20250504T115457Z
UID:2940-1748163600-1748167200@stjohnscordova.com
SUMMARY:Church
DESCRIPTION:
URL:https://stjohnscordova.com/churchevent/church-135/
END:VEVENT
BEGIN:VEVENT
DTSTART;TZID=America/Chicago:20250525T103000
DTEND;TZID=America/Chicago:20250525T113000
DTSTAMP:20260424T071108
CREATED:20250504T115458Z
LAST-MODIFIED:20250504T115458Z
UID:2943-1748169000-1748172600@stjohnscordova.com
SUMMARY:Sunday School & Adult Bible Class
DESCRIPTION:
URL:https://stjohnscordova.com/churchevent/sunday-school-adult-bible-class-130/
END:VEVENT
BEGIN:VEVENT
DTSTART;TZID=America/Chicago:20250525T143000
DTEND;TZID=America/Chicago:20250525T163000
DTSTAMP:20260424T071108
CREATED:20250504T115514Z
LAST-MODIFIED:20250504T115514Z
UID:2949-1748183400-1748190600@stjohnscordova.com
SUMMARY:Devotions at Fairmont
DESCRIPTION:
URL:https://stjohnscordova.com/churchevent/devotions-at-fairmont-30/
END:VEVENT
BEGIN:VEVENT
DTSTART;TZID=America/Chicago:20250525T183000
DTEND;TZID=America/Chicago:20250525T203000
DTSTAMP:20260424T071108
CREATED:20250504T115530Z
LAST-MODIFIED:20250504T115530Z
UID:2951-1748197800-1748205000@stjohnscordova.com
SUMMARY:High School Night
DESCRIPTION:
URL:https://stjohnscordova.com/churchevent/high-school-night-7/
END:VEVENT
BEGIN:VEVENT
DTSTART;TZID=America/Chicago:20250601T085000
DTEND;TZID=America/Chicago:20250601T090000
DTSTAMP:20260424T071108
CREATED:20250601T174136Z
LAST-MODIFIED:20250601T174136Z
UID:2983-1748767800-1748768400@stjohnscordova.com
SUMMARY:Hymn Sing
DESCRIPTION:
URL:https://stjohnscordova.com/churchevent/hymn-sing-35/
END:VEVENT
BEGIN:VEVENT
DTSTART;TZID=America/Chicago:20250601T090000
DTEND;TZID=America/Chicago:20250601T100000
DTSTAMP:20260424T071108
CREATED:20250601T174138Z
LAST-MODIFIED:20250601T174138Z
UID:2984-1748768400-1748772000@stjohnscordova.com
SUMMARY:Church
DESCRIPTION:
URL:https://stjohnscordova.com/churchevent/church-136/
END:VEVENT
BEGIN:VEVENT
DTSTART;TZID=America/Chicago:20250601T103000
DTEND;TZID=America/Chicago:20250601T113000
DTSTAMP:20260424T071108
CREATED:20250601T174144Z
LAST-MODIFIED:20250601T174144Z
UID:2990-1748773800-1748777400@stjohnscordova.com
SUMMARY:Sunday School & Adult Bible Class
DESCRIPTION:
URL:https://stjohnscordova.com/churchevent/sunday-school-adult-bible-class-131/
END:VEVENT
BEGIN:VEVENT
DTSTART;TZID=America/Chicago:20250602T180000
DTEND;TZID=America/Chicago:20250602T190000
DTSTAMP:20260424T071108
CREATED:20250601T174200Z
LAST-MODIFIED:20250601T174200Z
UID:2996-1748887200-1748890800@stjohnscordova.com
SUMMARY:Lydia LWML
DESCRIPTION:
URL:https://stjohnscordova.com/churchevent/lydia-lwml-33/
END:VEVENT
BEGIN:VEVENT
DTSTART;TZID=America/Chicago:20250604T140000
DTEND;TZID=America/Chicago:20250604T150000
DTSTAMP:20260424T071108
CREATED:20250601T174201Z
LAST-MODIFIED:20250601T174201Z
UID:2997-1749045600-1749049200@stjohnscordova.com
SUMMARY:Dorcas LWML
DESCRIPTION:
URL:https://stjohnscordova.com/churchevent/dorcas-lwml-31/
END:VEVENT
BEGIN:VEVENT
DTSTART;TZID=America/Chicago:20250608T090000
DTEND;TZID=America/Chicago:20250608T100000
DTSTAMP:20260424T071108
CREATED:20250601T174138Z
LAST-MODIFIED:20250601T174138Z
UID:2985-1749373200-1749376800@stjohnscordova.com
SUMMARY:Church
DESCRIPTION:
URL:https://stjohnscordova.com/churchevent/church-137/
END:VEVENT
BEGIN:VEVENT
DTSTART;TZID=America/Chicago:20250608T103000
DTEND;TZID=America/Chicago:20250608T113000
DTSTAMP:20260424T071108
CREATED:20250601T174145Z
LAST-MODIFIED:20250601T174145Z
UID:2991-1749378600-1749382200@stjohnscordova.com
SUMMARY:Sunday School & Adult Bible Class
DESCRIPTION:
URL:https://stjohnscordova.com/churchevent/sunday-school-adult-bible-class-132/
END:VEVENT
BEGIN:VEVENT
DTSTART;TZID=America/Chicago:20250610T130000
DTEND;TZID=America/Chicago:20250610T173000
DTSTAMP:20260424T071108
CREATED:20250601T174402Z
LAST-MODIFIED:20250601T174402Z
UID:3002-1749560400-1749576600@stjohnscordova.com
SUMMARY:Pastor's walk-in hours
DESCRIPTION:
URL:https://stjohnscordova.com/churchevent/pastors-walk-in-hours-13/
END:VEVENT
BEGIN:VEVENT
DTSTART;TZID=America/Chicago:20250610T190000
DTEND;TZID=America/Chicago:20250610T200000
DTSTAMP:20260424T071108
CREATED:20250601T174359Z
LAST-MODIFIED:20250601T174359Z
UID:2998-1749582000-1749585600@stjohnscordova.com
SUMMARY:Elders Meeting
DESCRIPTION:
URL:https://stjohnscordova.com/churchevent/elders-meeting-33/
END:VEVENT
BEGIN:VEVENT
DTSTART;TZID=America/Chicago:20250611T133000
DTEND;TZID=America/Chicago:20250611T143000
DTSTAMP:20260424T071108
CREATED:20250601T174602Z
LAST-MODIFIED:20250601T174602Z
UID:3005-1749648600-1749652200@stjohnscordova.com
SUMMARY:Small Group
DESCRIPTION:
URL:https://stjohnscordova.com/churchevent/small-group-21/
END:VEVENT
BEGIN:VEVENT
DTSTART;TZID=America/Chicago:20250611T143000
DTEND;TZID=America/Chicago:20250611T153000
DTSTAMP:20260424T071108
CREATED:20250601T174402Z
LAST-MODIFIED:20250601T174402Z
UID:3001-1749652200-1749655800@stjohnscordova.com
SUMMARY:KIT & Friendly Member meeting
DESCRIPTION:
URL:https://stjohnscordova.com/churchevent/kit-friendly-member-meeting/
END:VEVENT
BEGIN:VEVENT
DTSTART;TZID=America/Chicago:20250611T190000
DTEND;TZID=America/Chicago:20250611T200000
DTSTAMP:20260424T071108
CREATED:20250601T174603Z
LAST-MODIFIED:20250601T174603Z
UID:3006-1749668400-1749672000@stjohnscordova.com
SUMMARY:Small Group
DESCRIPTION:
URL:https://stjohnscordova.com/churchevent/small-group-22/
END:VEVENT
BEGIN:VEVENT
DTSTART;TZID=America/Chicago:20250614T073000
DTEND;TZID=America/Chicago:20250614T083000
DTSTAMP:20260424T071108
CREATED:20250601T174139Z
LAST-MODIFIED:20250601T174139Z
UID:2986-1749886200-1749889800@stjohnscordova.com
SUMMARY:Men's Group Bible Study
DESCRIPTION:
URL:https://stjohnscordova.com/churchevent/mens-group-bible-study-9/
END:VEVENT
BEGIN:VEVENT
DTSTART;TZID=America/Chicago:20250615T090000
DTEND;TZID=America/Chicago:20250615T100000
DTSTAMP:20260424T071108
CREATED:20250601T174139Z
LAST-MODIFIED:20250601T174139Z
UID:2987-1749978000-1749981600@stjohnscordova.com
SUMMARY:Church
DESCRIPTION:
URL:https://stjohnscordova.com/churchevent/church-138/
END:VEVENT
BEGIN:VEVENT
DTSTART;TZID=America/Chicago:20250615T100000
DTEND;TZID=America/Chicago:20250615T103000
DTSTAMP:20260424T071108
CREATED:20250601T174200Z
LAST-MODIFIED:20250601T174200Z
UID:2995-1749981600-1749983400@stjohnscordova.com
SUMMARY:Trutees Meeting
DESCRIPTION:
URL:https://stjohnscordova.com/churchevent/trutees-meeting-13/
END:VEVENT
BEGIN:VEVENT
DTSTART;TZID=America/Chicago:20250615T103000
DTEND;TZID=America/Chicago:20250615T113000
DTSTAMP:20260424T071108
CREATED:20250601T174145Z
LAST-MODIFIED:20250601T174145Z
UID:2992-1749983400-1749987000@stjohnscordova.com
SUMMARY:Sunday School & Adult Bible Class
DESCRIPTION:
URL:https://stjohnscordova.com/churchevent/sunday-school-adult-bible-class-133/
END:VEVENT
BEGIN:VEVENT
DTSTART;TZID=America/Chicago:20250615T113000
DTEND;TZID=America/Chicago:20250615T123000
DTSTAMP:20260424T071108
CREATED:20250601T174801Z
LAST-MODIFIED:20250601T174801Z
UID:3008-1749987000-1749990600@stjohnscordova.com
SUMMARY:Pastor Tuma's 20th Year of Ministry Party
DESCRIPTION:
URL:https://stjohnscordova.com/churchevent/pastor-tumas-20th-year-of-ministry-party/
END:VEVENT
BEGIN:VEVENT
DTSTART;TZID=America/Chicago:20250617T130000
DTEND;TZID=America/Chicago:20250617T173000
DTSTAMP:20260424T071108
CREATED:20250601T174600Z
LAST-MODIFIED:20250601T174600Z
UID:3003-1750165200-1750181400@stjohnscordova.com
SUMMARY:Pastor's walk-in hours
DESCRIPTION:
URL:https://stjohnscordova.com/churchevent/pastors-walk-in-hours-14/
END:VEVENT
BEGIN:VEVENT
DTSTART;TZID=America/Chicago:20250617T190000
DTEND;TZID=America/Chicago:20250617T200000
DTSTAMP:20260424T071108
CREATED:20250601T174401Z
LAST-MODIFIED:20250601T174401Z
UID:2999-1750186800-1750190400@stjohnscordova.com
SUMMARY:Board of Education
DESCRIPTION:
URL:https://stjohnscordova.com/churchevent/board-of-education-34/
END:VEVENT
BEGIN:VEVENT
DTSTART;TZID=America/Chicago:20250622T090000
DTEND;TZID=America/Chicago:20250622T100000
DTSTAMP:20260424T071108
CREATED:20250601T174143Z
LAST-MODIFIED:20250601T174143Z
UID:2988-1750582800-1750586400@stjohnscordova.com
SUMMARY:Church
DESCRIPTION:
URL:https://stjohnscordova.com/churchevent/church-139/
END:VEVENT
END:VCALENDAR