BEGIN:VCALENDAR
VERSION:2.0
PRODID:-//St. John&#039;s Lutheran Church - Cordova - ECPv6.15.20//NONSGML v1.0//EN
CALSCALE:GREGORIAN
METHOD:PUBLISH
X-ORIGINAL-URL:https://stjohnscordova.com
X-WR-CALDESC:Events for St. John&#039;s Lutheran Church - Cordova
REFRESH-INTERVAL;VALUE=DURATION:PT1H
X-Robots-Tag:noindex
X-PUBLISHED-TTL:PT1H
BEGIN:VTIMEZONE
TZID:America/Chicago
BEGIN:DAYLIGHT
TZOFFSETFROM:-0600
TZOFFSETTO:-0500
TZNAME:CDT
DTSTART:20250309T080000
END:DAYLIGHT
BEGIN:STANDARD
TZOFFSETFROM:-0500
TZOFFSETTO:-0600
TZNAME:CST
DTSTART:20251102T070000
END:STANDARD
BEGIN:DAYLIGHT
TZOFFSETFROM:-0600
TZOFFSETTO:-0500
TZNAME:CDT
DTSTART:20260308T080000
END:DAYLIGHT
BEGIN:STANDARD
TZOFFSETFROM:-0500
TZOFFSETTO:-0600
TZNAME:CST
DTSTART:20261101T070000
END:STANDARD
BEGIN:DAYLIGHT
TZOFFSETFROM:-0600
TZOFFSETTO:-0500
TZNAME:CDT
DTSTART:20270314T080000
END:DAYLIGHT
BEGIN:STANDARD
TZOFFSETFROM:-0500
TZOFFSETTO:-0600
TZNAME:CST
DTSTART:20271107T070000
END:STANDARD
END:VTIMEZONE
BEGIN:VEVENT
DTSTART;TZID=America/Chicago:20260222T103000
DTEND;TZID=America/Chicago:20260222T113000
DTSTAMP:20260423T184005
CREATED:20260201T035938Z
LAST-MODIFIED:20260201T035938Z
UID:3659-1771756200-1771759800@stjohnscordova.com
SUMMARY:Sunday School & Adult Bible Class
DESCRIPTION:
URL:https://stjohnscordova.com/churchevent/sunday-school-adult-bible-class-167/
END:VEVENT
BEGIN:VEVENT
DTSTART;TZID=America/Chicago:20260222T183000
DTEND;TZID=America/Chicago:20260222T200000
DTSTAMP:20260423T184005
CREATED:20260201T040010Z
LAST-MODIFIED:20260201T040010Z
UID:3669-1771785000-1771790400@stjohnscordova.com
SUMMARY:High School Night
DESCRIPTION:
URL:https://stjohnscordova.com/churchevent/high-school-night-9/
END:VEVENT
BEGIN:VEVENT
DTSTART;TZID=America/Chicago:20260225T160000
DTEND;TZID=America/Chicago:20260225T180000
DTSTAMP:20260423T184005
CREATED:20260201T040010Z
LAST-MODIFIED:20260201T040010Z
UID:3668-1772035200-1772042400@stjohnscordova.com
SUMMARY:Confirmation
DESCRIPTION:
URL:https://stjohnscordova.com/churchevent/confirmation-124/
END:VEVENT
BEGIN:VEVENT
DTSTART;TZID=America/Chicago:20260225T180000
DTEND;TZID=America/Chicago:20260225T190000
DTSTAMP:20260423T184005
CREATED:20260201T040024Z
LAST-MODIFIED:20260201T040024Z
UID:3673-1772042400-1772046000@stjohnscordova.com
SUMMARY:Lenten Meal
DESCRIPTION:
URL:https://stjohnscordova.com/churchevent/lenten-meal/
END:VEVENT
BEGIN:VEVENT
DTSTART;TZID=America/Chicago:20260225T190000
DTEND;TZID=America/Chicago:20260225T200000
DTSTAMP:20260423T184005
CREATED:20260201T040024Z
LAST-MODIFIED:20260201T040024Z
UID:3674-1772046000-1772049600@stjohnscordova.com
SUMMARY:Lenten Service
DESCRIPTION:
URL:https://stjohnscordova.com/churchevent/lenten-service-15/
END:VEVENT
BEGIN:VEVENT
DTSTART;TZID=America/Chicago:20260301T085000
DTEND;TZID=America/Chicago:20260301T090000
DTSTAMP:20260423T184005
CREATED:20260304T201746Z
LAST-MODIFIED:20260304T201746Z
UID:3742-1772355000-1772355600@stjohnscordova.com
SUMMARY:Hymn Sing
DESCRIPTION:
URL:https://stjohnscordova.com/churchevent/hymn-sing-44/
END:VEVENT
BEGIN:VEVENT
DTSTART;TZID=America/Chicago:20260301T090000
DTEND;TZID=America/Chicago:20260301T100000
DTSTAMP:20260423T184005
CREATED:20260304T201747Z
LAST-MODIFIED:20260304T201747Z
UID:3743-1772355600-1772359200@stjohnscordova.com
SUMMARY:Church
DESCRIPTION:
URL:https://stjohnscordova.com/churchevent/church-173/
END:VEVENT
BEGIN:VEVENT
DTSTART;TZID=America/Chicago:20260301T103000
DTEND;TZID=America/Chicago:20260301T113000
DTSTAMP:20260423T184005
CREATED:20260304T201752Z
LAST-MODIFIED:20260304T201752Z
UID:3748-1772361000-1772364600@stjohnscordova.com
SUMMARY:Sunday School & Adult Bible Class
DESCRIPTION:
URL:https://stjohnscordova.com/churchevent/sunday-school-adult-bible-class-168/
END:VEVENT
BEGIN:VEVENT
DTSTART;TZID=America/Chicago:20260302T173000
DTEND;TZID=America/Chicago:20260302T190000
DTSTAMP:20260423T184005
CREATED:20260304T201810Z
LAST-MODIFIED:20260304T201810Z
UID:3755-1772472600-1772478000@stjohnscordova.com
SUMMARY:Lydia LWML
DESCRIPTION:
URL:https://stjohnscordova.com/churchevent/lydia-lwml-42/
END:VEVENT
BEGIN:VEVENT
DTSTART;TZID=America/Chicago:20260304T140000
DTEND;TZID=America/Chicago:20260304T150000
DTSTAMP:20260423T184005
CREATED:20260304T201810Z
LAST-MODIFIED:20260304T201810Z
UID:3756-1772632800-1772636400@stjohnscordova.com
SUMMARY:Dorcas LWML
DESCRIPTION:
URL:https://stjohnscordova.com/churchevent/dorcas-lwml-39/
END:VEVENT
BEGIN:VEVENT
DTSTART;TZID=America/Chicago:20260304T160000
DTEND;TZID=America/Chicago:20260304T180000
DTSTAMP:20260423T184005
CREATED:20260304T202008Z
LAST-MODIFIED:20260304T202008Z
UID:3758-1772640000-1772647200@stjohnscordova.com
SUMMARY:Confirmation
DESCRIPTION:
URL:https://stjohnscordova.com/churchevent/confirmation-125/
END:VEVENT
BEGIN:VEVENT
DTSTART;TZID=America/Chicago:20260304T180000
DTEND;TZID=America/Chicago:20260304T190000
DTSTAMP:20260423T184005
CREATED:20260304T202023Z
LAST-MODIFIED:20260304T202023Z
UID:3764-1772647200-1772650800@stjohnscordova.com
SUMMARY:Lenten Meal
DESCRIPTION:
URL:https://stjohnscordova.com/churchevent/lenten-meal-2/
END:VEVENT
BEGIN:VEVENT
DTSTART;TZID=America/Chicago:20260304T190000
DTEND;TZID=America/Chicago:20260304T200000
DTSTAMP:20260423T184005
CREATED:20260304T202225Z
LAST-MODIFIED:20260304T202225Z
UID:3768-1772650800-1772654400@stjohnscordova.com
SUMMARY:Lenten Service
DESCRIPTION:
URL:https://stjohnscordova.com/churchevent/lenten-service-16/
END:VEVENT
BEGIN:VEVENT
DTSTART;TZID=America/Chicago:20260305T190000
DTEND;TZID=America/Chicago:20260305T200000
DTSTAMP:20260423T184005
CREATED:20260304T202022Z
LAST-MODIFIED:20260304T202022Z
UID:3763-1772737200-1772740800@stjohnscordova.com
SUMMARY:Elders Meeting
DESCRIPTION:
URL:https://stjohnscordova.com/churchevent/elders-meeting-40/
END:VEVENT
BEGIN:VEVENT
DTSTART;TZID=America/Chicago:20260307T073000
DTEND;TZID=America/Chicago:20260307T083000
DTSTAMP:20260423T184005
CREATED:20260304T201808Z
LAST-MODIFIED:20260304T201808Z
UID:3753-1772868600-1772872200@stjohnscordova.com
SUMMARY:Men's Group Bible Study
DESCRIPTION:
URL:https://stjohnscordova.com/churchevent/mens-group-bible-study-18/
END:VEVENT
BEGIN:VEVENT
DTSTART;TZID=America/Chicago:20260308T090000
DTEND;TZID=America/Chicago:20260308T100000
DTSTAMP:20260423T184005
CREATED:20260304T201748Z
LAST-MODIFIED:20260304T201748Z
UID:3744-1772960400-1772964000@stjohnscordova.com
SUMMARY:Church
DESCRIPTION:
URL:https://stjohnscordova.com/churchevent/church-174/
END:VEVENT
BEGIN:VEVENT
DTSTART;TZID=America/Chicago:20260308T100000
DTEND;TZID=America/Chicago:20260308T103000
DTSTAMP:20260423T184005
CREATED:20260304T201809Z
LAST-MODIFIED:20260304T201809Z
UID:3754-1772964000-1772965800@stjohnscordova.com
SUMMARY:Trustees Meeting
DESCRIPTION:
URL:https://stjohnscordova.com/churchevent/trustees-meeting-21/
END:VEVENT
BEGIN:VEVENT
DTSTART;TZID=America/Chicago:20260308T103000
DTEND;TZID=America/Chicago:20260308T113000
DTSTAMP:20260423T184005
CREATED:20260304T201752Z
LAST-MODIFIED:20260304T201752Z
UID:3749-1772965800-1772969400@stjohnscordova.com
SUMMARY:Sunday School & Adult Bible Class
DESCRIPTION:
URL:https://stjohnscordova.com/churchevent/sunday-school-adult-bible-class-169/
END:VEVENT
BEGIN:VEVENT
DTSTART;TZID=America/Chicago:20260311T160000
DTEND;TZID=America/Chicago:20260311T180000
DTSTAMP:20260423T184005
CREATED:20260304T202008Z
LAST-MODIFIED:20260304T202008Z
UID:3759-1773244800-1773252000@stjohnscordova.com
SUMMARY:Confirmation
DESCRIPTION:
URL:https://stjohnscordova.com/churchevent/confirmation-126/
END:VEVENT
BEGIN:VEVENT
DTSTART;TZID=America/Chicago:20260311T180000
DTEND;TZID=America/Chicago:20260311T190000
DTSTAMP:20260423T184005
CREATED:20260304T202024Z
LAST-MODIFIED:20260304T202024Z
UID:3765-1773252000-1773255600@stjohnscordova.com
SUMMARY:Lenten Meal
DESCRIPTION:
URL:https://stjohnscordova.com/churchevent/lenten-meal-3/
END:VEVENT
BEGIN:VEVENT
DTSTART;TZID=America/Chicago:20260311T190000
DTEND;TZID=America/Chicago:20260311T200000
DTSTAMP:20260423T184005
CREATED:20260304T202225Z
LAST-MODIFIED:20260304T202225Z
UID:3769-1773255600-1773259200@stjohnscordova.com
SUMMARY:Lenten Service
DESCRIPTION:
URL:https://stjohnscordova.com/churchevent/lenten-service-17/
END:VEVENT
BEGIN:VEVENT
DTSTART;TZID=America/Chicago:20260315T090000
DTEND;TZID=America/Chicago:20260315T103000
DTSTAMP:20260423T184005
CREATED:20260304T201749Z
LAST-MODIFIED:20260304T201749Z
UID:3745-1773565200-1773570600@stjohnscordova.com
SUMMARY:Church
DESCRIPTION:
URL:https://stjohnscordova.com/churchevent/church-175/
END:VEVENT
BEGIN:VEVENT
DTSTART;TZID=America/Chicago:20260315T103000
DTEND;TZID=America/Chicago:20260315T113000
DTSTAMP:20260423T184005
CREATED:20260304T201753Z
LAST-MODIFIED:20260304T201753Z
UID:3750-1773570600-1773574200@stjohnscordova.com
SUMMARY:Sunday School & Adult Bible Class
DESCRIPTION:
URL:https://stjohnscordova.com/churchevent/sunday-school-adult-bible-class-170/
END:VEVENT
BEGIN:VEVENT
DTSTART;TZID=America/Chicago:20260317T190000
DTEND;TZID=America/Chicago:20260317T200000
DTSTAMP:20260423T184005
CREATED:20260304T202006Z
LAST-MODIFIED:20260304T202006Z
UID:3757-1773774000-1773777600@stjohnscordova.com
SUMMARY:Board of Education
DESCRIPTION:
URL:https://stjohnscordova.com/churchevent/board-of-education-42/
END:VEVENT
BEGIN:VEVENT
DTSTART;TZID=America/Chicago:20260318T160000
DTEND;TZID=America/Chicago:20260318T180000
DTSTAMP:20260423T184005
CREATED:20260304T202008Z
LAST-MODIFIED:20260304T202008Z
UID:3760-1773849600-1773856800@stjohnscordova.com
SUMMARY:Confirmation
DESCRIPTION:
URL:https://stjohnscordova.com/churchevent/confirmation-127/
END:VEVENT
BEGIN:VEVENT
DTSTART;TZID=America/Chicago:20260318T180000
DTEND;TZID=America/Chicago:20260318T190000
DTSTAMP:20260423T184005
CREATED:20260304T202024Z
LAST-MODIFIED:20260304T202024Z
UID:3766-1773856800-1773860400@stjohnscordova.com
SUMMARY:Lenten Meal
DESCRIPTION:
URL:https://stjohnscordova.com/churchevent/lenten-meal-4/
END:VEVENT
BEGIN:VEVENT
DTSTART;TZID=America/Chicago:20260318T190000
DTEND;TZID=America/Chicago:20260318T200000
DTSTAMP:20260423T184005
CREATED:20260304T202225Z
LAST-MODIFIED:20260304T202225Z
UID:3770-1773860400-1773864000@stjohnscordova.com
SUMMARY:Lenten Service
DESCRIPTION:
URL:https://stjohnscordova.com/churchevent/lenten-service-18/
END:VEVENT
BEGIN:VEVENT
DTSTART;TZID=America/Chicago:20260322T090000
DTEND;TZID=America/Chicago:20260322T100000
DTSTAMP:20260423T184005
CREATED:20260304T201749Z
LAST-MODIFIED:20260304T201749Z
UID:3746-1774170000-1774173600@stjohnscordova.com
SUMMARY:Church
DESCRIPTION:
URL:https://stjohnscordova.com/churchevent/church-176/
END:VEVENT
BEGIN:VEVENT
DTSTART;TZID=America/Chicago:20260322T103000
DTEND;TZID=America/Chicago:20260322T113000
DTSTAMP:20260423T184005
CREATED:20260304T201754Z
LAST-MODIFIED:20260304T201754Z
UID:3751-1774175400-1774179000@stjohnscordova.com
SUMMARY:Sunday School & Adult Bible Class
DESCRIPTION:
URL:https://stjohnscordova.com/churchevent/sunday-school-adult-bible-class-171/
END:VEVENT
BEGIN:VEVENT
DTSTART;TZID=America/Chicago:20260325T160000
DTEND;TZID=America/Chicago:20260325T180000
DTSTAMP:20260423T184005
CREATED:20260304T202009Z
LAST-MODIFIED:20260304T202009Z
UID:3761-1774454400-1774461600@stjohnscordova.com
SUMMARY:Confirmation
DESCRIPTION:
URL:https://stjohnscordova.com/churchevent/confirmation-128/
END:VEVENT
END:VCALENDAR