BEGIN:VCALENDAR
VERSION:2.0
PRODID:-//St. John&#039;s Lutheran Church - Cordova - ECPv6.15.20//NONSGML v1.0//EN
CALSCALE:GREGORIAN
METHOD:PUBLISH
X-WR-CALNAME:St. John&#039;s Lutheran Church - Cordova
X-ORIGINAL-URL:https://stjohnscordova.com
X-WR-CALDESC:Events for St. John&#039;s Lutheran Church - Cordova
REFRESH-INTERVAL;VALUE=DURATION:PT1H
X-Robots-Tag:noindex
X-PUBLISHED-TTL:PT1H
BEGIN:VTIMEZONE
TZID:America/Chicago
BEGIN:DAYLIGHT
TZOFFSETFROM:-0600
TZOFFSETTO:-0500
TZNAME:CDT
DTSTART:20230312T080000
END:DAYLIGHT
BEGIN:STANDARD
TZOFFSETFROM:-0500
TZOFFSETTO:-0600
TZNAME:CST
DTSTART:20231105T070000
END:STANDARD
BEGIN:DAYLIGHT
TZOFFSETFROM:-0600
TZOFFSETTO:-0500
TZNAME:CDT
DTSTART:20240310T080000
END:DAYLIGHT
BEGIN:STANDARD
TZOFFSETFROM:-0500
TZOFFSETTO:-0600
TZNAME:CST
DTSTART:20241103T070000
END:STANDARD
BEGIN:DAYLIGHT
TZOFFSETFROM:-0600
TZOFFSETTO:-0500
TZNAME:CDT
DTSTART:20250309T080000
END:DAYLIGHT
BEGIN:STANDARD
TZOFFSETFROM:-0500
TZOFFSETTO:-0600
TZNAME:CST
DTSTART:20251102T070000
END:STANDARD
END:VTIMEZONE
BEGIN:VEVENT
DTSTART;TZID=America/Chicago:20241211T160000
DTEND;TZID=America/Chicago:20241211T180000
DTSTAMP:20260425T113425
CREATED:20241201T023853Z
LAST-MODIFIED:20241201T024619Z
UID:2690-1733932800-1733940000@stjohnscordova.com
SUMMARY:Confirmation
DESCRIPTION:
URL:https://stjohnscordova.com/churchevent/confirmation-79/
END:VEVENT
BEGIN:VEVENT
DTSTART;TZID=America/Chicago:20241208T103000
DTEND;TZID=America/Chicago:20241208T113000
DTSTAMP:20260425T113425
CREATED:20241201T023612Z
LAST-MODIFIED:20241201T023612Z
UID:2679-1733653800-1733657400@stjohnscordova.com
SUMMARY:Sunday School & Adult Bible Class
DESCRIPTION:
URL:https://stjohnscordova.com/churchevent/sunday-school-adult-bible-class-106/
END:VEVENT
BEGIN:VEVENT
DTSTART;TZID=America/Chicago:20241208T100000
DTEND;TZID=America/Chicago:20241208T103000
DTSTAMP:20260425T113425
CREATED:20241201T023611Z
LAST-MODIFIED:20241201T023611Z
UID:2678-1733652000-1733653800@stjohnscordova.com
SUMMARY:Christmas Cookie Exchange
DESCRIPTION:
URL:https://stjohnscordova.com/churchevent/christmas-cookie-exchange/
END:VEVENT
BEGIN:VEVENT
DTSTART;TZID=America/Chicago:20241208T090000
DTEND;TZID=America/Chicago:20241208T100000
DTSTAMP:20260425T113425
CREATED:20241201T023603Z
LAST-MODIFIED:20241201T023603Z
UID:2673-1733648400-1733652000@stjohnscordova.com
SUMMARY:Church
DESCRIPTION:
URL:https://stjohnscordova.com/churchevent/church-109/
END:VEVENT
BEGIN:VEVENT
DTSTART;TZID=America/Chicago:20241207T103000
DTEND;TZID=America/Chicago:20241207T113000
DTSTAMP:20260425T113425
CREATED:20241201T023850Z
LAST-MODIFIED:20241201T023850Z
UID:2686-1733567400-1733571000@stjohnscordova.com
SUMMARY:Memorial Service for Jean Scott
DESCRIPTION:
URL:https://stjohnscordova.com/churchevent/memorial-service-for-jean-scott/
END:VEVENT
BEGIN:VEVENT
DTSTART;TZID=America/Chicago:20241207T073000
DTEND;TZID=America/Chicago:20241207T083000
DTSTAMP:20260425T113425
CREATED:20241201T023905Z
LAST-MODIFIED:20241201T023905Z
UID:2692-1733556600-1733560200@stjohnscordova.com
SUMMARY:Men's Group Bible Study
DESCRIPTION:
URL:https://stjohnscordova.com/churchevent/mens-group-bible-study-2/
END:VEVENT
BEGIN:VEVENT
DTSTART;TZID=America/Chicago:20241204T190000
DTEND;TZID=America/Chicago:20241204T200000
DTSTAMP:20260425T113425
CREATED:20241201T024453Z
LAST-MODIFIED:20241201T024453Z
UID:2703-1733338800-1733342400@stjohnscordova.com
SUMMARY:Advent Service
DESCRIPTION:
URL:https://stjohnscordova.com/churchevent/advent-service-8/
END:VEVENT
BEGIN:VEVENT
DTSTART;TZID=America/Chicago:20241204T180000
DTEND;TZID=America/Chicago:20241204T190000
DTSTAMP:20260425T113425
CREATED:20241201T023907Z
LAST-MODIFIED:20241201T024332Z
UID:2695-1733335200-1733338800@stjohnscordova.com
SUMMARY:Advent Supper
DESCRIPTION:
URL:https://stjohnscordova.com/churchevent/advent-supper-2/
END:VEVENT
BEGIN:VEVENT
DTSTART;TZID=America/Chicago:20241204T160000
DTEND;TZID=America/Chicago:20241204T180000
DTSTAMP:20260425T113425
CREATED:20241201T023852Z
LAST-MODIFIED:20241201T024624Z
UID:2689-1733328000-1733335200@stjohnscordova.com
SUMMARY:Confirmation
DESCRIPTION:
URL:https://stjohnscordova.com/churchevent/confirmation-78/
END:VEVENT
BEGIN:VEVENT
DTSTART;TZID=America/Chicago:20241204T140000
DTEND;TZID=America/Chicago:20241204T150000
DTSTAMP:20260425T113425
CREATED:20241201T023814Z
LAST-MODIFIED:20241201T023814Z
UID:2683-1733320800-1733324400@stjohnscordova.com
SUMMARY:Dorcas LWML
DESCRIPTION:
URL:https://stjohnscordova.com/churchevent/dorcas-lwml-26/
END:VEVENT
BEGIN:VEVENT
DTSTART;TZID=America/Chicago:20241203T190000
DTEND;TZID=America/Chicago:20241203T200000
DTSTAMP:20260425T113425
CREATED:20241201T023815Z
LAST-MODIFIED:20241201T023815Z
UID:2684-1733252400-1733256000@stjohnscordova.com
SUMMARY:Elders Meeting
DESCRIPTION:
URL:https://stjohnscordova.com/churchevent/elders-meeting-26/
END:VEVENT
BEGIN:VEVENT
DTSTART;TZID=America/Chicago:20241203T180000
DTEND;TZID=America/Chicago:20241203T190000
DTSTAMP:20260425T113425
CREATED:20241201T023813Z
LAST-MODIFIED:20241201T023813Z
UID:2682-1733248800-1733252400@stjohnscordova.com
SUMMARY:Lydia LWML
DESCRIPTION:
URL:https://stjohnscordova.com/churchevent/lydia-lwml-26/
END:VEVENT
BEGIN:VEVENT
DTSTART;TZID=America/Chicago:20241201T160000
DTEND;TZID=America/Chicago:20241201T190000
DTSTAMP:20260425T113425
CREATED:20241201T023922Z
LAST-MODIFIED:20241201T023922Z
UID:2699-1733068800-1733079600@stjohnscordova.com
SUMMARY:Youth Decorate Church & Movie
DESCRIPTION:
URL:https://stjohnscordova.com/churchevent/youth-decorate-church-movie/
END:VEVENT
BEGIN:VEVENT
DTSTART;TZID=America/Chicago:20241201T103000
DTEND;TZID=America/Chicago:20241201T113000
DTSTAMP:20260425T113425
CREATED:20241201T023610Z
LAST-MODIFIED:20241201T023610Z
UID:2677-1733049000-1733052600@stjohnscordova.com
SUMMARY:Sunday School & Adult Bible Class
DESCRIPTION:
URL:https://stjohnscordova.com/churchevent/sunday-school-adult-bible-class-105/
END:VEVENT
BEGIN:VEVENT
DTSTART;TZID=America/Chicago:20241201T090000
DTEND;TZID=America/Chicago:20241201T100000
DTSTAMP:20260425T113425
CREATED:20241201T023602Z
LAST-MODIFIED:20241201T023602Z
UID:2672-1733043600-1733047200@stjohnscordova.com
SUMMARY:Church
DESCRIPTION:
URL:https://stjohnscordova.com/churchevent/church-108/
END:VEVENT
BEGIN:VEVENT
DTSTART;TZID=America/Chicago:20241201T085000
DTEND;TZID=America/Chicago:20241201T090000
DTSTAMP:20260425T113425
CREATED:20241201T023601Z
LAST-MODIFIED:20241201T023601Z
UID:2671-1733043000-1733043600@stjohnscordova.com
SUMMARY:Hymn Sing
DESCRIPTION:
URL:https://stjohnscordova.com/churchevent/hymn-sing-28/
END:VEVENT
BEGIN:VEVENT
DTSTART;TZID=America/Chicago:20241127T190000
DTEND;TZID=America/Chicago:20241127T200000
DTSTAMP:20260425T113425
CREATED:20241105T143303Z
LAST-MODIFIED:20241105T143303Z
UID:2627-1732734000-1732737600@stjohnscordova.com
SUMMARY:Thanksgiving Eve Service
DESCRIPTION:
URL:https://stjohnscordova.com/churchevent/thanksgiving-eve-service-2/
END:VEVENT
BEGIN:VEVENT
DTSTART;TZID=America/Chicago:20241127T173000
DTEND;TZID=America/Chicago:20241127T190000
DTSTAMP:20260425T113425
CREATED:20241105T143302Z
LAST-MODIFIED:20241105T143302Z
UID:2626-1732728600-1732734000@stjohnscordova.com
SUMMARY:Thanksgiving Eve Youth Fundraiser
DESCRIPTION:
URL:https://stjohnscordova.com/churchevent/thanksgiving-eve-youth-fundraiser/
END:VEVENT
BEGIN:VEVENT
DTSTART;TZID=America/Chicago:20241127T160000
DTEND;TZID=America/Chicago:20241127T200000
DTSTAMP:20260425T113425
CREATED:20241105T143302Z
LAST-MODIFIED:20241125T041045Z
UID:2625-1732723200-1732737600@stjohnscordova.com
SUMMARY:CANCELED: Confirmation
DESCRIPTION:There is no confirmation today. But please come for the  Soup Supper\, Bake Sale Craft Sale\, and worship service!
URL:https://stjohnscordova.com/churchevent/confirmation-77/
END:VEVENT
BEGIN:VEVENT
DTSTART;TZID=America/Chicago:20241124T143000
DTEND;TZID=America/Chicago:20241124T163000
DTSTAMP:20260425T113425
CREATED:20241105T143101Z
LAST-MODIFIED:20241105T143101Z
UID:2620-1732458600-1732465800@stjohnscordova.com
SUMMARY:Devotions at Fairmont
DESCRIPTION:
URL:https://stjohnscordova.com/churchevent/devotions-at-fairmont-23/
END:VEVENT
BEGIN:VEVENT
DTSTART;TZID=America/Chicago:20241124T103000
DTEND;TZID=America/Chicago:20241124T113000
DTSTAMP:20260425T113425
CREATED:20241105T142910Z
LAST-MODIFIED:20241105T142910Z
UID:2612-1732444200-1732447800@stjohnscordova.com
SUMMARY:Sunday School & Adult Bible Class
DESCRIPTION:
URL:https://stjohnscordova.com/churchevent/sunday-school-adult-bible-class-104/
END:VEVENT
BEGIN:VEVENT
DTSTART;TZID=America/Chicago:20241124T090000
DTEND;TZID=America/Chicago:20241124T100000
DTSTAMP:20260425T113425
CREATED:20241105T142904Z
LAST-MODIFIED:20241105T142904Z
UID:2608-1732438800-1732442400@stjohnscordova.com
SUMMARY:Church
DESCRIPTION:
URL:https://stjohnscordova.com/churchevent/church-107/
END:VEVENT
BEGIN:VEVENT
DTSTART;TZID=America/Chicago:20241123T093000
DTEND;TZID=America/Chicago:20241123T113000
DTSTAMP:20260425T113425
CREATED:20241105T143503Z
LAST-MODIFIED:20241105T143503Z
UID:2631-1732354200-1732361400@stjohnscordova.com
SUMMARY:Area Thanksgiving Food Basket Distribution
DESCRIPTION:
URL:https://stjohnscordova.com/churchevent/area-thanksgiving-food-basket-distribution/
END:VEVENT
BEGIN:VEVENT
DTSTART;TZID=America/Chicago:20241121T190000
DTEND;TZID=America/Chicago:20241121T200000
DTSTAMP:20260425T113425
CREATED:20241105T143503Z
LAST-MODIFIED:20241105T143503Z
UID:2630-1732215600-1732219200@stjohnscordova.com
SUMMARY:KIT & Friendly Members
DESCRIPTION:
URL:https://stjohnscordova.com/churchevent/kit-friendly-members-2/
END:VEVENT
BEGIN:VEVENT
DTSTART;TZID=America/Chicago:20241120T160000
DTEND;TZID=America/Chicago:20241120T200000
DTSTAMP:20260425T113425
CREATED:20241105T143301Z
LAST-MODIFIED:20241105T143301Z
UID:2624-1732118400-1732132800@stjohnscordova.com
SUMMARY:Confirmation
DESCRIPTION:
URL:https://stjohnscordova.com/churchevent/confirmation-76/
END:VEVENT
BEGIN:VEVENT
DTSTART;TZID=America/Chicago:20241119T190000
DTEND;TZID=America/Chicago:20241119T200000
DTSTAMP:20260425T113425
CREATED:20241105T143101Z
LAST-MODIFIED:20241105T143101Z
UID:2621-1732042800-1732046400@stjohnscordova.com
SUMMARY:Board of Education
DESCRIPTION:
URL:https://stjohnscordova.com/churchevent/board-of-education-26/
END:VEVENT
BEGIN:VEVENT
DTSTART;TZID=America/Chicago:20241117T103000
DTEND;TZID=America/Chicago:20241117T113000
DTSTAMP:20260425T113425
CREATED:20241105T142909Z
LAST-MODIFIED:20241105T142909Z
UID:2611-1731839400-1731843000@stjohnscordova.com
SUMMARY:Sunday School & Adult Bible Class
DESCRIPTION:
URL:https://stjohnscordova.com/churchevent/sunday-school-adult-bible-class-103/
END:VEVENT
BEGIN:VEVENT
DTSTART;TZID=America/Chicago:20241117T090000
DTEND;TZID=America/Chicago:20241117T100000
DTSTAMP:20260425T113425
CREATED:20241105T142903Z
LAST-MODIFIED:20241105T142903Z
UID:2607-1731834000-1731837600@stjohnscordova.com
SUMMARY:Church
DESCRIPTION:
URL:https://stjohnscordova.com/churchevent/church-106/
END:VEVENT
BEGIN:VEVENT
DTSTART;TZID=America/Chicago:20241113T190000
DTEND;TZID=America/Chicago:20241113T200000
DTSTAMP:20260425T113425
CREATED:20241105T142926Z
LAST-MODIFIED:20241105T142926Z
UID:2616-1731524400-1731528000@stjohnscordova.com
SUMMARY:Small Group
DESCRIPTION:
URL:https://stjohnscordova.com/churchevent/small-group-18/
END:VEVENT
BEGIN:VEVENT
DTSTART;TZID=America/Chicago:20241113T160000
DTEND;TZID=America/Chicago:20241113T200000
DTSTAMP:20260425T113425
CREATED:20241105T143102Z
LAST-MODIFIED:20241105T143102Z
UID:2623-1731513600-1731528000@stjohnscordova.com
SUMMARY:Confirmation
DESCRIPTION:
URL:https://stjohnscordova.com/churchevent/confirmation-75/
END:VEVENT
END:VCALENDAR