BEGIN:VCALENDAR
VERSION:2.0
PRODID:-//St. John&#039;s Lutheran Church - Cordova - ECPv6.15.20//NONSGML v1.0//EN
CALSCALE:GREGORIAN
METHOD:PUBLISH
X-WR-CALNAME:St. John&#039;s Lutheran Church - Cordova
X-ORIGINAL-URL:https://stjohnscordova.com
X-WR-CALDESC:Events for St. John&#039;s Lutheran Church - Cordova
REFRESH-INTERVAL;VALUE=DURATION:PT1H
X-Robots-Tag:noindex
X-PUBLISHED-TTL:PT1H
BEGIN:VTIMEZONE
TZID:America/Chicago
BEGIN:DAYLIGHT
TZOFFSETFROM:-0600
TZOFFSETTO:-0500
TZNAME:CDT
DTSTART:20240310T080000
END:DAYLIGHT
BEGIN:STANDARD
TZOFFSETFROM:-0500
TZOFFSETTO:-0600
TZNAME:CST
DTSTART:20241103T070000
END:STANDARD
BEGIN:DAYLIGHT
TZOFFSETFROM:-0600
TZOFFSETTO:-0500
TZNAME:CDT
DTSTART:20250309T080000
END:DAYLIGHT
BEGIN:STANDARD
TZOFFSETFROM:-0500
TZOFFSETTO:-0600
TZNAME:CST
DTSTART:20251102T070000
END:STANDARD
BEGIN:DAYLIGHT
TZOFFSETFROM:-0600
TZOFFSETTO:-0500
TZNAME:CDT
DTSTART:20260308T080000
END:DAYLIGHT
BEGIN:STANDARD
TZOFFSETFROM:-0500
TZOFFSETTO:-0600
TZNAME:CST
DTSTART:20261101T070000
END:STANDARD
END:VTIMEZONE
BEGIN:VEVENT
DTSTART;TZID=America/Chicago:20250316T103000
DTEND;TZID=America/Chicago:20250316T113000
DTSTAMP:20260425T081147
CREATED:20250301T234701Z
LAST-MODIFIED:20250301T234701Z
UID:2837-1742121000-1742124600@stjohnscordova.com
SUMMARY:Sunday School & Adult Bible Class
DESCRIPTION:
URL:https://stjohnscordova.com/churchevent/sunday-school-adult-bible-class-123/
END:VEVENT
BEGIN:VEVENT
DTSTART;TZID=America/Chicago:20250316T090000
DTEND;TZID=America/Chicago:20250316T100000
DTSTAMP:20260425T081147
CREATED:20250301T234655Z
LAST-MODIFIED:20250301T234655Z
UID:2832-1742115600-1742119200@stjohnscordova.com
SUMMARY:Church
DESCRIPTION:
URL:https://stjohnscordova.com/churchevent/church-126/
END:VEVENT
BEGIN:VEVENT
DTSTART;TZID=America/Chicago:20250312T190000
DTEND;TZID=America/Chicago:20250312T200000
DTSTAMP:20260425T081147
CREATED:20250301T234802Z
LAST-MODIFIED:20250301T234802Z
UID:2857-1741806000-1741809600@stjohnscordova.com
SUMMARY:Lenten Service
DESCRIPTION:
URL:https://stjohnscordova.com/churchevent/lenten-service-12/
END:VEVENT
BEGIN:VEVENT
DTSTART;TZID=America/Chicago:20250312T180000
DTEND;TZID=America/Chicago:20250312T190000
DTSTAMP:20260425T081147
CREATED:20250301T234746Z
LAST-MODIFIED:20250301T235618Z
UID:2852-1741802400-1741806000@stjohnscordova.com
SUMMARY:Lenten Supper
DESCRIPTION:
URL:https://stjohnscordova.com/churchevent/lenten-supper-4/
END:VEVENT
BEGIN:VEVENT
DTSTART;TZID=America/Chicago:20250312T160000
DTEND;TZID=America/Chicago:20250312T180000
DTSTAMP:20260425T081147
CREATED:20250301T234731Z
LAST-MODIFIED:20250301T234731Z
UID:2847-1741795200-1741802400@stjohnscordova.com
SUMMARY:Confirmation
DESCRIPTION:
URL:https://stjohnscordova.com/churchevent/confirmation-94/
END:VEVENT
BEGIN:VEVENT
DTSTART;TZID=America/Chicago:20250311T150000
DTEND;TZID=America/Chicago:20250311T173000
DTSTAMP:20260425T081147
CREATED:20250301T234816Z
LAST-MODIFIED:20250301T234816Z
UID:2861-1741705200-1741714200@stjohnscordova.com
SUMMARY:Pastor's walk-in hours
DESCRIPTION:
URL:https://stjohnscordova.com/churchevent/pastors-walk-in-hours-2/
END:VEVENT
BEGIN:VEVENT
DTSTART;TZID=America/Chicago:20250309T103000
DTEND;TZID=America/Chicago:20250309T113000
DTSTAMP:20260425T081147
CREATED:20250301T234701Z
LAST-MODIFIED:20250301T234701Z
UID:2836-1741516200-1741519800@stjohnscordova.com
SUMMARY:Sunday School & Adult Bible Class
DESCRIPTION:
URL:https://stjohnscordova.com/churchevent/sunday-school-adult-bible-class-122/
END:VEVENT
BEGIN:VEVENT
DTSTART;TZID=America/Chicago:20250309T100000
DTEND;TZID=America/Chicago:20250309T103000
DTSTAMP:20260425T081147
CREATED:20250301T234715Z
LAST-MODIFIED:20250301T234715Z
UID:2840-1741514400-1741516200@stjohnscordova.com
SUMMARY:Trutees Meeting
DESCRIPTION:
URL:https://stjohnscordova.com/churchevent/trutees-meeting-10/
END:VEVENT
BEGIN:VEVENT
DTSTART;TZID=America/Chicago:20250309T090000
DTEND;TZID=America/Chicago:20250309T100000
DTSTAMP:20260425T081147
CREATED:20250301T234654Z
LAST-MODIFIED:20250301T234654Z
UID:2830-1741510800-1741514400@stjohnscordova.com
SUMMARY:Church
DESCRIPTION:
URL:https://stjohnscordova.com/churchevent/church-125/
END:VEVENT
BEGIN:VEVENT
DTSTART;TZID=America/Chicago:20250305T190000
DTEND;TZID=America/Chicago:20250305T200000
DTSTAMP:20260425T081147
CREATED:20250301T234815Z
LAST-MODIFIED:20250301T234815Z
UID:2859-1741201200-1741204800@stjohnscordova.com
SUMMARY:Ash Wednesday Service
DESCRIPTION:
URL:https://stjohnscordova.com/churchevent/ash-wednesday-service-4/
END:VEVENT
BEGIN:VEVENT
DTSTART;TZID=America/Chicago:20250305T180000
DTEND;TZID=America/Chicago:20250305T190000
DTSTAMP:20260425T081147
CREATED:20250301T234814Z
LAST-MODIFIED:20250301T235630Z
UID:2858-1741197600-1741201200@stjohnscordova.com
SUMMARY:Ash Wednesday Supper
DESCRIPTION:
URL:https://stjohnscordova.com/churchevent/ash-wednesday-supper/
END:VEVENT
BEGIN:VEVENT
DTSTART;TZID=America/Chicago:20250305T160000
DTEND;TZID=America/Chicago:20250305T180000
DTSTAMP:20260425T081147
CREATED:20250301T234731Z
LAST-MODIFIED:20250301T234731Z
UID:2846-1741190400-1741197600@stjohnscordova.com
SUMMARY:Confirmation
DESCRIPTION:
URL:https://stjohnscordova.com/churchevent/confirmation-93/
END:VEVENT
BEGIN:VEVENT
DTSTART;TZID=America/Chicago:20250305T140000
DTEND;TZID=America/Chicago:20250305T150000
DTSTAMP:20260425T081147
CREATED:20250301T234716Z
LAST-MODIFIED:20250301T234716Z
UID:2842-1741183200-1741186800@stjohnscordova.com
SUMMARY:Dorcas LWML
DESCRIPTION:
URL:https://stjohnscordova.com/churchevent/dorcas-lwml-28/
END:VEVENT
BEGIN:VEVENT
DTSTART;TZID=America/Chicago:20250304T190000
DTEND;TZID=America/Chicago:20250304T200000
DTSTAMP:20260425T081147
CREATED:20250301T234729Z
LAST-MODIFIED:20250301T234729Z
UID:2843-1741114800-1741118400@stjohnscordova.com
SUMMARY:Elders Meeting
DESCRIPTION:
URL:https://stjohnscordova.com/churchevent/elders-meeting-30/
END:VEVENT
BEGIN:VEVENT
DTSTART;TZID=America/Chicago:20250304T130000
DTEND;TZID=America/Chicago:20250304T173000
DTSTAMP:20260425T081147
CREATED:20250301T234815Z
LAST-MODIFIED:20250301T235958Z
UID:2860-1741093200-1741109400@stjohnscordova.com
SUMMARY:Pastor's walk-in hours
DESCRIPTION:
URL:https://stjohnscordova.com/churchevent/pastors-walk-in-hours/
END:VEVENT
BEGIN:VEVENT
DTSTART;TZID=America/Chicago:20250303T180000
DTEND;TZID=America/Chicago:20250303T190000
DTSTAMP:20260425T081147
CREATED:20250301T234716Z
LAST-MODIFIED:20250301T234716Z
UID:2841-1741024800-1741028400@stjohnscordova.com
SUMMARY:Lydia LWML
DESCRIPTION:
URL:https://stjohnscordova.com/churchevent/lydia-lwml-30/
END:VEVENT
BEGIN:VEVENT
DTSTART;TZID=America/Chicago:20250302T103000
DTEND;TZID=America/Chicago:20250302T113000
DTSTAMP:20260425T081147
CREATED:20250301T234700Z
LAST-MODIFIED:20250301T234700Z
UID:2835-1740911400-1740915000@stjohnscordova.com
SUMMARY:Sunday School & Adult Bible Class
DESCRIPTION:
URL:https://stjohnscordova.com/churchevent/sunday-school-adult-bible-class-121/
END:VEVENT
BEGIN:VEVENT
DTSTART;TZID=America/Chicago:20250302T090000
DTEND;TZID=America/Chicago:20250302T100000
DTSTAMP:20260425T081147
CREATED:20250301T234654Z
LAST-MODIFIED:20250301T234654Z
UID:2829-1740906000-1740909600@stjohnscordova.com
SUMMARY:Church
DESCRIPTION:
URL:https://stjohnscordova.com/churchevent/church-124/
END:VEVENT
BEGIN:VEVENT
DTSTART;TZID=America/Chicago:20250302T085000
DTEND;TZID=America/Chicago:20250302T090000
DTSTAMP:20260425T081147
CREATED:20250301T234652Z
LAST-MODIFIED:20250301T234652Z
UID:2828-1740905400-1740906000@stjohnscordova.com
SUMMARY:Hymn Sing
DESCRIPTION:
URL:https://stjohnscordova.com/churchevent/hymn-sing-32/
END:VEVENT
BEGIN:VEVENT
DTSTART;TZID=America/Chicago:20250301T073000
DTEND;TZID=America/Chicago:20250301T083000
DTSTAMP:20260425T081147
CREATED:20250301T234655Z
LAST-MODIFIED:20250301T234655Z
UID:2831-1740814200-1740817800@stjohnscordova.com
SUMMARY:Men's Group Bible Study
DESCRIPTION:
URL:https://stjohnscordova.com/churchevent/mens-group-bible-study-6/
END:VEVENT
BEGIN:VEVENT
DTSTART;TZID=America/Chicago:20250226T160000
DTEND;TZID=America/Chicago:20250226T180000
DTSTAMP:20260425T081147
CREATED:20250202T195031Z
LAST-MODIFIED:20250202T195031Z
UID:2816-1740585600-1740592800@stjohnscordova.com
SUMMARY:Confirmation
DESCRIPTION:
URL:https://stjohnscordova.com/churchevent/confirmation-92/
END:VEVENT
BEGIN:VEVENT
DTSTART;TZID=America/Chicago:20250226T133000
DTEND;TZID=America/Chicago:20250226T143000
DTSTAMP:20260425T081147
CREATED:20250202T195045Z
LAST-MODIFIED:20250202T195045Z
UID:2819-1740576600-1740580200@stjohnscordova.com
SUMMARY:KIT & Friendly Member Team Meeting
DESCRIPTION:
URL:https://stjohnscordova.com/churchevent/kit-friendly-member-team-meeting/
END:VEVENT
BEGIN:VEVENT
DTSTART;TZID=America/Chicago:20250223T170000
DTEND;TZID=America/Chicago:20250223T190000
DTSTAMP:20260425T081147
CREATED:20250202T195045Z
LAST-MODIFIED:20250202T195045Z
UID:2820-1740330000-1740337200@stjohnscordova.com
SUMMARY:High School Night
DESCRIPTION:
URL:https://stjohnscordova.com/churchevent/high-school-night-4/
END:VEVENT
BEGIN:VEVENT
DTSTART;TZID=America/Chicago:20250223T143000
DTEND;TZID=America/Chicago:20250223T163000
DTSTAMP:20260425T081147
CREATED:20250202T195029Z
LAST-MODIFIED:20250202T195029Z
UID:2812-1740321000-1740328200@stjohnscordova.com
SUMMARY:Devotions at Fairmont
DESCRIPTION:
URL:https://stjohnscordova.com/churchevent/devotions-at-fairmont-27/
END:VEVENT
BEGIN:VEVENT
DTSTART;TZID=America/Chicago:20250223T103000
DTEND;TZID=America/Chicago:20250223T113000
DTSTAMP:20260425T081147
CREATED:20250202T194817Z
LAST-MODIFIED:20250202T194817Z
UID:2806-1740306600-1740310200@stjohnscordova.com
SUMMARY:Sunday School & Adult Bible Class
DESCRIPTION:
URL:https://stjohnscordova.com/churchevent/sunday-school-adult-bible-class-120/
END:VEVENT
BEGIN:VEVENT
DTSTART;TZID=America/Chicago:20250223T090000
DTEND;TZID=America/Chicago:20250223T100000
DTSTAMP:20260425T081147
CREATED:20250202T194816Z
LAST-MODIFIED:20250202T194816Z
UID:2802-1740301200-1740304800@stjohnscordova.com
SUMMARY:Church
DESCRIPTION:
URL:https://stjohnscordova.com/churchevent/church-123/
END:VEVENT
BEGIN:VEVENT
DTSTART;TZID=America/Chicago:20250219T160000
DTEND;TZID=America/Chicago:20250219T180000
DTSTAMP:20260425T081147
CREATED:20250202T195030Z
LAST-MODIFIED:20250202T195030Z
UID:2815-1739980800-1739988000@stjohnscordova.com
SUMMARY:Confirmation
DESCRIPTION:
URL:https://stjohnscordova.com/churchevent/confirmation-91/
END:VEVENT
BEGIN:VEVENT
DTSTART;TZID=America/Chicago:20250218T190000
DTEND;TZID=America/Chicago:20250218T200000
DTSTAMP:20260425T081147
CREATED:20250202T194832Z
LAST-MODIFIED:20250202T194832Z
UID:2811-1739905200-1739908800@stjohnscordova.com
SUMMARY:Board of Education
DESCRIPTION:
URL:https://stjohnscordova.com/churchevent/board-of-education-30/
END:VEVENT
BEGIN:VEVENT
DTSTART;TZID=America/Chicago:20250216T103000
DTEND;TZID=America/Chicago:20250216T113000
DTSTAMP:20260425T081147
CREATED:20250202T194817Z
LAST-MODIFIED:20250202T194817Z
UID:2805-1739701800-1739705400@stjohnscordova.com
SUMMARY:Sunday School & Adult Bible Class
DESCRIPTION:
URL:https://stjohnscordova.com/churchevent/sunday-school-adult-bible-class-119/
END:VEVENT
BEGIN:VEVENT
DTSTART;TZID=America/Chicago:20250216T090000
DTEND;TZID=America/Chicago:20250216T100000
DTSTAMP:20260425T081147
CREATED:20250202T194813Z
LAST-MODIFIED:20250202T194813Z
UID:2801-1739696400-1739700000@stjohnscordova.com
SUMMARY:Church
DESCRIPTION:
URL:https://stjohnscordova.com/churchevent/church-122/
END:VEVENT
END:VCALENDAR