BEGIN:VCALENDAR
VERSION:2.0
PRODID:-//St. John&#039;s Lutheran Church - Cordova - ECPv6.15.20//NONSGML v1.0//EN
CALSCALE:GREGORIAN
METHOD:PUBLISH
X-ORIGINAL-URL:https://stjohnscordova.com
X-WR-CALDESC:Events for St. John&#039;s Lutheran Church - Cordova
REFRESH-INTERVAL;VALUE=DURATION:PT1H
X-Robots-Tag:noindex
X-PUBLISHED-TTL:PT1H
BEGIN:VTIMEZONE
TZID:America/Chicago
BEGIN:DAYLIGHT
TZOFFSETFROM:-0600
TZOFFSETTO:-0500
TZNAME:CDT
DTSTART:20240310T080000
END:DAYLIGHT
BEGIN:STANDARD
TZOFFSETFROM:-0500
TZOFFSETTO:-0600
TZNAME:CST
DTSTART:20241103T070000
END:STANDARD
BEGIN:DAYLIGHT
TZOFFSETFROM:-0600
TZOFFSETTO:-0500
TZNAME:CDT
DTSTART:20250309T080000
END:DAYLIGHT
BEGIN:STANDARD
TZOFFSETFROM:-0500
TZOFFSETTO:-0600
TZNAME:CST
DTSTART:20251102T070000
END:STANDARD
BEGIN:DAYLIGHT
TZOFFSETFROM:-0600
TZOFFSETTO:-0500
TZNAME:CDT
DTSTART:20260308T080000
END:DAYLIGHT
BEGIN:STANDARD
TZOFFSETFROM:-0500
TZOFFSETTO:-0600
TZNAME:CST
DTSTART:20261101T070000
END:STANDARD
END:VTIMEZONE
BEGIN:VEVENT
DTSTART;TZID=America/Chicago:20250806T140000
DTEND;TZID=America/Chicago:20250806T150000
DTSTAMP:20260424T042330
CREATED:20250730T195115Z
LAST-MODIFIED:20250730T195115Z
UID:3081-1754488800-1754492400@stjohnscordova.com
SUMMARY:Dorcas LWML
DESCRIPTION:
URL:https://stjohnscordova.com/churchevent/dorcas-lwml-33/
END:VEVENT
BEGIN:VEVENT
DTSTART;TZID=America/Chicago:20250810T090000
DTEND;TZID=America/Chicago:20250810T100000
DTSTAMP:20260424T042330
CREATED:20250730T195052Z
LAST-MODIFIED:20250730T195052Z
UID:3069-1754816400-1754820000@stjohnscordova.com
SUMMARY:Church
DESCRIPTION:
URL:https://stjohnscordova.com/churchevent/church-146/
END:VEVENT
BEGIN:VEVENT
DTSTART;TZID=America/Chicago:20250810T100000
DTEND;TZID=America/Chicago:20250810T103000
DTSTAMP:20260424T042330
CREATED:20250730T195114Z
LAST-MODIFIED:20250730T195114Z
UID:3079-1754820000-1754821800@stjohnscordova.com
SUMMARY:Trutees Meeting
DESCRIPTION:
URL:https://stjohnscordova.com/churchevent/trutees-meeting-15/
END:VEVENT
BEGIN:VEVENT
DTSTART;TZID=America/Chicago:20250810T103000
DTEND;TZID=America/Chicago:20250810T113000
DTSTAMP:20260424T042330
CREATED:20250730T195058Z
LAST-MODIFIED:20250730T195058Z
UID:3074-1754821800-1754825400@stjohnscordova.com
SUMMARY:Sunday School & Adult Bible Class
DESCRIPTION:
URL:https://stjohnscordova.com/churchevent/sunday-school-adult-bible-class-141/
END:VEVENT
BEGIN:VEVENT
DTSTART;TZID=America/Chicago:20250812T130000
DTEND;TZID=America/Chicago:20250812T173000
DTSTAMP:20260424T042330
CREATED:20250730T195316Z
LAST-MODIFIED:20250730T195316Z
UID:3085-1755003600-1755019800@stjohnscordova.com
SUMMARY:Pastor's walk-in hours
DESCRIPTION:
URL:https://stjohnscordova.com/churchevent/pastors-walk-in-hours-21/
END:VEVENT
BEGIN:VEVENT
DTSTART;TZID=America/Chicago:20250812T190000
DTEND;TZID=America/Chicago:20250812T200000
DTSTAMP:20260424T042330
CREATED:20250730T195313Z
LAST-MODIFIED:20250730T195313Z
UID:3082-1755025200-1755028800@stjohnscordova.com
SUMMARY:Elders Meeting
DESCRIPTION:
URL:https://stjohnscordova.com/churchevent/elders-meeting-35/
END:VEVENT
BEGIN:VEVENT
DTSTART;TZID=America/Chicago:20250813T133000
DTEND;TZID=America/Chicago:20250813T143000
DTSTAMP:20260424T042330
CREATED:20250730T195514Z
LAST-MODIFIED:20250730T195514Z
UID:3087-1755091800-1755095400@stjohnscordova.com
SUMMARY:Small Group
DESCRIPTION:
URL:https://stjohnscordova.com/churchevent/small-group-25/
END:VEVENT
BEGIN:VEVENT
DTSTART;TZID=America/Chicago:20250813T190000
DTEND;TZID=America/Chicago:20250813T200000
DTSTAMP:20260424T042330
CREATED:20250730T195515Z
LAST-MODIFIED:20250730T195515Z
UID:3088-1755111600-1755115200@stjohnscordova.com
SUMMARY:Small Group
DESCRIPTION:
URL:https://stjohnscordova.com/churchevent/small-group-26/
END:VEVENT
BEGIN:VEVENT
DTSTART;TZID=America/Chicago:20250814T190000
DTEND;TZID=America/Chicago:20250814T200000
DTSTAMP:20260424T042330
CREATED:20250730T195516Z
LAST-MODIFIED:20250730T195516Z
UID:3089-1755198000-1755201600@stjohnscordova.com
SUMMARY:Board of Education
DESCRIPTION:
URL:https://stjohnscordova.com/churchevent/board-of-education-35/
END:VEVENT
BEGIN:VEVENT
DTSTART;TZID=America/Chicago:20250817T090000
DTEND;TZID=America/Chicago:20250817T100000
DTSTAMP:20260424T042330
CREATED:20250730T195053Z
LAST-MODIFIED:20250730T195053Z
UID:3070-1755421200-1755424800@stjohnscordova.com
SUMMARY:Church
DESCRIPTION:
URL:https://stjohnscordova.com/churchevent/church-147/
END:VEVENT
BEGIN:VEVENT
DTSTART;TZID=America/Chicago:20250817T103000
DTEND;TZID=America/Chicago:20250817T113000
DTSTAMP:20260424T042330
CREATED:20250730T195059Z
LAST-MODIFIED:20250730T195059Z
UID:3075-1755426600-1755430200@stjohnscordova.com
SUMMARY:Sunday School Kickoff & Adult Bible Class
DESCRIPTION:
URL:https://stjohnscordova.com/churchevent/sunday-school-kickoff-adult-bible-class/
END:VEVENT
BEGIN:VEVENT
DTSTART;TZID=America/Chicago:20250817T143000
DTEND;TZID=America/Chicago:20250817T163000
DTSTAMP:20260424T042330
CREATED:20250730T195315Z
LAST-MODIFIED:20250730T195315Z
UID:3083-1755441000-1755448200@stjohnscordova.com
SUMMARY:Devotions at Fairmont
DESCRIPTION:
URL:https://stjohnscordova.com/churchevent/devotions-at-fairmont-33/
END:VEVENT
BEGIN:VEVENT
DTSTART;TZID=America/Chicago:20250819T130000
DTEND;TZID=America/Chicago:20250819T173000
DTSTAMP:20260424T042330
CREATED:20250730T195316Z
LAST-MODIFIED:20250730T195316Z
UID:3086-1755608400-1755624600@stjohnscordova.com
SUMMARY:Pastor's walk-in hours
DESCRIPTION:
URL:https://stjohnscordova.com/churchevent/pastors-walk-in-hours-22/
END:VEVENT
BEGIN:VEVENT
DTSTART;TZID=America/Chicago:20250824T090000
DTEND;TZID=America/Chicago:20250824T100000
DTSTAMP:20260424T042330
CREATED:20250730T195054Z
LAST-MODIFIED:20250730T195054Z
UID:3071-1756026000-1756029600@stjohnscordova.com
SUMMARY:Church
DESCRIPTION:
URL:https://stjohnscordova.com/churchevent/church-148/
END:VEVENT
BEGIN:VEVENT
DTSTART;TZID=America/Chicago:20250824T103000
DTEND;TZID=America/Chicago:20250824T113000
DTSTAMP:20260424T042330
CREATED:20250730T195059Z
LAST-MODIFIED:20250730T195059Z
UID:3076-1756031400-1756035000@stjohnscordova.com
SUMMARY:Sunday School & Adult Bible Class
DESCRIPTION:
URL:https://stjohnscordova.com/churchevent/sunday-school-adult-bible-class-142/
END:VEVENT
BEGIN:VEVENT
DTSTART;TZID=America/Chicago:20250831T090000
DTEND;TZID=America/Chicago:20250831T100000
DTSTAMP:20260424T042330
CREATED:20250730T195057Z
LAST-MODIFIED:20250730T195057Z
UID:3072-1756630800-1756634400@stjohnscordova.com
SUMMARY:Church
DESCRIPTION:
URL:https://stjohnscordova.com/churchevent/church-149/
END:VEVENT
BEGIN:VEVENT
DTSTART;TZID=America/Chicago:20250831T103000
DTEND;TZID=America/Chicago:20250831T113000
DTSTAMP:20260424T042330
CREATED:20250730T195113Z
LAST-MODIFIED:20250730T195113Z
UID:3077-1756636200-1756639800@stjohnscordova.com
SUMMARY:Sunday School & Adult Bible Class
DESCRIPTION:
URL:https://stjohnscordova.com/churchevent/sunday-school-adult-bible-class-143/
END:VEVENT
BEGIN:VEVENT
DTSTART;TZID=America/Chicago:20250903T140000
DTEND;TZID=America/Chicago:20250903T150000
DTSTAMP:20260424T042330
CREATED:20250902T131046Z
LAST-MODIFIED:20250902T131046Z
UID:3115-1756908000-1756911600@stjohnscordova.com
SUMMARY:Dorcas LWML
DESCRIPTION:
URL:https://stjohnscordova.com/churchevent/dorcas-lwml-34/
END:VEVENT
BEGIN:VEVENT
DTSTART;TZID=America/Chicago:20250907T085000
DTEND;TZID=America/Chicago:20250907T090000
DTSTAMP:20260424T042330
CREATED:20250902T131023Z
LAST-MODIFIED:20250902T131023Z
UID:3103-1757235000-1757235600@stjohnscordova.com
SUMMARY:Hymn Sing
DESCRIPTION:
URL:https://stjohnscordova.com/churchevent/hymn-sing-38/
END:VEVENT
BEGIN:VEVENT
DTSTART;TZID=America/Chicago:20250907T090000
DTEND;TZID=America/Chicago:20250907T100000
DTSTAMP:20260424T042330
CREATED:20250902T131025Z
LAST-MODIFIED:20250902T131025Z
UID:3104-1757235600-1757239200@stjohnscordova.com
SUMMARY:Church
DESCRIPTION:
URL:https://stjohnscordova.com/churchevent/church-150/
END:VEVENT
BEGIN:VEVENT
DTSTART;TZID=America/Chicago:20250907T103000
DTEND;TZID=America/Chicago:20250907T113000
DTSTAMP:20260424T042330
CREATED:20250902T131030Z
LAST-MODIFIED:20250902T131030Z
UID:3108-1757241000-1757244600@stjohnscordova.com
SUMMARY:Sunday School & Adult Bible Class
DESCRIPTION:
URL:https://stjohnscordova.com/churchevent/sunday-school-adult-bible-class-144/
END:VEVENT
BEGIN:VEVENT
DTSTART;TZID=America/Chicago:20250908T180000
DTEND;TZID=America/Chicago:20250908T190000
DTSTAMP:20260424T042330
CREATED:20250902T131045Z
LAST-MODIFIED:20250902T131045Z
UID:3114-1757354400-1757358000@stjohnscordova.com
SUMMARY:Lydia LWML
DESCRIPTION:
URL:https://stjohnscordova.com/churchevent/lydia-lwml-36/
END:VEVENT
BEGIN:VEVENT
DTSTART;TZID=America/Chicago:20250909T130000
DTEND;TZID=America/Chicago:20250909T173000
DTSTAMP:20260424T042330
CREATED:20250902T131245Z
LAST-MODIFIED:20250902T131245Z
UID:3118-1757422800-1757439000@stjohnscordova.com
SUMMARY:Pastor's walk-in hours
DESCRIPTION:
URL:https://stjohnscordova.com/churchevent/pastors-walk-in-hours-23/
END:VEVENT
BEGIN:VEVENT
DTSTART;TZID=America/Chicago:20250910T133000
DTEND;TZID=America/Chicago:20250910T143000
DTSTAMP:20260424T042330
CREATED:20250902T131247Z
LAST-MODIFIED:20250902T131247Z
UID:3121-1757511000-1757514600@stjohnscordova.com
SUMMARY:Small Group
DESCRIPTION:
URL:https://stjohnscordova.com/churchevent/small-group-27/
END:VEVENT
BEGIN:VEVENT
DTSTART;TZID=America/Chicago:20250910T190000
DTEND;TZID=America/Chicago:20250910T200000
DTSTAMP:20260424T042330
CREATED:20250902T131247Z
LAST-MODIFIED:20250902T131247Z
UID:3122-1757530800-1757534400@stjohnscordova.com
SUMMARY:Small Group
DESCRIPTION:
URL:https://stjohnscordova.com/churchevent/small-group-28/
END:VEVENT
BEGIN:VEVENT
DTSTART;TZID=America/Chicago:20250910T190000
DTEND;TZID=America/Chicago:20250910T200000
DTSTAMP:20260424T042330
CREATED:20250902T131446Z
LAST-MODIFIED:20250902T131446Z
UID:3125-1757530800-1757534400@stjohnscordova.com
SUMMARY:Confirmation
DESCRIPTION:
URL:https://stjohnscordova.com/churchevent/confirmation-103/
END:VEVENT
BEGIN:VEVENT
DTSTART;TZID=America/Chicago:20250913T073000
DTEND;TZID=America/Chicago:20250913T083000
DTSTAMP:20260424T042330
CREATED:20250902T131032Z
LAST-MODIFIED:20250902T131032Z
UID:3112-1757748600-1757752200@stjohnscordova.com
SUMMARY:Men's Group Bible Study
DESCRIPTION:
URL:https://stjohnscordova.com/churchevent/mens-group-bible-study-12/
END:VEVENT
BEGIN:VEVENT
DTSTART;TZID=America/Chicago:20250914T090000
DTEND;TZID=America/Chicago:20250914T100000
DTSTAMP:20260424T042330
CREATED:20250902T131025Z
LAST-MODIFIED:20250902T131025Z
UID:3105-1757840400-1757844000@stjohnscordova.com
SUMMARY:Church
DESCRIPTION:
URL:https://stjohnscordova.com/churchevent/church-151/
END:VEVENT
BEGIN:VEVENT
DTSTART;TZID=America/Chicago:20250914T100000
DTEND;TZID=America/Chicago:20250914T103000
DTSTAMP:20260424T042330
CREATED:20250902T131045Z
LAST-MODIFIED:20250902T131045Z
UID:3113-1757844000-1757845800@stjohnscordova.com
SUMMARY:Trutees Meeting
DESCRIPTION:
URL:https://stjohnscordova.com/churchevent/trutees-meeting-16/
END:VEVENT
BEGIN:VEVENT
DTSTART;TZID=America/Chicago:20250914T103000
DTEND;TZID=America/Chicago:20250914T113000
DTSTAMP:20260424T042330
CREATED:20250902T131030Z
LAST-MODIFIED:20250902T131030Z
UID:3109-1757845800-1757849400@stjohnscordova.com
SUMMARY:Sunday School & Adult Bible Class
DESCRIPTION:
URL:https://stjohnscordova.com/churchevent/sunday-school-adult-bible-class-145/
END:VEVENT
END:VCALENDAR