BEGIN:VCALENDAR
VERSION:2.0
PRODID:-//St. John&#039;s Lutheran Church - Cordova - ECPv6.15.20//NONSGML v1.0//EN
CALSCALE:GREGORIAN
METHOD:PUBLISH
X-WR-CALNAME:St. John&#039;s Lutheran Church - Cordova
X-ORIGINAL-URL:https://stjohnscordova.com
X-WR-CALDESC:Events for St. John&#039;s Lutheran Church - Cordova
REFRESH-INTERVAL;VALUE=DURATION:PT1H
X-Robots-Tag:noindex
X-PUBLISHED-TTL:PT1H
BEGIN:VTIMEZONE
TZID:America/Chicago
BEGIN:DAYLIGHT
TZOFFSETFROM:-0600
TZOFFSETTO:-0500
TZNAME:CDT
DTSTART:20240310T080000
END:DAYLIGHT
BEGIN:STANDARD
TZOFFSETFROM:-0500
TZOFFSETTO:-0600
TZNAME:CST
DTSTART:20241103T070000
END:STANDARD
BEGIN:DAYLIGHT
TZOFFSETFROM:-0600
TZOFFSETTO:-0500
TZNAME:CDT
DTSTART:20250309T080000
END:DAYLIGHT
BEGIN:STANDARD
TZOFFSETFROM:-0500
TZOFFSETTO:-0600
TZNAME:CST
DTSTART:20251102T070000
END:STANDARD
BEGIN:DAYLIGHT
TZOFFSETFROM:-0600
TZOFFSETTO:-0500
TZNAME:CDT
DTSTART:20260308T080000
END:DAYLIGHT
BEGIN:STANDARD
TZOFFSETFROM:-0500
TZOFFSETTO:-0600
TZNAME:CST
DTSTART:20261101T070000
END:STANDARD
END:VTIMEZONE
BEGIN:VEVENT
DTSTART;TZID=America/Chicago:20250713T113000
DTEND;TZID=America/Chicago:20250713T133000
DTSTAMP:20260424T100925
CREATED:20250704T014418Z
LAST-MODIFIED:20250704T014418Z
UID:3048-1752406200-1752413400@stjohnscordova.com
SUMMARY:Potluck & Quarterly Voter's Meeting
DESCRIPTION:
URL:https://stjohnscordova.com/churchevent/potluck-quarterly-voters-meeting-4/
END:VEVENT
BEGIN:VEVENT
DTSTART;TZID=America/Chicago:20250713T103000
DTEND;TZID=America/Chicago:20250713T113000
DTSTAMP:20260424T100925
CREATED:20250704T014201Z
LAST-MODIFIED:20250704T014656Z
UID:3033-1752402600-1752406200@stjohnscordova.com
SUMMARY:Sunday School & Adult Bible Class
DESCRIPTION:
URL:https://stjohnscordova.com/churchevent/sunday-school-adult-bible-class-137/
END:VEVENT
BEGIN:VEVENT
DTSTART;TZID=America/Chicago:20250713T100000
DTEND;TZID=America/Chicago:20250713T103000
DTSTAMP:20260424T100925
CREATED:20250704T014259Z
LAST-MODIFIED:20250704T014259Z
UID:3036-1752400800-1752402600@stjohnscordova.com
SUMMARY:Trutees Meeting
DESCRIPTION:
URL:https://stjohnscordova.com/churchevent/trutees-meeting-14/
END:VEVENT
BEGIN:VEVENT
DTSTART;TZID=America/Chicago:20250713T090000
DTEND;TZID=America/Chicago:20250713T100000
DTSTAMP:20260424T100925
CREATED:20250704T014152Z
LAST-MODIFIED:20250704T014152Z
UID:3028-1752397200-1752400800@stjohnscordova.com
SUMMARY:Church
DESCRIPTION:
URL:https://stjohnscordova.com/churchevent/church-142/
END:VEVENT
BEGIN:VEVENT
DTSTART;TZID=America/Chicago:20250712T073000
DTEND;TZID=America/Chicago:20250712T083000
DTSTAMP:20260424T100925
CREATED:20250704T014153Z
LAST-MODIFIED:20250704T014153Z
UID:3029-1752305400-1752309000@stjohnscordova.com
SUMMARY:Men's Group Bible Study
DESCRIPTION:
URL:https://stjohnscordova.com/churchevent/mens-group-bible-study-10/
END:VEVENT
BEGIN:VEVENT
DTSTART;TZID=America/Chicago:20250709T190000
DTEND;TZID=America/Chicago:20250709T200000
DTSTAMP:20260424T100925
CREATED:20250704T014418Z
LAST-MODIFIED:20250704T014418Z
UID:3047-1752087600-1752091200@stjohnscordova.com
SUMMARY:Small Group
DESCRIPTION:
URL:https://stjohnscordova.com/churchevent/small-group-24/
END:VEVENT
BEGIN:VEVENT
DTSTART;TZID=America/Chicago:20250709T133000
DTEND;TZID=America/Chicago:20250709T143000
DTSTAMP:20260424T100925
CREATED:20250704T014416Z
LAST-MODIFIED:20250704T014416Z
UID:3046-1752067800-1752071400@stjohnscordova.com
SUMMARY:Small Group
DESCRIPTION:
URL:https://stjohnscordova.com/churchevent/small-group-23/
END:VEVENT
BEGIN:VEVENT
DTSTART;TZID=America/Chicago:20250708T200000
DTEND;TZID=America/Chicago:20250708T210000
DTSTAMP:20260424T100925
CREATED:20250704T014305Z
LAST-MODIFIED:20250704T014305Z
UID:3040-1752004800-1752008400@stjohnscordova.com
SUMMARY:Church Council
DESCRIPTION:
URL:https://stjohnscordova.com/churchevent/church-council-10/
END:VEVENT
BEGIN:VEVENT
DTSTART;TZID=America/Chicago:20250708T190000
DTEND;TZID=America/Chicago:20250708T200000
DTSTAMP:20260424T100925
CREATED:20250704T014304Z
LAST-MODIFIED:20250704T014304Z
UID:3039-1752001200-1752004800@stjohnscordova.com
SUMMARY:Elders Meeting
DESCRIPTION:
URL:https://stjohnscordova.com/churchevent/elders-meeting-34/
END:VEVENT
BEGIN:VEVENT
DTSTART;TZID=America/Chicago:20250708T130000
DTEND;TZID=America/Chicago:20250708T173000
DTSTAMP:20260424T100925
CREATED:20250704T014315Z
LAST-MODIFIED:20250704T014315Z
UID:3043-1751979600-1751995800@stjohnscordova.com
SUMMARY:Pastor's walk-in hours
DESCRIPTION:
URL:https://stjohnscordova.com/churchevent/pastors-walk-in-hours-17/
END:VEVENT
BEGIN:VEVENT
DTSTART;TZID=America/Chicago:20250707T180000
DTEND;TZID=America/Chicago:20250707T190000
DTSTAMP:20260424T100925
CREATED:20250704T014302Z
LAST-MODIFIED:20250704T014302Z
UID:3037-1751911200-1751914800@stjohnscordova.com
SUMMARY:Lydia LWML
DESCRIPTION:
URL:https://stjohnscordova.com/churchevent/lydia-lwml-34/
END:VEVENT
BEGIN:VEVENT
DTSTART;TZID=America/Chicago:20250706T103000
DTEND;TZID=America/Chicago:20250706T113000
DTSTAMP:20260424T100925
CREATED:20250704T014200Z
LAST-MODIFIED:20250704T014200Z
UID:3032-1751797800-1751801400@stjohnscordova.com
SUMMARY:Sunday School & Adult Bible Class
DESCRIPTION:
URL:https://stjohnscordova.com/churchevent/sunday-school-adult-bible-class-136/
END:VEVENT
BEGIN:VEVENT
DTSTART;TZID=America/Chicago:20250706T090000
DTEND;TZID=America/Chicago:20250706T100000
DTSTAMP:20260424T100925
CREATED:20250704T014151Z
LAST-MODIFIED:20250704T014151Z
UID:3027-1751792400-1751796000@stjohnscordova.com
SUMMARY:Church
DESCRIPTION:
URL:https://stjohnscordova.com/churchevent/church-141/
END:VEVENT
BEGIN:VEVENT
DTSTART;TZID=America/Chicago:20250706T085000
DTEND;TZID=America/Chicago:20250706T090000
DTSTAMP:20260424T100925
CREATED:20250704T014149Z
LAST-MODIFIED:20250704T014149Z
UID:3026-1751791800-1751792400@stjohnscordova.com
SUMMARY:Hymn Sing
DESCRIPTION:
URL:https://stjohnscordova.com/churchevent/hymn-sing-36/
END:VEVENT
BEGIN:VEVENT
DTSTART;TZID=America/Chicago:20250702T140000
DTEND;TZID=America/Chicago:20250702T150000
DTSTAMP:20260424T100925
CREATED:20250704T014302Z
LAST-MODIFIED:20250704T014302Z
UID:3038-1751464800-1751468400@stjohnscordova.com
SUMMARY:Dorcas LWML
DESCRIPTION:
URL:https://stjohnscordova.com/churchevent/dorcas-lwml-32/
END:VEVENT
BEGIN:VEVENT
DTSTART;TZID=America/Chicago:20250701T130000
DTEND;TZID=America/Chicago:20250701T173000
DTSTAMP:20260424T100925
CREATED:20250704T014315Z
LAST-MODIFIED:20250704T014315Z
UID:3042-1751374800-1751391000@stjohnscordova.com
SUMMARY:Pastor's walk-in hours
DESCRIPTION:
URL:https://stjohnscordova.com/churchevent/pastors-walk-in-hours-16/
END:VEVENT
BEGIN:VEVENT
DTSTART;TZID=America/Chicago:20250630T103000
DTEND;TZID=America/Chicago:20250630T113000
DTSTAMP:20260424T100925
CREATED:20250601T174159Z
LAST-MODIFIED:20250601T174159Z
UID:2994-1751279400-1751283000@stjohnscordova.com
SUMMARY:Sunday School & Adult Bible Class
DESCRIPTION:
URL:https://stjohnscordova.com/churchevent/sunday-school-adult-bible-class-135/
END:VEVENT
BEGIN:VEVENT
DTSTART;TZID=America/Chicago:20250630T090000
DTEND;TZID=America/Chicago:20250630T100000
DTSTAMP:20260424T100925
CREATED:20250601T174143Z
LAST-MODIFIED:20250601T174143Z
UID:2989-1751274000-1751277600@stjohnscordova.com
SUMMARY:Church
DESCRIPTION:
URL:https://stjohnscordova.com/churchevent/church-140/
END:VEVENT
BEGIN:VEVENT
DTSTART;TZID=America/Chicago:20250624T130000
DTEND;TZID=America/Chicago:20250624T173000
DTSTAMP:20260424T100925
CREATED:20250601T174602Z
LAST-MODIFIED:20250601T174602Z
UID:3004-1750770000-1750786200@stjohnscordova.com
SUMMARY:Pastor's walk-in hours
DESCRIPTION:
URL:https://stjohnscordova.com/churchevent/pastors-walk-in-hours-15/
END:VEVENT
BEGIN:VEVENT
DTSTART;TZID=America/Chicago:20250622T143000
DTEND;TZID=America/Chicago:20250622T163000
DTSTAMP:20260424T100925
CREATED:20250601T174401Z
LAST-MODIFIED:20250601T174401Z
UID:3000-1750602600-1750609800@stjohnscordova.com
SUMMARY:Devotions at Fairmont
DESCRIPTION:
URL:https://stjohnscordova.com/churchevent/devotions-at-fairmont-31/
END:VEVENT
BEGIN:VEVENT
DTSTART;TZID=America/Chicago:20250622T113000
DTEND;TZID=America/Chicago:20250622T123000
DTSTAMP:20260424T100925
CREATED:20250601T174603Z
LAST-MODIFIED:20250601T174603Z
UID:3007-1750591800-1750595400@stjohnscordova.com
SUMMARY:Ice Cream Social
DESCRIPTION:
URL:https://stjohnscordova.com/churchevent/ice-cream-social-3/
END:VEVENT
BEGIN:VEVENT
DTSTART;TZID=America/Chicago:20250622T103000
DTEND;TZID=America/Chicago:20250622T113000
DTSTAMP:20260424T100925
CREATED:20250601T174159Z
LAST-MODIFIED:20250601T174159Z
UID:2993-1750588200-1750591800@stjohnscordova.com
SUMMARY:Sunday School & Adult Bible Class
DESCRIPTION:
URL:https://stjohnscordova.com/churchevent/sunday-school-adult-bible-class-134/
END:VEVENT
BEGIN:VEVENT
DTSTART;TZID=America/Chicago:20250622T090000
DTEND;TZID=America/Chicago:20250622T100000
DTSTAMP:20260424T100925
CREATED:20250601T174143Z
LAST-MODIFIED:20250601T174143Z
UID:2988-1750582800-1750586400@stjohnscordova.com
SUMMARY:Church
DESCRIPTION:
URL:https://stjohnscordova.com/churchevent/church-139/
END:VEVENT
BEGIN:VEVENT
DTSTART;TZID=America/Chicago:20250617T190000
DTEND;TZID=America/Chicago:20250617T200000
DTSTAMP:20260424T100925
CREATED:20250601T174401Z
LAST-MODIFIED:20250601T174401Z
UID:2999-1750186800-1750190400@stjohnscordova.com
SUMMARY:Board of Education
DESCRIPTION:
URL:https://stjohnscordova.com/churchevent/board-of-education-34/
END:VEVENT
BEGIN:VEVENT
DTSTART;TZID=America/Chicago:20250617T130000
DTEND;TZID=America/Chicago:20250617T173000
DTSTAMP:20260424T100925
CREATED:20250601T174600Z
LAST-MODIFIED:20250601T174600Z
UID:3003-1750165200-1750181400@stjohnscordova.com
SUMMARY:Pastor's walk-in hours
DESCRIPTION:
URL:https://stjohnscordova.com/churchevent/pastors-walk-in-hours-14/
END:VEVENT
BEGIN:VEVENT
DTSTART;TZID=America/Chicago:20250615T113000
DTEND;TZID=America/Chicago:20250615T123000
DTSTAMP:20260424T100925
CREATED:20250601T174801Z
LAST-MODIFIED:20250601T174801Z
UID:3008-1749987000-1749990600@stjohnscordova.com
SUMMARY:Pastor Tuma's 20th Year of Ministry Party
DESCRIPTION:
URL:https://stjohnscordova.com/churchevent/pastor-tumas-20th-year-of-ministry-party/
END:VEVENT
BEGIN:VEVENT
DTSTART;TZID=America/Chicago:20250615T103000
DTEND;TZID=America/Chicago:20250615T113000
DTSTAMP:20260424T100925
CREATED:20250601T174145Z
LAST-MODIFIED:20250601T174145Z
UID:2992-1749983400-1749987000@stjohnscordova.com
SUMMARY:Sunday School & Adult Bible Class
DESCRIPTION:
URL:https://stjohnscordova.com/churchevent/sunday-school-adult-bible-class-133/
END:VEVENT
BEGIN:VEVENT
DTSTART;TZID=America/Chicago:20250615T100000
DTEND;TZID=America/Chicago:20250615T103000
DTSTAMP:20260424T100925
CREATED:20250601T174200Z
LAST-MODIFIED:20250601T174200Z
UID:2995-1749981600-1749983400@stjohnscordova.com
SUMMARY:Trutees Meeting
DESCRIPTION:
URL:https://stjohnscordova.com/churchevent/trutees-meeting-13/
END:VEVENT
BEGIN:VEVENT
DTSTART;TZID=America/Chicago:20250615T090000
DTEND;TZID=America/Chicago:20250615T100000
DTSTAMP:20260424T100925
CREATED:20250601T174139Z
LAST-MODIFIED:20250601T174139Z
UID:2987-1749978000-1749981600@stjohnscordova.com
SUMMARY:Church
DESCRIPTION:
URL:https://stjohnscordova.com/churchevent/church-138/
END:VEVENT
BEGIN:VEVENT
DTSTART;TZID=America/Chicago:20250614T073000
DTEND;TZID=America/Chicago:20250614T083000
DTSTAMP:20260424T100925
CREATED:20250601T174139Z
LAST-MODIFIED:20250601T174139Z
UID:2986-1749886200-1749889800@stjohnscordova.com
SUMMARY:Men's Group Bible Study
DESCRIPTION:
URL:https://stjohnscordova.com/churchevent/mens-group-bible-study-9/
END:VEVENT
END:VCALENDAR